Workbook

Sheet сроки рассм
A1: Сведения по судебным участкам Кировской области
A2: о сроках рассмотрения уголовных и гражданских (административных) дел за 6 месяцев 2026 года (в делах)
A3: № участка | B3: Муниципальный район (округ) | C3: уголовные дела | J3: гражданские дела | Q3: административные дела
C4: окончено | D4: с наруше-нием сроков по УПК | E4: окончено в сроки (месяцы) | J4: окончено | K4: с наруше-нием сроков по ГПК | L4: окончено в сроки (месяцы) | Q4: окончено | R4: с наруше-нием сроков по КАС | S4: окончено в сроки (месяцы)
E6: от 1,5 до 3 мес | F6: от 3 мес до 1 года | G6: от 1 года до 2 лет | H6: от 2 лет до 3 лет | I6: от 3 лет | L6: до 3 мес | M6: от 3 мес до 1 года | N6: от 1 года до 2 лет | O6: от 2 лет до 3 лет | P6: от 3 лет | S6: до 3 мес | T6: от 3 мес до 1 года | U6: от 1 года до 2 лет | V6: от 2 лет до 3 лет | W6: от 3 лет
A10: 1 | B10: 3 | C10: 4 | D10: 5 | E10: 6 | F10: 7 | G10: 8 | H10: 9 | I10: 10 | J10: 11 | K10: 12 | L10: 13 | M10: 14 | N10: 15 | O10: 16 | P10: 17 | Q10: 18 | R10: 19 | S10: 20 | T10: 21 | U10: 22 | V10: 23 | W10: 24
A11: 1 | B11: арбажский | C11: =[1]ввод!C3 -> 2 | D11: =[1]ввод!D3 -> 0 | E11: =[1]ввод!U3 -> 0 | F11: =[1]ввод!V3 -> 0 | G11: =[1]ввод!W3 -> 0 | H11: =[1]ввод!X3 -> 0 | I11: =[1]ввод!Y3 -> 0 | J11: =[1]ввод!G3 -> 289 | K11: =[1]ввод!H3 -> 0 | L11: =[1]ввод!Z3 -> 0 | M11: =[1]ввод!AA3 -> 1 | N11: =[1]ввод!AB3 -> 0 | O11: =[1]ввод!AC3 -> 0 | P11: =[1]ввод!AD3 -> 0 | Q11: =[1]ввод!K3 -> 0 | R11: =[1]ввод!L3 -> 0 | S11: =[1]ввод!AE3 -> 0 | T11: =[1]ввод!AF3 -> 0 | U11: =[1]ввод!AG3 -> 0 | V11: =[1]ввод!AH3 -> 0 | W11: =[1]ввод!AI3 -> 0
A12: 2 | B12: афанасьевский | C12: =[1]ввод!C4 -> 3 | D12: =[1]ввод!D4 -> 0 | E12: =[1]ввод!U4 -> 0 | F12: =[1]ввод!V4 -> 0 | G12: =[1]ввод!W4 -> 0 | H12: =[1]ввод!X4 -> 0 | I12: =[1]ввод!Y4 -> 0 | J12: =[1]ввод!G4 -> 516 | K12: =[1]ввод!H4 -> 0 | L12: =[1]ввод!Z4 -> 0 | M12: =[1]ввод!AA4 -> 0 | N12: =[1]ввод!AB4 -> 0 | O12: =[1]ввод!AC4 -> 0 | P12: =[1]ввод!AD4 -> 0 | Q12: =[1]ввод!K4 -> 1 | R12: =[1]ввод!L4 -> 0 | S12: =[1]ввод!AE4 -> 0 | T12: =[1]ввод!AF4 -> 0 | U12: =[1]ввод!AG4 -> 0 | V12: =[1]ввод!AH4 -> 0 | W12: =[1]ввод!AI4 -> 0
A13: 3 | B13: белохолуницкий | C13: =[1]ввод!C5 -> 3 | D13: =[1]ввод!D5 -> 0 | E13: =[1]ввод!U5 -> 1 | F13: =[1]ввод!V5 -> 0 | G13: =[1]ввод!W5 -> 0 | H13: =[1]ввод!X5 -> 0 | I13: =[1]ввод!Y5 -> 0 | J13: =[1]ввод!G5 -> 1017 | K13: =[1]ввод!H5 -> 0 | L13: =[1]ввод!Z5 -> 8 | M13: =[1]ввод!AA5 -> 1 | N13: =[1]ввод!AB5 -> 0 | O13: =[1]ввод!AC5 -> 0 | P13: =[1]ввод!AD5 -> 0 | Q13: =[1]ввод!K5 -> 0 | R13: =[1]ввод!L5 -> 0 | S13: =[1]ввод!AE5 -> 0 | T13: =[1]ввод!AF5 -> 0 | U13: =[1]ввод!AG5 -> 0 | V13: =[1]ввод!AH5 -> 0 | W13: =[1]ввод!AI5 -> 0
A14: 4 | B14: богородский | C14: =[1]ввод!C6 -> 5 | D14: =[1]ввод!D6 -> 0 | E14: =[1]ввод!U6 -> 1 | F14: =[1]ввод!V6 -> 0 | G14: =[1]ввод!W6 -> 0 | H14: =[1]ввод!X6 -> 0 | I14: =[1]ввод!Y6 -> 0 | J14: =[1]ввод!G6 -> 320 | K14: =[1]ввод!H6 -> 0 | L14: =[1]ввод!Z6 -> 1 | M14: =[1]ввод!AA6 -> 0 | N14: =[1]ввод!AB6 -> 0 | O14: =[1]ввод!AC6 -> 0 | P14: =[1]ввод!AD6 -> 0 | Q14: =[1]ввод!K6 -> 0 | R14: =[1]ввод!L6 -> 0 | S14: =[1]ввод!AE6 -> 0 | T14: =[1]ввод!AF6 -> 0 | U14: =[1]ввод!AG6 -> 0 | V14: =[1]ввод!AH6 -> 0 | W14: =[1]ввод!AI6 -> 0
A15: 5 | B15: верхнекамский | C15: =[1]ввод!C7 -> 7 | D15: =[1]ввод!D7 -> 0 | E15: =[1]ввод!U7 -> 0 | F15: =[1]ввод!V7 -> 0 | G15: =[1]ввод!W7 -> 0 | H15: =[1]ввод!X7 -> 0 | I15: =[1]ввод!Y7 -> 0 | J15: =[1]ввод!G7 -> 1145 | K15: =[1]ввод!H7 -> 0 | L15: =[1]ввод!Z7 -> 3 | M15: =[1]ввод!AA7 -> 3 | N15: =[1]ввод!AB7 -> 0 | O15: =[1]ввод!AC7 -> 0 | P15: =[1]ввод!AD7 -> 0 | Q15: =[1]ввод!K7 -> 1 | R15: =[1]ввод!L7 -> 0 | S15: =[1]ввод!AE7 -> 0 | T15: =[1]ввод!AF7 -> 0 | U15: =[1]ввод!AG7 -> 0 | V15: =[1]ввод!AH7 -> 0 | W15: =[1]ввод!AI7 -> 0
A16: 6 | B16: верхнекамский | C16: =[1]ввод!C8 -> 3 | D16: =[1]ввод!D8 -> 0 | E16: =[1]ввод!U8 -> 1 | F16: =[1]ввод!V8 -> 0 | G16: =[1]ввод!W8 -> 0 | H16: =[1]ввод!X8 -> 0 | I16: =[1]ввод!Y8 -> 0 | J16: =[1]ввод!G8 -> 504 | K16: =[1]ввод!H8 -> 0 | L16: =[1]ввод!Z8 -> 68 | M16: =[1]ввод!AA8 -> 0 | N16: =[1]ввод!AB8 -> 0 | O16: =[1]ввод!AC8 -> 0 | P16: =[1]ввод!AD8 -> 0 | Q16: =[1]ввод!K8 -> 0 | R16: =[1]ввод!L8 -> 0 | S16: =[1]ввод!AE8 -> 0 | T16: =[1]ввод!AF8 -> 0 | U16: =[1]ввод!AG8 -> 0 | V16: =[1]ввод!AH8 -> 0 | W16: =[1]ввод!AI8 -> 0
A17: 7 | B17: верхошижемский | C17: =[1]ввод!C9 -> 6 | D17: =[1]ввод!D9 -> 0 | E17: =[1]ввод!U9 -> 0 | F17: =[1]ввод!V9 -> 0 | G17: =[1]ввод!W9 -> 0 | H17: =[1]ввод!X9 -> 0 | I17: =[1]ввод!Y9 -> 0 | J17: =[1]ввод!G9 -> 451 | K17: =[1]ввод!H9 -> 0 | L17: =[1]ввод!Z9 -> 0 | M17: =[1]ввод!AA9 -> 0 | N17: =[1]ввод!AB9 -> 0 | O17: =[1]ввод!AC9 -> 0 | P17: =[1]ввод!AD9 -> 0 | Q17: =[1]ввод!K9 -> 0 | R17: =[1]ввод!L9 -> 0 | S17: =[1]ввод!AE9 -> 0 | T17: =[1]ввод!AF9 -> 0 | U17: =[1]ввод!AG9 -> 0 | V17: =[1]ввод!AH9 -> 0 | W17: =[1]ввод!AI9 -> 0
A18: 8 | B18: вятскополянский | C18: =[1]ввод!C10 -> 11 | D18: =[1]ввод!D10 -> 0 | E18: =[1]ввод!U10 -> 1 | F18: =[1]ввод!V10 -> 3 | G18: =[1]ввод!W10 -> 0 | H18: =[1]ввод!X10 -> 0 | I18: =[1]ввод!Y10 -> 0 | J18: =[1]ввод!G10 -> 1204 | K18: =[1]ввод!H10 -> 0 | L18: =[1]ввод!Z10 -> 159 | M18: =[1]ввод!AA10 -> 0 | N18: =[1]ввод!AB10 -> 0 | O18: =[1]ввод!AC10 -> 0 | P18: =[1]ввод!AD10 -> 0 | Q18: =[1]ввод!K10 -> 0 | R18: =[1]ввод!L10 -> 0 | S18: =[1]ввод!AE10 -> 0 | T18: =[1]ввод!AF10 -> 0 | U18: =[1]ввод!AG10 -> 0 | V18: =[1]ввод!AH10 -> 0 | W18: =[1]ввод!AI10 -> 0
A19: 10 | B19: вятскополянский | C19: =[1]ввод!C12 -> 10 | D19: =[1]ввод!D12 -> 0 | E19: =[1]ввод!U12 -> 2 | F19: =[1]ввод!V12 -> 0 | G19: =[1]ввод!W12 -> 0 | H19: =[1]ввод!X12 -> 0 | I19: =[1]ввод!Y12 -> 0 | J19: =[1]ввод!G12 -> 1309 | K19: =[1]ввод!H12 -> 0 | L19: =[1]ввод!Z12 -> 0 | M19: =[1]ввод!AA12 -> 0 | N19: =[1]ввод!AB12 -> 0 | O19: =[1]ввод!AC12 -> 0 | P19: =[1]ввод!AD12 -> 0 | Q19: =[1]ввод!K12 -> 1 | R19: =[1]ввод!L12 -> 0 | S19: =[1]ввод!AE12 -> 0 | T19: =[1]ввод!AF12 -> 0 | U19: =[1]ввод!AG12 -> 0 | V19: =[1]ввод!AH12 -> 0 | W19: =[1]ввод!AI12 -> 0
A20: 11 | B20: даровский | C20: =[1]ввод!C13 -> 4 | D20: =[1]ввод!D13 -> 0 | E20: =[1]ввод!U13 -> 0 | F20: =[1]ввод!V13 -> 0 | G20: =[1]ввод!W13 -> 0 | H20: =[1]ввод!X13 -> 0 | I20: =[1]ввод!Y13 -> 0 | J20: =[1]ввод!G13 -> 479 | K20: =[1]ввод!H13 -> 0 | L20: =[1]ввод!Z13 -> 0 | M20: =[1]ввод!AA13 -> 0 | N20: =[1]ввод!AB13 -> 0 | O20: =[1]ввод!AC13 -> 0 | P20: =[1]ввод!AD13 -> 0 | Q20: =[1]ввод!K13 -> 0 | R20: =[1]ввод!L13 -> 0 | S20: =[1]ввод!AE13 -> 0 | T20: =[1]ввод!AF13 -> 0 | U20: =[1]ввод!AG13 -> 0 | V20: =[1]ввод!AH13 -> 0 | W20: =[1]ввод!AI13 -> 0
A21: 12 | B21: зуевский | C21: =[1]ввод!C14 -> 14 | D21: =[1]ввод!D14 -> 0 | E21: =[1]ввод!U14 -> 0 | F21: =[1]ввод!V14 -> 0 | G21: =[1]ввод!W14 -> 0 | H21: =[1]ввод!X14 -> 0 | I21: =[1]ввод!Y14 -> 0 | J21: =[1]ввод!G14 -> 1935 | K21: =[1]ввод!H14 -> 0 | L21: =[1]ввод!Z14 -> 55 | M21: =[1]ввод!AA14 -> 0 | N21: =[1]ввод!AB14 -> 0 | O21: =[1]ввод!AC14 -> 0 | P21: =[1]ввод!AD14 -> 0 | Q21: =[1]ввод!K14 -> 0 | R21: =[1]ввод!L14 -> 0 | S21: =[1]ввод!AE14 -> 0 | T21: =[1]ввод!AF14 -> 0 | U21: =[1]ввод!AG14 -> 0 | V21: =[1]ввод!AH14 -> 0 | W21: =[1]ввод!AI14 -> 0
A22: 13 | B22: кикнурский | C22: =[1]ввод!C15 -> 4 | D22: =[1]ввод!D15 -> 0 | E22: =[1]ввод!U15 -> 0 | F22: =[1]ввод!V15 -> 0 | G22: =[1]ввод!W15 -> 0 | H22: =[1]ввод!X15 -> 0 | I22: =[1]ввод!Y15 -> 0 | J22: =[1]ввод!G15 -> 350 | K22: =[1]ввод!H15 -> 0 | L22: =[1]ввод!Z15 -> 0 | M22: =[1]ввод!AA15 -> 0 | N22: =[1]ввод!AB15 -> 0 | O22: =[1]ввод!AC15 -> 0 | P22: =[1]ввод!AD15 -> 0 | Q22: =[1]ввод!K15 -> 1 | R22: =[1]ввод!L15 -> 0 | S22: =[1]ввод!AE15 -> 0 | T22: =[1]ввод!AF15 -> 0 | U22: =[1]ввод!AG15 -> 0 | V22: =[1]ввод!AH15 -> 0 | W22: =[1]ввод!AI15 -> 0
A23: 14 | B23: кильмезский | C23: =[1]ввод!C16 -> 18 | D23: =[1]ввод!D16 -> 0 | E23: =[1]ввод!U16 -> 1 | F23: =[1]ввод!V16 -> 0 | G23: =[1]ввод!W16 -> 0 | H23: =[1]ввод!X16 -> 0 | I23: =[1]ввод!Y16 -> 0 | J23: =[1]ввод!G16 -> 844 | K23: =[1]ввод!H16 -> 0 | L23: =[1]ввод!Z16 -> 0 | M23: =[1]ввод!AA16 -> 0 | N23: =[1]ввод!AB16 -> 0 | O23: =[1]ввод!AC16 -> 0 | P23: =[1]ввод!AD16 -> 0 | Q23: =[1]ввод!K16 -> 0 | R23: =[1]ввод!L16 -> 0 | S23: =[1]ввод!AE16 -> 0 | T23: =[1]ввод!AF16 -> 0 | U23: =[1]ввод!AG16 -> 0 | V23: =[1]ввод!AH16 -> 0 | W23: =[1]ввод!AI16 -> 0
A24: 15 | B24: кирово-чепецкий | C24: =[1]ввод!C17 -> 4 | D24: =[1]ввод!D17 -> 0 | E24: =[1]ввод!U17 -> 1 | F24: =[1]ввод!V17 -> 0 | G24: =[1]ввод!W17 -> 0 | H24: =[1]ввод!X17 -> 0 | I24: =[1]ввод!Y17 -> 0 | J24: =[1]ввод!G17 -> 1668 | K24: =[1]ввод!H17 -> 0 | L24: =[1]ввод!Z17 -> 0 | M24: =[1]ввод!AA17 -> 2 | N24: =[1]ввод!AB17 -> 0 | O24: =[1]ввод!AC17 -> 0 | P24: =[1]ввод!AD17 -> 0 | Q24: =[1]ввод!K17 -> 0 | R24: =[1]ввод!L17 -> 0 | S24: =[1]ввод!AE17 -> 0 | T24: =[1]ввод!AF17 -> 0 | U24: =[1]ввод!AG17 -> 0 | V24: =[1]ввод!AH17 -> 0 | W24: =[1]ввод!AI17 -> 0
A25: 16 | B25: кирово-чепецкий | C25: =[1]ввод!C18 -> 12 | D25: =[1]ввод!D18 -> 0 | E25: =[1]ввод!U18 -> 3 | F25: =[1]ввод!V18 -> 1 | G25: =[1]ввод!W18 -> 0 | H25: =[1]ввод!X18 -> 0 | I25: =[1]ввод!Y18 -> 0 | J25: =[1]ввод!G18 -> 1652 | K25: =[1]ввод!H18 -> 0 | L25: =[1]ввод!Z18 -> 0 | M25: =[1]ввод!AA18 -> 0 | N25: =[1]ввод!AB18 -> 0 | O25: =[1]ввод!AC18 -> 0 | P25: =[1]ввод!AD18 -> 0 | Q25: =[1]ввод!K18 -> 2 | R25: =[1]ввод!L18 -> 0 | S25: =[1]ввод!AE18 -> 0 | T25: =[1]ввод!AF18 -> 0 | U25: =[1]ввод!AG18 -> 0 | V25: =[1]ввод!AH18 -> 0 | W25: =[1]ввод!AI18 -> 0
A26: 17 | B26: кирово-чепецкий | C26: =[1]ввод!C19 -> 2 | D26: =[1]ввод!D19 -> 0 | E26: =[1]ввод!U19 -> 0 | F26: =[1]ввод!V19 -> 0 | G26: =[1]ввод!W19 -> 0 | H26: =[1]ввод!X19 -> 0 | I26: =[1]ввод!Y19 -> 0 | J26: =[1]ввод!G19 -> 1853 | K26: =[1]ввод!H19 -> 0 | L26: =[1]ввод!Z19 -> 0 | M26: =[1]ввод!AA19 -> 0 | N26: =[1]ввод!AB19 -> 0 | O26: =[1]ввод!AC19 -> 0 | P26: =[1]ввод!AD19 -> 0 | Q26: =[1]ввод!K19 -> 0 | R26: =[1]ввод!L19 -> 0 | S26: =[1]ввод!AE19 -> 0 | T26: =[1]ввод!AF19 -> 0 | U26: =[1]ввод!AG19 -> 0 | V26: =[1]ввод!AH19 -> 0 | W26: =[1]ввод!AI19 -> 0
A27: 18 | B27: кирово-чепецкий | C27: =[1]ввод!C20 -> 5 | D27: =[1]ввод!D20 -> 0 | E27: =[1]ввод!U20 -> 0 | F27: =[1]ввод!V20 -> 0 | G27: =[1]ввод!W20 -> 0 | H27: =[1]ввод!X20 -> 0 | I27: =[1]ввод!Y20 -> 0 | J27: =[1]ввод!G20 -> 1456 | K27: =[1]ввод!H20 -> 0 | L27: =[1]ввод!Z20 -> 0 | M27: =[1]ввод!AA20 -> 0 | N27: =[1]ввод!AB20 -> 0 | O27: =[1]ввод!AC20 -> 0 | P27: =[1]ввод!AD20 -> 0 | Q27: =[1]ввод!K20 -> 0 | R27: =[1]ввод!L20 -> 0 | S27: =[1]ввод!AE20 -> 0 | T27: =[1]ввод!AF20 -> 0 | U27: =[1]ввод!AG20 -> 0 | V27: =[1]ввод!AH20 -> 0 | W27: =[1]ввод!AI20 -> 0
A28: 19 | B28: котельничский | C28: =[1]ввод!C21 -> 3 | D28: =[1]ввод!D21 -> 0 | E28: =[1]ввод!U21 -> 0 | F28: =[1]ввод!V21 -> 0 | G28: =[1]ввод!W21 -> 0 | H28: =[1]ввод!X21 -> 0 | I28: =[1]ввод!Y21 -> 0 | J28: =[1]ввод!G21 -> 796 | K28: =[1]ввод!H21 -> 0 | L28: =[1]ввод!Z21 -> 0 | M28: =[1]ввод!AA21 -> 0 | N28: =[1]ввод!AB21 -> 0 | O28: =[1]ввод!AC21 -> 0 | P28: =[1]ввод!AD21 -> 0 | Q28: =[1]ввод!K21 -> 0 | R28: =[1]ввод!L21 -> 0 | S28: =[1]ввод!AE21 -> 0 | T28: =[1]ввод!AF21 -> 0 | U28: =[1]ввод!AG21 -> 0 | V28: =[1]ввод!AH21 -> 0 | W28: =[1]ввод!AI21 -> 0
A29: 20 | B29: котельничский | C29: =[1]ввод!C22 -> 11 | D29: =[1]ввод!D22 -> 0 | E29: =[1]ввод!U22 -> 0 | F29: =[1]ввод!V22 -> 0 | G29: =[1]ввод!W22 -> 0 | H29: =[1]ввод!X22 -> 0 | I29: =[1]ввод!Y22 -> 0 | J29: =[1]ввод!G22 -> 622 | K29: =[1]ввод!H22 -> 0 | L29: =[1]ввод!Z22 -> 12 | M29: =[1]ввод!AA22 -> 0 | N29: =[1]ввод!AB22 -> 0 | O29: =[1]ввод!AC22 -> 0 | P29: =[1]ввод!AD22 -> 0 | Q29: =[1]ввод!K22 -> 1 | R29: =[1]ввод!L22 -> 0 | S29: =[1]ввод!AE22 -> 0 | T29: =[1]ввод!AF22 -> 0 | U29: =[1]ввод!AG22 -> 0 | V29: =[1]ввод!AH22 -> 0 | W29: =[1]ввод!AI22 -> 0
A30: 21 | B30: куменский | C30: =[1]ввод!C23 -> 11 | D30: =[1]ввод!D23 -> 0 | E30: =[1]ввод!U23 -> 4 | F30: =[1]ввод!V23 -> 1 | G30: =[1]ввод!W23 -> 0 | H30: =[1]ввод!X23 -> 0 | I30: =[1]ввод!Y23 -> 0 | J30: =[1]ввод!G23 -> 1140 | K30: =[1]ввод!H23 -> 0 | L30: =[1]ввод!Z23 -> 0 | M30: =[1]ввод!AA23 -> 0 | N30: =[1]ввод!AB23 -> 0 | O30: =[1]ввод!AC23 -> 0 | P30: =[1]ввод!AD23 -> 0 | Q30: =[1]ввод!K23 -> 0 | R30: =[1]ввод!L23 -> 0 | S30: =[1]ввод!AE23 -> 0 | T30: =[1]ввод!AF23 -> 0 | U30: =[1]ввод!AG23 -> 0 | V30: =[1]ввод!AH23 -> 0 | W30: =[1]ввод!AI23 -> 0
... A50: 41 | B50: советский | C50: =[1]ввод!C43 -> 25 | D50: =[1]ввод!D43 -> 0 | E50: =[1]ввод!U43 -> 4 | F50: =[1]ввод!V43 -> 1 | G50: =[1]ввод!W43 -> 0 | H50: =[1]ввод!X43 -> 0 | I50: =[1]ввод!Y43 -> 0 | J50: =[1]ввод!G43 -> 1132 | K50: =[1]ввод!H43 -> 0 | L50: =[1]ввод!Z43 -> 8 | M50: =[1]ввод!AA43 -> 0 | N50: =[1]ввод!AB43 -> 0 | O50: =[1]ввод!AC43 -> 0 | P50: =[1]ввод!AD43 -> 0 | Q50: =[1]ввод!K43 -> 0 | R50: =[1]ввод!L43 -> 0 | S50: =[1]ввод!AE43 -> 0 | T50: =[1]ввод!AF43 -> 0 | U50: =[1]ввод!AG43 -> 0 | V50: =[1]ввод!AH43 -> 0 | W50: =[1]ввод!AI43 -> 0
A51: 43 | B51: сунский | C51: =[1]ввод!C45 -> 9 | D51: =[1]ввод!D45 -> 0 | E51: =[1]ввод!U45 -> 1 | F51: =[1]ввод!V45 -> 0 | G51: =[1]ввод!W45 -> 0 | H51: =[1]ввод!X45 -> 0 | I51: =[1]ввод!Y45 -> 0 | J51: =[1]ввод!G45 -> 299 | K51: =[1]ввод!H45 -> 0 | L51: =[1]ввод!Z45 -> 0 | M51: =[1]ввод!AA45 -> 0 | N51: =[1]ввод!AB45 -> 0 | O51: =[1]ввод!AC45 -> 0 | P51: =[1]ввод!AD45 -> 0 | Q51: =[1]ввод!K45 -> 0 | R51: =[1]ввод!L45 -> 0 | S51: =[1]ввод!AE45 -> 0 | T51: =[1]ввод!AF45 -> 0 | U51: =[1]ввод!AG45 -> 0 | V51: =[1]ввод!AH45 -> 0 | W51: =[1]ввод!AI45 -> 0
A52: 44 | B52: тужинский | C52: =[1]ввод!C46 -> 2 | D52: =[1]ввод!D46 -> 0 | E52: =[1]ввод!U46 -> 0 | F52: =[1]ввод!V46 -> 0 | G52: =[1]ввод!W46 -> 0 | H52: =[1]ввод!X46 -> 0 | I52: =[1]ввод!Y46 -> 0 | J52: =[1]ввод!G46 -> 237 | K52: =[1]ввод!H46 -> 0 | L52: =[1]ввод!Z46 -> 1 | M52: =[1]ввод!AA46 -> 1 | N52: =[1]ввод!AB46 -> 0 | O52: =[1]ввод!AC46 -> 0 | P52: =[1]ввод!AD46 -> 0 | Q52: =[1]ввод!K46 -> 0 | R52: =[1]ввод!L46 -> 0 | S52: =[1]ввод!AE46 -> 0 | T52: =[1]ввод!AF46 -> 0 | U52: =[1]ввод!AG46 -> 0 | V52: =[1]ввод!AH46 -> 0 | W52: =[1]ввод!AI46 -> 0
A53: 45 | B53: унинский | C53: =[1]ввод!C47 -> 5 | D53: =[1]ввод!D47 -> 0 | E53: =[1]ввод!U47 -> 0 | F53: =[1]ввод!V47 -> 0 | G53: =[1]ввод!W47 -> 0 | H53: =[1]ввод!X47 -> 0 | I53: =[1]ввод!Y47 -> 0 | J53: =[1]ввод!G47 -> 388 | K53: =[1]ввод!H47 -> 0 | L53: =[1]ввод!Z47 -> 0 | M53: =[1]ввод!AA47 -> 0 | N53: =[1]ввод!AB47 -> 0 | O53: =[1]ввод!AC47 -> 0 | P53: =[1]ввод!AD47 -> 0 | Q53: =[1]ввод!K47 -> 0 | R53: =[1]ввод!L47 -> 0 | S53: =[1]ввод!AE47 -> 0 | T53: =[1]ввод!AF47 -> 0 | U53: =[1]ввод!AG47 -> 0 | V53: =[1]ввод!AH47 -> 0 | W53: =[1]ввод!AI47 -> 0
A54: 46 | B54: уржумский | C54: =[1]ввод!C48 -> 18 | D54: =[1]ввод!D48 -> 0 | E54: =[1]ввод!U48 -> 2 | F54: =[1]ввод!V48 -> 0 | G54: =[1]ввод!W48 -> 0 | H54: =[1]ввод!X48 -> 0 | I54: =[1]ввод!Y48 -> 0 | J54: =[1]ввод!G48 -> 1429 | K54: =[1]ввод!H48 -> 0 | L54: =[1]ввод!Z48 -> 0 | M54: =[1]ввод!AA48 -> 1 | N54: =[1]ввод!AB48 -> 0 | O54: =[1]ввод!AC48 -> 0 | P54: =[1]ввод!AD48 -> 0 | Q54: =[1]ввод!K48 -> 0 | R54: =[1]ввод!L48 -> 0 | S54: =[1]ввод!AE48 -> 0 | T54: =[1]ввод!AF48 -> 0 | U54: =[1]ввод!AG48 -> 0 | V54: =[1]ввод!AH48 -> 0 | W54: =[1]ввод!AI48 -> 0
A55: 47 | B55: фаленский | C55: =[1]ввод!C49 -> 13 | D55: =[1]ввод!D49 -> 0 | E55: =[1]ввод!U49 -> 0 | F55: =[1]ввод!V49 -> 0 | G55: =[1]ввод!W49 -> 0 | H55: =[1]ввод!X49 -> 0 | I55: =[1]ввод!Y49 -> 0 | J55: =[1]ввод!G49 -> 525 | K55: =[1]ввод!H49 -> 0 | L55: =[1]ввод!Z49 -> 0 | M55: =[1]ввод!AA49 -> 0 | N55: =[1]ввод!AB49 -> 0 | O55: =[1]ввод!AC49 -> 0 | P55: =[1]ввод!AD49 -> 0 | Q55: =[1]ввод!K49 -> 0 | R55: =[1]ввод!L49 -> 0 | S55: =[1]ввод!AE49 -> 0 | T55: =[1]ввод!AF49 -> 0 | U55: =[1]ввод!AG49 -> 0 | V55: =[1]ввод!AH49 -> 0 | W55: =[1]ввод!AI49 -> 0
A56: 48 | B56: шабалинский | C56: =[1]ввод!C50 -> 6 | D56: =[1]ввод!D50 -> 0 | E56: =[1]ввод!U50 -> 0 | F56: =[1]ввод!V50 -> 0 | G56: =[1]ввод!W50 -> 0 | H56: =[1]ввод!X50 -> 0 | I56: =[1]ввод!Y50 -> 0 | J56: =[1]ввод!G50 -> 447 | K56: =[1]ввод!H50 -> 0 | L56: =[1]ввод!Z50 -> 1 | M56: =[1]ввод!AA50 -> 2 | N56: =[1]ввод!AB50 -> 0 | O56: =[1]ввод!AC50 -> 0 | P56: =[1]ввод!AD50 -> 0 | Q56: =[1]ввод!K50 -> 0 | R56: =[1]ввод!L50 -> 0 | S56: =[1]ввод!AE50 -> 0 | T56: =[1]ввод!AF50 -> 0 | U56: =[1]ввод!AG50 -> 0 | V56: =[1]ввод!AH50 -> 0 | W56: =[1]ввод!AI50 -> 0
A57: 49 | B57: юрьянский | C57: =[1]ввод!C51 -> 4 | D57: =[1]ввод!D51 -> 0 | E57: =[1]ввод!U51 -> 0 | F57: =[1]ввод!V51 -> 0 | G57: =[1]ввод!W51 -> 0 | H57: =[1]ввод!X51 -> 0 | I57: =[1]ввод!Y51 -> 0 | J57: =[1]ввод!G51 -> 870 | K57: =[1]ввод!H51 -> 0 | L57: =[1]ввод!Z51 -> 5 | M57: =[1]ввод!AA51 -> 0 | N57: =[1]ввод!AB51 -> 0 | O57: =[1]ввод!AC51 -> 0 | P57: =[1]ввод!AD51 -> 0 | Q57: =[1]ввод!K51 -> 0 | R57: =[1]ввод!L51 -> 0 | S57: =[1]ввод!AE51 -> 0 | T57: =[1]ввод!AF51 -> 0 | U57: =[1]ввод!AG51 -> 0 | V57: =[1]ввод!AH51 -> 0 | W57: =[1]ввод!AI51 -> 0
A58: 50 | B58: юрьянский | C58: =[1]ввод!C52 -> 12 | D58: =[1]ввод!D52 -> 0 | E58: =[1]ввод!U52 -> 2 | F58: =[1]ввод!V52 -> 0 | G58: =[1]ввод!W52 -> 0 | H58: =[1]ввод!X52 -> 0 | I58: =[1]ввод!Y52 -> 0 | J58: =[1]ввод!G52 -> 958 | K58: =[1]ввод!H52 -> 0 | L58: =[1]ввод!Z52 -> 0 | M58: =[1]ввод!AA52 -> 0 | N58: =[1]ввод!AB52 -> 0 | O58: =[1]ввод!AC52 -> 0 | P58: =[1]ввод!AD52 -> 0 | Q58: =[1]ввод!K52 -> 0 | R58: =[1]ввод!L52 -> 0 | S58: =[1]ввод!AE52 -> 0 | T58: =[1]ввод!AF52 -> 0 | U58: =[1]ввод!AG52 -> 0 | V58: =[1]ввод!AH52 -> 0 | W58: =[1]ввод!AI52 -> 0
A59: 51 | B59: яранский | C59: =[1]ввод!C53 -> 13 | D59: =[1]ввод!D53 -> 0 | E59: =[1]ввод!U53 -> 1 | F59: =[1]ввод!V53 -> 0 | G59: =[1]ввод!W53 -> 0 | H59: =[1]ввод!X53 -> 0 | I59: =[1]ввод!Y53 -> 0 | J59: =[1]ввод!G53 -> 1168 | K59: =[1]ввод!H53 -> 0 | L59: =[1]ввод!Z53 -> 3 | M59: =[1]ввод!AA53 -> 2 | N59: =[1]ввод!AB53 -> 0 | O59: =[1]ввод!AC53 -> 0 | P59: =[1]ввод!AD53 -> 0 | Q59: =[1]ввод!K53 -> 2 | R59: =[1]ввод!L53 -> 0 | S59: =[1]ввод!AE53 -> 0 | T59: =[1]ввод!AF53 -> 0 | U59: =[1]ввод!AG53 -> 0 | V59: =[1]ввод!AH53 -> 0 | W59: =[1]ввод!AI53 -> 0
A60: 52 | B60: ленинский | C60: =[1]ввод!C54 -> 2 | D60: =[1]ввод!D54 -> 0 | E60: =[1]ввод!U54 -> 1 | F60: =[1]ввод!V54 -> 1 | G60: =[1]ввод!W54 -> 0 | H60: =[1]ввод!X54 -> 0 | I60: =[1]ввод!Y54 -> 0 | J60: =[1]ввод!G54 -> 2061 | K60: =[1]ввод!H54 -> 0 | L60: =[1]ввод!Z54 -> 8 | M60: =[1]ввод!AA54 -> 1 | N60: =[1]ввод!AB54 -> 0 | O60: =[1]ввод!AC54 -> 0 | P60: =[1]ввод!AD54 -> 0 | Q60: =[1]ввод!K54 -> 3 | R60: =[1]ввод!L54 -> 0 | S60: =[1]ввод!AE54 -> 0 | T60: =[1]ввод!AF54 -> 0 | U60: =[1]ввод!AG54 -> 0 | V60: =[1]ввод!AH54 -> 0 | W60: =[1]ввод!AI54 -> 0
A61: 53 | B61: ленинский | C61: =[1]ввод!C55 -> 16 | D61: =[1]ввод!D55 -> 0 | E61: =[1]ввод!U55 -> 2 | F61: =[1]ввод!V55 -> 1 | G61: =[1]ввод!W55 -> 0 | H61: =[1]ввод!X55 -> 0 | I61: =[1]ввод!Y55 -> 0 | J61: =[1]ввод!G55 -> 1797 | K61: =[1]ввод!H55 -> 0 | L61: =[1]ввод!Z55 -> 2 | M61: =[1]ввод!AA55 -> 2 | N61: =[1]ввод!AB55 -> 0 | O61: =[1]ввод!AC55 -> 0 | P61: =[1]ввод!AD55 -> 0 | Q61: =[1]ввод!K55 -> 0 | R61: =[1]ввод!L55 -> 0 | S61: =[1]ввод!AE55 -> 0 | T61: =[1]ввод!AF55 -> 0 | U61: =[1]ввод!AG55 -> 0 | V61: =[1]ввод!AH55 -> 0 | W61: =[1]ввод!AI55 -> 0
A62: 54 | B62: ленинский | C62: =[1]ввод!C56 -> 13 | D62: =[1]ввод!D56 -> 0 | E62: =[1]ввод!U56 -> 0 | F62: =[1]ввод!V56 -> 0 | G62: =[1]ввод!W56 -> 0 | H62: =[1]ввод!X56 -> 0 | I62: =[1]ввод!Y56 -> 0 | J62: =[1]ввод!G56 -> 1697 | K62: =[1]ввод!H56 -> 0 | L62: =[1]ввод!Z56 -> 0 | M62: =[1]ввод!AA56 -> 0 | N62: =[1]ввод!AB56 -> 0 | O62: =[1]ввод!AC56 -> 0 | P62: =[1]ввод!AD56 -> 0 | Q62: =[1]ввод!K56 -> 0 | R62: =[1]ввод!L56 -> 0 | S62: =[1]ввод!AE56 -> 0 | T62: =[1]ввод!AF56 -> 0 | U62: =[1]ввод!AG56 -> 0 | V62: =[1]ввод!AH56 -> 0 | W62: =[1]ввод!AI56 -> 0
... A85: 77 | B85: слободской | C85: =[1]ввод!C79 -> 4 | D85: =[1]ввод!D79 -> 0 | E85: =[1]ввод!U79 -> 0 | F85: =[1]ввод!V79 -> 0 | G85: =[1]ввод!W79 -> 0 | H85: =[1]ввод!X79 -> 0 | I85: =[1]ввод!Y79 -> 0 | J85: =[1]ввод!G79 -> 896 | K85: =[1]ввод!H79 -> 0 | L85: =[1]ввод!Z79 -> 43 | M85: =[1]ввод!AA79 -> 0 | N85: =[1]ввод!AB79 -> 0 | O85: =[1]ввод!AC79 -> 0 | P85: =[1]ввод!AD79 -> 0 | Q85: =[1]ввод!K79 -> 0 | R85: =[1]ввод!L79 -> 0 | S85: =[1]ввод!AE79 -> 0 | T85: =[1]ввод!AF79 -> 0 | U85: =[1]ввод!AG79 -> 0 | V85: =[1]ввод!AH79 -> 0 | W85: =[1]ввод!AI79 -> 0
A86: 79 | B86: ленинский | C86: =[1]ввод!C81 -> 13 | D86: =[1]ввод!D81 -> 0 | E86: =[1]ввод!U81 -> 1 | F86: =[1]ввод!V81 -> 0 | G86: =[1]ввод!W81 -> 0 | H86: =[1]ввод!X81 -> 0 | I86: =[1]ввод!Y81 -> 0 | J86: =[1]ввод!G81 -> 1338 | K86: =[1]ввод!H81 -> 0 | L86: =[1]ввод!Z81 -> 0 | M86: =[1]ввод!AA81 -> 0 | N86: =[1]ввод!AB81 -> 0 | O86: =[1]ввод!AC81 -> 0 | P86: =[1]ввод!AD81 -> 0 | Q86: =[1]ввод!K81 -> 6 | R86: =[1]ввод!L81 -> 0 | S86: =[1]ввод!AE81 -> 0 | T86: =[1]ввод!AF81 -> 0 | U86: =[1]ввод!AG81 -> 0 | V86: =[1]ввод!AH81 -> 0 | W86: =[1]ввод!AI81 -> 0
A87: 80 | B87: октябрьский | C87: =[1]ввод!C82 -> 12 | D87: =[1]ввод!D82 -> 0 | E87: =[1]ввод!U82 -> 0 | F87: =[1]ввод!V82 -> 0 | G87: =[1]ввод!W82 -> 0 | H87: =[1]ввод!X82 -> 0 | I87: =[1]ввод!Y82 -> 0 | J87: =[1]ввод!G82 -> 1663 | K87: =[1]ввод!H82 -> 0 | L87: =[1]ввод!Z82 -> 13 | M87: =[1]ввод!AA82 -> 1 | N87: =[1]ввод!AB82 -> 0 | O87: =[1]ввод!AC82 -> 0 | P87: =[1]ввод!AD82 -> 0 | Q87: =[1]ввод!K82 -> 1 | R87: =[1]ввод!L82 -> 0 | S87: =[1]ввод!AE82 -> 0 | T87: =[1]ввод!AF82 -> 0 | U87: =[1]ввод!AG82 -> 0 | V87: =[1]ввод!AH82 -> 0 | W87: =[1]ввод!AI82 -> 0
A88: 42 | B88: ленинский | C88: =[1]ввод!C83 -> 16 | D88: =[1]ввод!D83 -> 0 | E88: =[1]ввод!U83 -> 0 | F88: =[1]ввод!V83 -> 3 | G88: =[1]ввод!W83 -> 0 | H88: =[1]ввод!X83 -> 0 | I88: =[1]ввод!Y83 -> 0 | J88: =[1]ввод!G83 -> 2736 | K88: =[1]ввод!H83 -> 0 | L88: =[1]ввод!Z83 -> 17 | M88: =[1]ввод!AA83 -> 3 | N88: =[1]ввод!AB83 -> 0 | O88: =[1]ввод!AC83 -> 0 | P88: =[1]ввод!AD83 -> 0 | Q88: =[1]ввод!K83 -> 0 | R88: =[1]ввод!L83 -> 0 | S88: =[1]ввод!AE83 -> 0 | T88: =[1]ввод!AF83 -> 0 | U88: =[1]ввод!AG83 -> 0 | V88: =[1]ввод!AH83 -> 0 | W88: =[1]ввод!AI83 -> 0
A89: 9 | B89: первомайский | C89: =[1]ввод!C84 -> 21 | D89: =[1]ввод!D85 -> 0 | E89: =[1]ввод!U84 -> 6 | F89: =[1]ввод!V84 -> 1 | G89: =[1]ввод!W84 -> 0 | H89: =[1]ввод!X84 -> 0 | I89: =[1]ввод!Y84 -> 0 | J89: =[1]ввод!G84 -> 1917 | K89: =[1]ввод!H84 -> 0 | L89: =[1]ввод!Z84 -> 5 | M89: =[1]ввод!AA84 -> 0 | N89: =[1]ввод!AB84 -> 0 | O89: =[1]ввод!AC84 -> 0 | P89: =[1]ввод!AD84 -> 0 | Q89: =[1]ввод!K84 -> 0 | R89: =[1]ввод!L84 -> 0 | S89: =[1]ввод!AE84 -> 0 | T89: =[1]ввод!AF84 -> 0 | U89: =[1]ввод!AG84 -> 0 | V89: =[1]ввод!AH84 -> 0 | W89: =[1]ввод!AI84 -> 0
A90: 78 | B90: октябрьский | C90: =[1]ввод!C85 -> 10 | D90: =[1]ввод!D85 -> 0 | E90: =[1]ввод!U85 -> 0 | F90: =[1]ввод!V85 -> 0 | G90: =[1]ввод!W85 -> 0 | H90: =[1]ввод!X85 -> 0 | I90: =[1]ввод!Y85 -> 0 | J90: =[1]ввод!G85 -> 1693 | K90: =[1]ввод!H85 -> 0 | L90: =[1]ввод!Z85 -> 0 | M90: =[1]ввод!AA85 -> 0 | N90: =[1]ввод!AB85 -> 0 | O90: =[1]ввод!AC85 -> 0 | P90: =[1]ввод!AD85 -> 0 | Q90: =[1]ввод!K85 -> 0 | R90: =[1]ввод!L85 -> 0 | S90: =[1]ввод!AE85 -> 0 | T90: =[1]ввод!AF85 -> 0 | U90: =[1]ввод!AG85 -> 0 | V90: =[1]ввод!AH85 -> 0 | W90: =[1]ввод!AI85 -> 0
A91: Итого по области | C91: =SUM(C11:C90) -> 852 | D91: =SUM(D11:D90) -> 0 | E91: =SUM(E11:E90) -> 112 | F91: =SUM(F11:F90) -> 25 | G91: =SUM(G11:G90) -> 1 | H91: =SUM(H11:H90) -> 0 | I91: =SUM(I11:I90) -> 0 | J91: =SUM(J11:J90) -> 94402 | ... W91: =SUM(W11:W90) -> 0

Sheet сроки рассм %
A1: Сведения по судебным участкам Кировской области
A2: о сроках рассмотрения уголовных и гражданских(административных) дел за 6 месяцев 2026 года (в %)
A3: № участка | B3: район | C3: уголовные дела | J3: гражданские дела | Q3: административные дела
C4: окончено | D4: с наруше-нием сроков по УПК | E4: окончено в сроки (месяцы) | J4: окончено | K4: с наруше-нием сроков по ГПК | L4: окончено в сроки (месяцы) | Q4: окончено | R4: с наруше-нием сроков по КАС | S4: окончено в сроки (месяцы)
E6: от 1,5 до 3 мес | F6: от 3 мес до 1 года | G6: от 1 года до 2 лет | H6: от 2 лет до 3 лет | I6: от 3 лет | L6: до 3 мес | M6: от 3 мес до 1 года | N6: от 1 года до 2 лет | O6: от 2 лет до 3 лет | P6: от 3 лет | S6: до 3 мес | T6: от 3 мес до 1 года | U6: от 1 года до 2 лет | V6: от 2 лет до 3 лет | W6: от 3 лет
A10: 1 | B10: 3 | C10: 4 | D10: 5 | E10: 6 | F10: 7 | G10: 8 | H10: 9 | I10: 10 | J10: 11 | K10: 12 | L10: 13 | M10: 14 | N10: 15 | O10: 16 | P10: 17 | Q10: 18 | R10: 19 | S10: 20 | T10: 21 | U10: 22 | V10: 23 | W10: 24
A11: 1 | B11: арбажский | C11: =[1]ввод!C3 -> 2 | D11: ='[1]сроки рассм'!D11/'[1]сроки рассм'!C11 -> 0 | E11: ='[1]сроки рассм'!E11/'[1]сроки рассм'!C11 -> 0 | F11: ='[1]сроки рассм'!F11/'[1]сроки рассм'!C11 -> 0 | G11: ='[1]сроки рассм'!G11/'[1]сроки рассм'!C11 -> 0 | H11: ='[1]сроки рассм'!H11/'[1]сроки рассм'!C11 -> 0 | I11: ='[1]сроки рассм'!I11/'[1]сроки рассм'!C11 -> 0 | J11: =[1]ввод!G3 -> 289 | K11: ='[1]сроки рассм'!K11/'[1]сроки рассм'!J11 -> 0 | L11: ='[1]сроки рассм'!L11/'[1]сроки рассм'!J11 -> 0 | M11: ='[1]сроки рассм'!M11/'[1]сроки рассм'!J11 -> 0.0034602076 | N11: ='[1]сроки рассм'!N11/'[1]сроки рассм'!J11 -> 0 | O11: ='[1]сроки рассм'!O11/'[1]сроки рассм'!J11 -> 0 | P11: ='[1]сроки рассм'!P11/'[1]сроки рассм'!J11 -> 0 | Q11: =[1]ввод!K3 -> 0 | R11: ='[1]сроки рассм'!R11/'[1]сроки рассм'!Q11 -> #DIV/0! | S11: ='[1]сроки рассм'!S11/'[1]сроки рассм'!Q11 -> #DIV/0! | T11: ='[1]сроки рассм'!T11/'[1]сроки рассм'!Q11 -> #DIV/0! | U11: ='[1]сроки рассм'!U11/'[1]сроки рассм'!Q11 -> #DIV/0! | V11: ='[1]сроки рассм'!V11/'[1]сроки рассм'!Q11 -> #DIV/0! | W11: ='[1]сроки рассм'!W11/'[1]сроки рассм'!Q11 -> #DIV/0!
A12: 2 | B12: афанасьевский | C12: =[1]ввод!C4 -> 3 | D12: ='[1]сроки рассм'!D12/'[1]сроки рассм'!C12 -> 0 | E12: ='[1]сроки рассм'!E12/'[1]сроки рассм'!C12 -> 0 | F12: ='[1]сроки рассм'!F12/'[1]сроки рассм'!C12 -> 0 | G12: ='[1]сроки рассм'!G12/'[1]сроки рассм'!C12 -> 0 | H12: ='[1]сроки рассм'!H12/'[1]сроки рассм'!C12 -> 0 | I12: ='[1]сроки рассм'!I12/'[1]сроки рассм'!C12 -> 0 | J12: =[1]ввод!G4 -> 516 | K12: ='[1]сроки рассм'!K12/'[1]сроки рассм'!J12 -> 0 | L12: ='[1]сроки рассм'!L12/'[1]сроки рассм'!J12 -> 0 | M12: ='[1]сроки рассм'!M12/'[1]сроки рассм'!J12 -> 0 | N12: ='[1]сроки рассм'!N12/'[1]сроки рассм'!J12 -> 0 | O12: ='[1]сроки рассм'!O12/'[1]сроки рассм'!J12 -> 0 | P12: ='[1]сроки рассм'!P12/'[1]сроки рассм'!J12 -> 0 | Q12: =[1]ввод!K4 -> 1 | R12: ='[1]сроки рассм'!R12/'[1]сроки рассм'!Q12 -> 0 | S12: ='[1]сроки рассм'!S12/'[1]сроки рассм'!Q12 -> 0 | T12: ='[1]сроки рассм'!T12/'[1]сроки рассм'!Q12 -> 0 | U12: ='[1]сроки рассм'!U12/'[1]сроки рассм'!Q12 -> 0 | V12: ='[1]сроки рассм'!V12/'[1]сроки рассм'!Q12 -> 0 | W12: ='[1]сроки рассм'!W12/'[1]сроки рассм'!Q12 -> 0
A13: 3 | B13: белохолуницкий | C13: =[1]ввод!C5 -> 3 | D13: ='[1]сроки рассм'!D13/'[1]сроки рассм'!C13 -> 0 | E13: ='[1]сроки рассм'!E13/'[1]сроки рассм'!C13 -> 0.33333333 | F13: ='[1]сроки рассм'!F13/'[1]сроки рассм'!C13 -> 0 | G13: ='[1]сроки рассм'!G13/'[1]сроки рассм'!C13 -> 0 | H13: ='[1]сроки рассм'!H13/'[1]сроки рассм'!C13 -> 0 | I13: ='[1]сроки рассм'!I13/'[1]сроки рассм'!C13 -> 0 | J13: =[1]ввод!G5 -> 1017 | K13: ='[1]сроки рассм'!K13/'[1]сроки рассм'!J13 -> 0 | L13: ='[1]сроки рассм'!L13/'[1]сроки рассм'!J13 -> 0.0078662734 | M13: ='[1]сроки рассм'!M13/'[1]сроки рассм'!J13 -> 0.00098328417 | N13: ='[1]сроки рассм'!N13/'[1]сроки рассм'!J13 -> 0 | O13: ='[1]сроки рассм'!O13/'[1]сроки рассм'!J13 -> 0 | P13: ='[1]сроки рассм'!P13/'[1]сроки рассм'!J13 -> 0 | Q13: =[1]ввод!K5 -> 0 | R13: ='[1]сроки рассм'!R13/'[1]сроки рассм'!Q13 -> #DIV/0! | S13: ='[1]сроки рассм'!S13/'[1]сроки рассм'!Q13 -> #DIV/0! | T13: ='[1]сроки рассм'!T13/'[1]сроки рассм'!Q13 -> #DIV/0! | U13: ='[1]сроки рассм'!U13/'[1]сроки рассм'!Q13 -> #DIV/0! | V13: ='[1]сроки рассм'!V13/'[1]сроки рассм'!Q13 -> #DIV/0! | W13: ='[1]сроки рассм'!W13/'[1]сроки рассм'!Q13 -> #DIV/0!
A14: 4 | B14: богородский | C14: =[1]ввод!C6 -> 5 | D14: ='[1]сроки рассм'!D14/'[1]сроки рассм'!C14 -> 0 | E14: ='[1]сроки рассм'!E14/'[1]сроки рассм'!C14 -> 0.2 | F14: ='[1]сроки рассм'!F14/'[1]сроки рассм'!C14 -> 0 | G14: ='[1]сроки рассм'!G14/'[1]сроки рассм'!C14 -> 0 | H14: ='[1]сроки рассм'!H14/'[1]сроки рассм'!C14 -> 0 | I14: ='[1]сроки рассм'!I14/'[1]сроки рассм'!C14 -> 0 | J14: =[1]ввод!G6 -> 320 | K14: ='[1]сроки рассм'!K14/'[1]сроки рассм'!J14 -> 0 | L14: ='[1]сроки рассм'!L14/'[1]сроки рассм'!J14 -> 0.003125 | M14: ='[1]сроки рассм'!M14/'[1]сроки рассм'!J14 -> 0 | N14: ='[1]сроки рассм'!N14/'[1]сроки рассм'!J14 -> 0 | O14: ='[1]сроки рассм'!O14/'[1]сроки рассм'!J14 -> 0 | P14: ='[1]сроки рассм'!P14/'[1]сроки рассм'!J14 -> 0 | Q14: =[1]ввод!K6 -> 0 | R14: ='[1]сроки рассм'!R14/'[1]сроки рассм'!Q14 -> #DIV/0! | S14: ='[1]сроки рассм'!S14/'[1]сроки рассм'!Q14 -> #DIV/0! | T14: ='[1]сроки рассм'!T14/'[1]сроки рассм'!Q14 -> #DIV/0! | U14: ='[1]сроки рассм'!U14/'[1]сроки рассм'!Q14 -> #DIV/0! | V14: ='[1]сроки рассм'!V14/'[1]сроки рассм'!Q14 -> #DIV/0! | W14: ='[1]сроки рассм'!W14/'[1]сроки рассм'!Q14 -> #DIV/0!
A15: 5 | B15: верхнекамский | C15: =[1]ввод!C7 -> 7 | D15: ='[1]сроки рассм'!D15/'[1]сроки рассм'!C15 -> 0 | E15: ='[1]сроки рассм'!E15/'[1]сроки рассм'!C15 -> 0 | F15: ='[1]сроки рассм'!F15/'[1]сроки рассм'!C15 -> 0 | G15: ='[1]сроки рассм'!G15/'[1]сроки рассм'!C15 -> 0 | H15: ='[1]сроки рассм'!H15/'[1]сроки рассм'!C15 -> 0 | I15: ='[1]сроки рассм'!I15/'[1]сроки рассм'!C15 -> 0 | J15: =[1]ввод!G7 -> 1145 | K15: ='[1]сроки рассм'!K15/'[1]сроки рассм'!J15 -> 0 | L15: ='[1]сроки рассм'!L15/'[1]сроки рассм'!J15 -> 0.0026200873 | M15: ='[1]сроки рассм'!M15/'[1]сроки рассм'!J15 -> 0.0026200873 | N15: ='[1]сроки рассм'!N15/'[1]сроки рассм'!J15 -> 0 | O15: ='[1]сроки рассм'!O15/'[1]сроки рассм'!J15 -> 0 | P15: ='[1]сроки рассм'!P15/'[1]сроки рассм'!J15 -> 0 | Q15: =[1]ввод!K7 -> 1 | R15: ='[1]сроки рассм'!R15/'[1]сроки рассм'!Q15 -> 0 | S15: ='[1]сроки рассм'!S15/'[1]сроки рассм'!Q15 -> 0 | T15: ='[1]сроки рассм'!T15/'[1]сроки рассм'!Q15 -> 0 | U15: ='[1]сроки рассм'!U15/'[1]сроки рассм'!Q15 -> 0 | V15: ='[1]сроки рассм'!V15/'[1]сроки рассм'!Q15 -> 0 | W15: ='[1]сроки рассм'!W15/'[1]сроки рассм'!Q15 -> 0
A16: 6 | B16: верхнекамский | C16: =[1]ввод!C8 -> 3 | D16: ='[1]сроки рассм'!D16/'[1]сроки рассм'!C16 -> 0 | E16: ='[1]сроки рассм'!E16/'[1]сроки рассм'!C16 -> 0.33333333 | F16: ='[1]сроки рассм'!F16/'[1]сроки рассм'!C16 -> 0 | G16: ='[1]сроки рассм'!G16/'[1]сроки рассм'!C16 -> 0 | H16: ='[1]сроки рассм'!H16/'[1]сроки рассм'!C16 -> 0 | I16: ='[1]сроки рассм'!I16/'[1]сроки рассм'!C16 -> 0 | J16: =[1]ввод!G8 -> 504 | K16: ='[1]сроки рассм'!K16/'[1]сроки рассм'!J16 -> 0 | L16: ='[1]сроки рассм'!L16/'[1]сроки рассм'!J16 -> 0.13492063 | M16: ='[1]сроки рассм'!M16/'[1]сроки рассм'!J16 -> 0 | N16: ='[1]сроки рассм'!N16/'[1]сроки рассм'!J16 -> 0 | O16: ='[1]сроки рассм'!O16/'[1]сроки рассм'!J16 -> 0 | P16: ='[1]сроки рассм'!P16/'[1]сроки рассм'!J16 -> 0 | Q16: =[1]ввод!K8 -> 0 | R16: ='[1]сроки рассм'!R16/'[1]сроки рассм'!Q16 -> #DIV/0! | S16: ='[1]сроки рассм'!S16/'[1]сроки рассм'!Q16 -> #DIV/0! | T16: ='[1]сроки рассм'!T16/'[1]сроки рассм'!Q16 -> #DIV/0! | U16: ='[1]сроки рассм'!U16/'[1]сроки рассм'!Q16 -> #DIV/0! | V16: ='[1]сроки рассм'!V16/'[1]сроки рассм'!Q16 -> #DIV/0! | W16: ='[1]сроки рассм'!W16/'[1]сроки рассм'!Q16 -> #DIV/0!
A17: 7 | B17: верхошижемский | C17: =[1]ввод!C9 -> 6 | D17: ='[1]сроки рассм'!D17/'[1]сроки рассм'!C17 -> 0 | E17: ='[1]сроки рассм'!E17/'[1]сроки рассм'!C17 -> 0 | F17: ='[1]сроки рассм'!F17/'[1]сроки рассм'!C17 -> 0 | G17: ='[1]сроки рассм'!G17/'[1]сроки рассм'!C17 -> 0 | H17: ='[1]сроки рассм'!H17/'[1]сроки рассм'!C17 -> 0 | I17: ='[1]сроки рассм'!I17/'[1]сроки рассм'!C17 -> 0 | J17: =[1]ввод!G9 -> 451 | K17: ='[1]сроки рассм'!K17/'[1]сроки рассм'!J17 -> 0 | L17: ='[1]сроки рассм'!L17/'[1]сроки рассм'!J17 -> 0 | M17: ='[1]сроки рассм'!M17/'[1]сроки рассм'!J17 -> 0 | N17: ='[1]сроки рассм'!N17/'[1]сроки рассм'!J17 -> 0 | O17: ='[1]сроки рассм'!O17/'[1]сроки рассм'!J17 -> 0 | P17: ='[1]сроки рассм'!P17/'[1]сроки рассм'!J17 -> 0 | Q17: =[1]ввод!K9 -> 0 | R17: ='[1]сроки рассм'!R17/'[1]сроки рассм'!Q17 -> #DIV/0! | S17: ='[1]сроки рассм'!S17/'[1]сроки рассм'!Q17 -> #DIV/0! | T17: ='[1]сроки рассм'!T17/'[1]сроки рассм'!Q17 -> #DIV/0! | U17: ='[1]сроки рассм'!U17/'[1]сроки рассм'!Q17 -> #DIV/0! | V17: ='[1]сроки рассм'!V17/'[1]сроки рассм'!Q17 -> #DIV/0! | W17: ='[1]сроки рассм'!W17/'[1]сроки рассм'!Q17 -> #DIV/0!
A18: 8 | B18: вятскополянский | C18: =[1]ввод!C10 -> 11 | D18: ='[1]сроки рассм'!D18/'[1]сроки рассм'!C18 -> 0 | E18: ='[1]сроки рассм'!E18/'[1]сроки рассм'!C18 -> 0.090909091 | F18: ='[1]сроки рассм'!F18/'[1]сроки рассм'!C18 -> 0.27272727 | G18: ='[1]сроки рассм'!G18/'[1]сроки рассм'!C18 -> 0 | H18: ='[1]сроки рассм'!H18/'[1]сроки рассм'!C18 -> 0 | I18: ='[1]сроки рассм'!I18/'[1]сроки рассм'!C18 -> 0 | J18: =[1]ввод!G10 -> 1204 | K18: ='[1]сроки рассм'!K18/'[1]сроки рассм'!J18 -> 0 | L18: ='[1]сроки рассм'!L18/'[1]сроки рассм'!J18 -> 0.1320598 | M18: ='[1]сроки рассм'!M18/'[1]сроки рассм'!J18 -> 0 | N18: ='[1]сроки рассм'!N18/'[1]сроки рассм'!J18 -> 0 | O18: ='[1]сроки рассм'!O18/'[1]сроки рассм'!J18 -> 0 | P18: ='[1]сроки рассм'!P18/'[1]сроки рассм'!J18 -> 0 | Q18: =[1]ввод!K10 -> 0 | R18: ='[1]сроки рассм'!R18/'[1]сроки рассм'!Q18 -> #DIV/0! | S18: ='[1]сроки рассм'!S18/'[1]сроки рассм'!Q18 -> #DIV/0! | T18: ='[1]сроки рассм'!T18/'[1]сроки рассм'!Q18 -> #DIV/0! | U18: ='[1]сроки рассм'!U18/'[1]сроки рассм'!Q18 -> #DIV/0! | V18: ='[1]сроки рассм'!V18/'[1]сроки рассм'!Q18 -> #DIV/0! | W18: ='[1]сроки рассм'!W18/'[1]сроки рассм'!Q18 -> #DIV/0!
A19: 10 | B19: вятскополянский | C19: =[1]ввод!C12 -> 10 | D19: ='[1]сроки рассм'!D19/'[1]сроки рассм'!C19 -> 0 | E19: ='[1]сроки рассм'!E19/'[1]сроки рассм'!C19 -> 0.2 | F19: ='[1]сроки рассм'!F19/'[1]сроки рассм'!C19 -> 0 | G19: ='[1]сроки рассм'!G19/'[1]сроки рассм'!C19 -> 0 | H19: ='[1]сроки рассм'!H19/'[1]сроки рассм'!C19 -> 0 | I19: ='[1]сроки рассм'!I19/'[1]сроки рассм'!C19 -> 0 | J19: =[1]ввод!G12 -> 1309 | K19: ='[1]сроки рассм'!K19/'[1]сроки рассм'!J19 -> 0 | L19: ='[1]сроки рассм'!L19/'[1]сроки рассм'!J19 -> 0 | M19: ='[1]сроки рассм'!M19/'[1]сроки рассм'!J19 -> 0 | N19: ='[1]сроки рассм'!N19/'[1]сроки рассм'!J19 -> 0 | O19: ='[1]сроки рассм'!O19/'[1]сроки рассм'!J19 -> 0 | P19: ='[1]сроки рассм'!P19/'[1]сроки рассм'!J19 -> 0 | Q19: =[1]ввод!K12 -> 1 | R19: ='[1]сроки рассм'!R19/'[1]сроки рассм'!Q19 -> 0 | S19: ='[1]сроки рассм'!S19/'[1]сроки рассм'!Q19 -> 0 | T19: ='[1]сроки рассм'!T19/'[1]сроки рассм'!Q19 -> 0 | U19: ='[1]сроки рассм'!U19/'[1]сроки рассм'!Q19 -> 0 | V19: ='[1]сроки рассм'!V19/'[1]сроки рассм'!Q19 -> 0 | W19: ='[1]сроки рассм'!W19/'[1]сроки рассм'!Q19 -> 0
A20: 11 | B20: даровский | C20: =[1]ввод!C13 -> 4 | D20: ='[1]сроки рассм'!D20/'[1]сроки рассм'!C20 -> 0 | E20: ='[1]сроки рассм'!E20/'[1]сроки рассм'!C20 -> 0 | F20: ='[1]сроки рассм'!F20/'[1]сроки рассм'!C20 -> 0 | G20: ='[1]сроки рассм'!G20/'[1]сроки рассм'!C20 -> 0 | H20: ='[1]сроки рассм'!H20/'[1]сроки рассм'!C20 -> 0 | I20: ='[1]сроки рассм'!I20/'[1]сроки рассм'!C20 -> 0 | J20: =[1]ввод!G13 -> 479 | K20: ='[1]сроки рассм'!K20/'[1]сроки рассм'!J20 -> 0 | L20: ='[1]сроки рассм'!L20/'[1]сроки рассм'!J20 -> 0 | M20: ='[1]сроки рассм'!M20/'[1]сроки рассм'!J20 -> 0 | N20: ='[1]сроки рассм'!N20/'[1]сроки рассм'!J20 -> 0 | O20: ='[1]сроки рассм'!O20/'[1]сроки рассм'!J20 -> 0 | P20: ='[1]сроки рассм'!P20/'[1]сроки рассм'!J20 -> 0 | Q20: =[1]ввод!K13 -> 0 | R20: ='[1]сроки рассм'!R20/'[1]сроки рассм'!Q20 -> #DIV/0! | S20: ='[1]сроки рассм'!S20/'[1]сроки рассм'!Q20 -> #DIV/0! | T20: ='[1]сроки рассм'!T20/'[1]сроки рассм'!Q20 -> #DIV/0! | U20: ='[1]сроки рассм'!U20/'[1]сроки рассм'!Q20 -> #DIV/0! | V20: ='[1]сроки рассм'!V20/'[1]сроки рассм'!Q20 -> #DIV/0! | W20: ='[1]сроки рассм'!W20/'[1]сроки рассм'!Q20 -> #DIV/0!
A21: 12 | B21: зуевский | C21: =[1]ввод!C14 -> 14 | D21: ='[1]сроки рассм'!D21/'[1]сроки рассм'!C21 -> 0 | E21: ='[1]сроки рассм'!E21/'[1]сроки рассм'!C21 -> 0 | F21: ='[1]сроки рассм'!F21/'[1]сроки рассм'!C21 -> 0 | G21: ='[1]сроки рассм'!G21/'[1]сроки рассм'!C21 -> 0 | H21: ='[1]сроки рассм'!H21/'[1]сроки рассм'!C21 -> 0 | I21: ='[1]сроки рассм'!I21/'[1]сроки рассм'!C21 -> 0 | J21: =[1]ввод!G14 -> 1935 | K21: ='[1]сроки рассм'!K21/'[1]сроки рассм'!J21 -> 0 | L21: ='[1]сроки рассм'!L21/'[1]сроки рассм'!J21 -> 0.028423773 | M21: ='[1]сроки рассм'!M21/'[1]сроки рассм'!J21 -> 0 | N21: ='[1]сроки рассм'!N21/'[1]сроки рассм'!J21 -> 0 | O21: ='[1]сроки рассм'!O21/'[1]сроки рассм'!J21 -> 0 | P21: ='[1]сроки рассм'!P21/'[1]сроки рассм'!J21 -> 0 | Q21: =[1]ввод!K14 -> 0 | R21: ='[1]сроки рассм'!R21/'[1]сроки рассм'!Q21 -> #DIV/0! | S21: ='[1]сроки рассм'!S21/'[1]сроки рассм'!Q21 -> #DIV/0! | T21: ='[1]сроки рассм'!T21/'[1]сроки рассм'!Q21 -> #DIV/0! | U21: ='[1]сроки рассм'!U21/'[1]сроки рассм'!Q21 -> #DIV/0! | V21: ='[1]сроки рассм'!V21/'[1]сроки рассм'!Q21 -> #DIV/0! | W21: ='[1]сроки рассм'!W21/'[1]сроки рассм'!Q21 -> #DIV/0!
A22: 13 | B22: кикнурский | C22: =[1]ввод!C15 -> 4 | D22: ='[1]сроки рассм'!D22/'[1]сроки рассм'!C22 -> 0 | E22: ='[1]сроки рассм'!E22/'[1]сроки рассм'!C22 -> 0 | F22: ='[1]сроки рассм'!F22/'[1]сроки рассм'!C22 -> 0 | G22: ='[1]сроки рассм'!G22/'[1]сроки рассм'!C22 -> 0 | H22: ='[1]сроки рассм'!H22/'[1]сроки рассм'!C22 -> 0 | I22: ='[1]сроки рассм'!I22/'[1]сроки рассм'!C22 -> 0 | J22: =[1]ввод!G15 -> 350 | K22: ='[1]сроки рассм'!K22/'[1]сроки рассм'!J22 -> 0 | L22: ='[1]сроки рассм'!L22/'[1]сроки рассм'!J22 -> 0 | M22: ='[1]сроки рассм'!M22/'[1]сроки рассм'!J22 -> 0 | N22: ='[1]сроки рассм'!N22/'[1]сроки рассм'!J22 -> 0 | O22: ='[1]сроки рассм'!O22/'[1]сроки рассм'!J22 -> 0 | P22: ='[1]сроки рассм'!P22/'[1]сроки рассм'!J22 -> 0 | Q22: =[1]ввод!K15 -> 1 | R22: ='[1]сроки рассм'!R22/'[1]сроки рассм'!Q22 -> 0 | S22: ='[1]сроки рассм'!S22/'[1]сроки рассм'!Q22 -> 0 | T22: ='[1]сроки рассм'!T22/'[1]сроки рассм'!Q22 -> 0 | U22: ='[1]сроки рассм'!U22/'[1]сроки рассм'!Q22 -> 0 | V22: ='[1]сроки рассм'!V22/'[1]сроки рассм'!Q22 -> 0 | W22: ='[1]сроки рассм'!W22/'[1]сроки рассм'!Q22 -> 0
A23: 14 | B23: кильмезский | C23: =[1]ввод!C16 -> 18 | D23: ='[1]сроки рассм'!D23/'[1]сроки рассм'!C23 -> 0 | E23: ='[1]сроки рассм'!E23/'[1]сроки рассм'!C23 -> 0.055555556 | F23: ='[1]сроки рассм'!F23/'[1]сроки рассм'!C23 -> 0 | G23: ='[1]сроки рассм'!G23/'[1]сроки рассм'!C23 -> 0 | H23: ='[1]сроки рассм'!H23/'[1]сроки рассм'!C23 -> 0 | I23: ='[1]сроки рассм'!I23/'[1]сроки рассм'!C23 -> 0 | J23: =[1]ввод!G16 -> 844 | K23: ='[1]сроки рассм'!K23/'[1]сроки рассм'!J23 -> 0 | L23: ='[1]сроки рассм'!L23/'[1]сроки рассм'!J23 -> 0 | M23: ='[1]сроки рассм'!M23/'[1]сроки рассм'!J23 -> 0 | N23: ='[1]сроки рассм'!N23/'[1]сроки рассм'!J23 -> 0 | O23: ='[1]сроки рассм'!O23/'[1]сроки рассм'!J23 -> 0 | P23: ='[1]сроки рассм'!P23/'[1]сроки рассм'!J23 -> 0 | Q23: =[1]ввод!K16 -> 0 | R23: ='[1]сроки рассм'!R23/'[1]сроки рассм'!Q23 -> #DIV/0! | S23: ='[1]сроки рассм'!S23/'[1]сроки рассм'!Q23 -> #DIV/0! | T23: ='[1]сроки рассм'!T23/'[1]сроки рассм'!Q23 -> #DIV/0! | U23: ='[1]сроки рассм'!U23/'[1]сроки рассм'!Q23 -> #DIV/0! | V23: ='[1]сроки рассм'!V23/'[1]сроки рассм'!Q23 -> #DIV/0! | W23: ='[1]сроки рассм'!W23/'[1]сроки рассм'!Q23 -> #DIV/0!
A24: 15 | B24: кирово-чепецкий | C24: =[1]ввод!C17 -> 4 | D24: ='[1]сроки рассм'!D24/'[1]сроки рассм'!C24 -> 0 | E24: ='[1]сроки рассм'!E24/'[1]сроки рассм'!C24 -> 0.25 | F24: ='[1]сроки рассм'!F24/'[1]сроки рассм'!C24 -> 0 | G24: ='[1]сроки рассм'!G24/'[1]сроки рассм'!C24 -> 0 | H24: ='[1]сроки рассм'!H24/'[1]сроки рассм'!C24 -> 0 | I24: ='[1]сроки рассм'!I24/'[1]сроки рассм'!C24 -> 0 | J24: =[1]ввод!G17 -> 1668 | K24: ='[1]сроки рассм'!K24/'[1]сроки рассм'!J24 -> 0 | L24: ='[1]сроки рассм'!L24/'[1]сроки рассм'!J24 -> 0 | M24: ='[1]сроки рассм'!M24/'[1]сроки рассм'!J24 -> 0.0011990408 | N24: ='[1]сроки рассм'!N24/'[1]сроки рассм'!J24 -> 0 | O24: ='[1]сроки рассм'!O24/'[1]сроки рассм'!J24 -> 0 | P24: ='[1]сроки рассм'!P24/'[1]сроки рассм'!J24 -> 0 | Q24: =[1]ввод!K17 -> 0 | R24: ='[1]сроки рассм'!R24/'[1]сроки рассм'!Q24 -> #DIV/0! | S24: ='[1]сроки рассм'!S24/'[1]сроки рассм'!Q24 -> #DIV/0! | T24: ='[1]сроки рассм'!T24/'[1]сроки рассм'!Q24 -> #DIV/0! | U24: ='[1]сроки рассм'!U24/'[1]сроки рассм'!Q24 -> #DIV/0! | V24: ='[1]сроки рассм'!V24/'[1]сроки рассм'!Q24 -> #DIV/0! | W24: ='[1]сроки рассм'!W24/'[1]сроки рассм'!Q24 -> #DIV/0!
A25: 16 | B25: кирово-чепецкий | C25: =[1]ввод!C18 -> 12 | D25: ='[1]сроки рассм'!D25/'[1]сроки рассм'!C25 -> 0 | E25: ='[1]сроки рассм'!E25/'[1]сроки рассм'!C25 -> 0.25 | F25: ='[1]сроки рассм'!F25/'[1]сроки рассм'!C25 -> 0.083333333 | G25: ='[1]сроки рассм'!G25/'[1]сроки рассм'!C25 -> 0 | H25: ='[1]сроки рассм'!H25/'[1]сроки рассм'!C25 -> 0 | I25: ='[1]сроки рассм'!I25/'[1]сроки рассм'!C25 -> 0 | J25: =[1]ввод!G18 -> 1652 | K25: ='[1]сроки рассм'!K25/'[1]сроки рассм'!J25 -> 0 | L25: ='[1]сроки рассм'!L25/'[1]сроки рассм'!J25 -> 0 | M25: ='[1]сроки рассм'!M25/'[1]сроки рассм'!J25 -> 0 | N25: ='[1]сроки рассм'!N25/'[1]сроки рассм'!J25 -> 0 | O25: ='[1]сроки рассм'!O25/'[1]сроки рассм'!J25 -> 0 | P25: ='[1]сроки рассм'!P25/'[1]сроки рассм'!J25 -> 0 | Q25: =[1]ввод!K18 -> 2 | R25: ='[1]сроки рассм'!R25/'[1]сроки рассм'!Q25 -> 0 | S25: ='[1]сроки рассм'!S25/'[1]сроки рассм'!Q25 -> 0 | T25: ='[1]сроки рассм'!T25/'[1]сроки рассм'!Q25 -> 0 | U25: ='[1]сроки рассм'!U25/'[1]сроки рассм'!Q25 -> 0 | V25: ='[1]сроки рассм'!V25/'[1]сроки рассм'!Q25 -> 0 | W25: ='[1]сроки рассм'!W25/'[1]сроки рассм'!Q25 -> 0
A26: 17 | B26: кирово-чепецкий | C26: =[1]ввод!C19 -> 2 | D26: ='[1]сроки рассм'!D26/'[1]сроки рассм'!C26 -> 0 | E26: ='[1]сроки рассм'!E26/'[1]сроки рассм'!C26 -> 0 | F26: ='[1]сроки рассм'!F26/'[1]сроки рассм'!C26 -> 0 | G26: ='[1]сроки рассм'!G26/'[1]сроки рассм'!C26 -> 0 | H26: ='[1]сроки рассм'!H26/'[1]сроки рассм'!C26 -> 0 | I26: ='[1]сроки рассм'!I26/'[1]сроки рассм'!C26 -> 0 | J26: =[1]ввод!G19 -> 1853 | K26: ='[1]сроки рассм'!K26/'[1]сроки рассм'!J26 -> 0 | L26: ='[1]сроки рассм'!L26/'[1]сроки рассм'!J26 -> 0 | M26: ='[1]сроки рассм'!M26/'[1]сроки рассм'!J26 -> 0 | N26: ='[1]сроки рассм'!N26/'[1]сроки рассм'!J26 -> 0 | O26: ='[1]сроки рассм'!O26/'[1]сроки рассм'!J26 -> 0 | P26: ='[1]сроки рассм'!P26/'[1]сроки рассм'!J26 -> 0 | Q26: =[1]ввод!K19 -> 0 | R26: ='[1]сроки рассм'!R26/'[1]сроки рассм'!Q26 -> #DIV/0! | S26: ='[1]сроки рассм'!S26/'[1]сроки рассм'!Q26 -> #DIV/0! | T26: ='[1]сроки рассм'!T26/'[1]сроки рассм'!Q26 -> #DIV/0! | U26: ='[1]сроки рассм'!U26/'[1]сроки рассм'!Q26 -> #DIV/0! | V26: ='[1]сроки рассм'!V26/'[1]сроки рассм'!Q26 -> #DIV/0! | W26: ='[1]сроки рассм'!W26/'[1]сроки рассм'!Q26 -> #DIV/0!
A27: 18 | B27: кирово-чепецкий | C27: =[1]ввод!C20 -> 5 | D27: ='[1]сроки рассм'!D27/'[1]сроки рассм'!C27 -> 0 | E27: ='[1]сроки рассм'!E27/'[1]сроки рассм'!C27 -> 0 | F27: ='[1]сроки рассм'!F27/'[1]сроки рассм'!C27 -> 0 | G27: ='[1]сроки рассм'!G27/'[1]сроки рассм'!C27 -> 0 | H27: ='[1]сроки рассм'!H27/'[1]сроки рассм'!C27 -> 0 | I27: ='[1]сроки рассм'!I27/'[1]сроки рассм'!C27 -> 0 | J27: =[1]ввод!G20 -> 1456 | K27: ='[1]сроки рассм'!K27/'[1]сроки рассм'!J27 -> 0 | L27: ='[1]сроки рассм'!L27/'[1]сроки рассм'!J27 -> 0 | M27: ='[1]сроки рассм'!M27/'[1]сроки рассм'!J27 -> 0 | N27: ='[1]сроки рассм'!N27/'[1]сроки рассм'!J27 -> 0 | O27: ='[1]сроки рассм'!O27/'[1]сроки рассм'!J27 -> 0 | P27: ='[1]сроки рассм'!P27/'[1]сроки рассм'!J27 -> 0 | Q27: =[1]ввод!K20 -> 0 | R27: ='[1]сроки рассм'!R27/'[1]сроки рассм'!Q27 -> #DIV/0! | S27: ='[1]сроки рассм'!S27/'[1]сроки рассм'!Q27 -> #DIV/0! | T27: ='[1]сроки рассм'!T27/'[1]сроки рассм'!Q27 -> #DIV/0! | U27: ='[1]сроки рассм'!U27/'[1]сроки рассм'!Q27 -> #DIV/0! | V27: ='[1]сроки рассм'!V27/'[1]сроки рассм'!Q27 -> #DIV/0! | W27: ='[1]сроки рассм'!W27/'[1]сроки рассм'!Q27 -> #DIV/0!
A28: 19 | B28: котельничский | C28: =[1]ввод!C21 -> 3 | D28: ='[1]сроки рассм'!D28/'[1]сроки рассм'!C28 -> 0 | E28: ='[1]сроки рассм'!E28/'[1]сроки рассм'!C28 -> 0 | F28: ='[1]сроки рассм'!F28/'[1]сроки рассм'!C28 -> 0 | G28: ='[1]сроки рассм'!G28/'[1]сроки рассм'!C28 -> 0 | H28: ='[1]сроки рассм'!H28/'[1]сроки рассм'!C28 -> 0 | I28: ='[1]сроки рассм'!I28/'[1]сроки рассм'!C28 -> 0 | J28: =[1]ввод!G21 -> 796 | K28: ='[1]сроки рассм'!K28/'[1]сроки рассм'!J28 -> 0 | L28: ='[1]сроки рассм'!L28/'[1]сроки рассм'!J28 -> 0 | M28: ='[1]сроки рассм'!M28/'[1]сроки рассм'!J28 -> 0 | N28: ='[1]сроки рассм'!N28/'[1]сроки рассм'!J28 -> 0 | O28: ='[1]сроки рассм'!O28/'[1]сроки рассм'!J28 -> 0 | P28: ='[1]сроки рассм'!P28/'[1]сроки рассм'!J28 -> 0 | Q28: =[1]ввод!K21 -> 0 | R28: ='[1]сроки рассм'!R28/'[1]сроки рассм'!Q28 -> #DIV/0! | S28: ='[1]сроки рассм'!S28/'[1]сроки рассм'!Q28 -> #DIV/0! | T28: ='[1]сроки рассм'!T28/'[1]сроки рассм'!Q28 -> #DIV/0! | U28: ='[1]сроки рассм'!U28/'[1]сроки рассм'!Q28 -> #DIV/0! | V28: ='[1]сроки рассм'!V28/'[1]сроки рассм'!Q28 -> #DIV/0! | W28: ='[1]сроки рассм'!W28/'[1]сроки рассм'!Q28 -> #DIV/0!
A29: 20 | B29: котельничский | C29: =[1]ввод!C22 -> 11 | D29: ='[1]сроки рассм'!D29/'[1]сроки рассм'!C29 -> 0 | E29: ='[1]сроки рассм'!E29/'[1]сроки рассм'!C29 -> 0 | F29: ='[1]сроки рассм'!F29/'[1]сроки рассм'!C29 -> 0 | G29: ='[1]сроки рассм'!G29/'[1]сроки рассм'!C29 -> 0 | H29: ='[1]сроки рассм'!H29/'[1]сроки рассм'!C29 -> 0 | I29: ='[1]сроки рассм'!I29/'[1]сроки рассм'!C29 -> 0 | J29: =[1]ввод!G22 -> 622 | K29: ='[1]сроки рассм'!K29/'[1]сроки рассм'!J29 -> 0 | L29: ='[1]сроки рассм'!L29/'[1]сроки рассм'!J29 -> 0.019292605 | M29: ='[1]сроки рассм'!M29/'[1]сроки рассм'!J29 -> 0 | N29: ='[1]сроки рассм'!N29/'[1]сроки рассм'!J29 -> 0 | O29: ='[1]сроки рассм'!O29/'[1]сроки рассм'!J29 -> 0 | P29: ='[1]сроки рассм'!P29/'[1]сроки рассм'!J29 -> 0 | Q29: =[1]ввод!K22 -> 1 | R29: ='[1]сроки рассм'!R29/'[1]сроки рассм'!Q29 -> 0 | S29: ='[1]сроки рассм'!S29/'[1]сроки рассм'!Q29 -> 0 | T29: ='[1]сроки рассм'!T29/'[1]сроки рассм'!Q29 -> 0 | U29: ='[1]сроки рассм'!U29/'[1]сроки рассм'!Q29 -> 0 | V29: ='[1]сроки рассм'!V29/'[1]сроки рассм'!Q29 -> 0 | W29: ='[1]сроки рассм'!W29/'[1]сроки рассм'!Q29 -> 0
A30: 21 | B30: куменский | C30: =[1]ввод!C23 -> 11 | D30: ='[1]сроки рассм'!D30/'[1]сроки рассм'!C30 -> 0 | E30: ='[1]сроки рассм'!E30/'[1]сроки рассм'!C30 -> 0.36363636 | F30: ='[1]сроки рассм'!F30/'[1]сроки рассм'!C30 -> 0.090909091 | G30: ='[1]сроки рассм'!G30/'[1]сроки рассм'!C30 -> 0 | H30: ='[1]сроки рассм'!H30/'[1]сроки рассм'!C30 -> 0 | I30: ='[1]сроки рассм'!I30/'[1]сроки рассм'!C30 -> 0 | J30: =[1]ввод!G23 -> 1140 | K30: ='[1]сроки рассм'!K30/'[1]сроки рассм'!J30 -> 0 | L30: ='[1]сроки рассм'!L30/'[1]сроки рассм'!J30 -> 0 | M30: ='[1]сроки рассм'!M30/'[1]сроки рассм'!J30 -> 0 | N30: ='[1]сроки рассм'!N30/'[1]сроки рассм'!J30 -> 0 | O30: ='[1]сроки рассм'!O30/'[1]сроки рассм'!J30 -> 0 | P30: ='[1]сроки рассм'!P30/'[1]сроки рассм'!J30 -> 0 | Q30: =[1]ввод!K23 -> 0 | R30: ='[1]сроки рассм'!R30/'[1]сроки рассм'!Q30 -> #DIV/0! | S30: ='[1]сроки рассм'!S30/'[1]сроки рассм'!Q30 -> #DIV/0! | T30: ='[1]сроки рассм'!T30/'[1]сроки рассм'!Q30 -> #DIV/0! | U30: ='[1]сроки рассм'!U30/'[1]сроки рассм'!Q30 -> #DIV/0! | V30: ='[1]сроки рассм'!V30/'[1]сроки рассм'!Q30 -> #DIV/0! | W30: ='[1]сроки рассм'!W30/'[1]сроки рассм'!Q30 -> #DIV/0!
... A50: 41 | B50: советский | C50: =[1]ввод!C43 -> 25 | D50: ='[1]сроки рассм'!D50/'[1]сроки рассм'!C50 -> 0 | E50: ='[1]сроки рассм'!E50/'[1]сроки рассм'!C50 -> 0.16 | F50: ='[1]сроки рассм'!F50/'[1]сроки рассм'!C50 -> 0.04 | G50: ='[1]сроки рассм'!G50/'[1]сроки рассм'!C50 -> 0 | H50: ='[1]сроки рассм'!H50/'[1]сроки рассм'!C50 -> 0 | I50: ='[1]сроки рассм'!I50/'[1]сроки рассм'!C50 -> 0 | J50: =[1]ввод!G43 -> 1132 | K50: ='[1]сроки рассм'!K50/'[1]сроки рассм'!J50 -> 0 | L50: ='[1]сроки рассм'!L50/'[1]сроки рассм'!J50 -> 0.0070671378 | M50: ='[1]сроки рассм'!M50/'[1]сроки рассм'!J50 -> 0 | N50: ='[1]сроки рассм'!N50/'[1]сроки рассм'!J50 -> 0 | O50: ='[1]сроки рассм'!O50/'[1]сроки рассм'!J50 -> 0 | P50: ='[1]сроки рассм'!P50/'[1]сроки рассм'!J50 -> 0 | Q50: =[1]ввод!K43 -> 0 | R50: ='[1]сроки рассм'!R50/'[1]сроки рассм'!Q50 -> #DIV/0! | S50: ='[1]сроки рассм'!S50/'[1]сроки рассм'!Q50 -> #DIV/0! | T50: ='[1]сроки рассм'!T50/'[1]сроки рассм'!Q50 -> #DIV/0! | U50: ='[1]сроки рассм'!U50/'[1]сроки рассм'!Q50 -> #DIV/0! | V50: ='[1]сроки рассм'!V50/'[1]сроки рассм'!Q50 -> #DIV/0! | W50: ='[1]сроки рассм'!W50/'[1]сроки рассм'!Q50 -> #DIV/0!
A51: 43 | B51: сунский | C51: =[1]ввод!C45 -> 9 | D51: ='[1]сроки рассм'!D51/'[1]сроки рассм'!C51 -> 0 | E51: ='[1]сроки рассм'!E51/'[1]сроки рассм'!C51 -> 0.11111111 | F51: ='[1]сроки рассм'!F51/'[1]сроки рассм'!C51 -> 0 | G51: ='[1]сроки рассм'!G51/'[1]сроки рассм'!C51 -> 0 | H51: ='[1]сроки рассм'!H51/'[1]сроки рассм'!C51 -> 0 | I51: ='[1]сроки рассм'!I51/'[1]сроки рассм'!C51 -> 0 | J51: =[1]ввод!G45 -> 299 | K51: ='[1]сроки рассм'!K51/'[1]сроки рассм'!J51 -> 0 | L51: ='[1]сроки рассм'!L51/'[1]сроки рассм'!J51 -> 0 | M51: ='[1]сроки рассм'!M51/'[1]сроки рассм'!J51 -> 0 | N51: ='[1]сроки рассм'!N51/'[1]сроки рассм'!J51 -> 0 | O51: ='[1]сроки рассм'!O51/'[1]сроки рассм'!J51 -> 0 | P51: ='[1]сроки рассм'!P51/'[1]сроки рассм'!J51 -> 0 | Q51: =[1]ввод!K45 -> 0 | R51: ='[1]сроки рассм'!R51/'[1]сроки рассм'!Q51 -> #DIV/0! | S51: ='[1]сроки рассм'!S51/'[1]сроки рассм'!Q51 -> #DIV/0! | T51: ='[1]сроки рассм'!T51/'[1]сроки рассм'!Q51 -> #DIV/0! | U51: ='[1]сроки рассм'!U51/'[1]сроки рассм'!Q51 -> #DIV/0! | V51: ='[1]сроки рассм'!V51/'[1]сроки рассм'!Q51 -> #DIV/0! | W51: ='[1]сроки рассм'!W51/'[1]сроки рассм'!Q51 -> #DIV/0!
A52: 44 | B52: тужинский | C52: =[1]ввод!C46 -> 2 | D52: ='[1]сроки рассм'!D52/'[1]сроки рассм'!C52 -> 0 | E52: ='[1]сроки рассм'!E52/'[1]сроки рассм'!C52 -> 0 | F52: ='[1]сроки рассм'!F52/'[1]сроки рассм'!C52 -> 0 | G52: ='[1]сроки рассм'!G52/'[1]сроки рассм'!C52 -> 0 | H52: ='[1]сроки рассм'!H52/'[1]сроки рассм'!C52 -> 0 | I52: ='[1]сроки рассм'!I52/'[1]сроки рассм'!C52 -> 0 | J52: =[1]ввод!G46 -> 237 | K52: ='[1]сроки рассм'!K52/'[1]сроки рассм'!J52 -> 0 | L52: ='[1]сроки рассм'!L52/'[1]сроки рассм'!J52 -> 0.0042194093 | M52: ='[1]сроки рассм'!M52/'[1]сроки рассм'!J52 -> 0.0042194093 | N52: ='[1]сроки рассм'!N52/'[1]сроки рассм'!J52 -> 0 | O52: ='[1]сроки рассм'!O52/'[1]сроки рассм'!J52 -> 0 | P52: ='[1]сроки рассм'!P52/'[1]сроки рассм'!J52 -> 0 | Q52: =[1]ввод!K46 -> 0 | R52: ='[1]сроки рассм'!R52/'[1]сроки рассм'!Q52 -> #DIV/0! | S52: ='[1]сроки рассм'!S52/'[1]сроки рассм'!Q52 -> #DIV/0! | T52: ='[1]сроки рассм'!T52/'[1]сроки рассм'!Q52 -> #DIV/0! | U52: ='[1]сроки рассм'!U52/'[1]сроки рассм'!Q52 -> #DIV/0! | V52: ='[1]сроки рассм'!V52/'[1]сроки рассм'!Q52 -> #DIV/0! | W52: ='[1]сроки рассм'!W52/'[1]сроки рассм'!Q52 -> #DIV/0!
A53: 45 | B53: унинский | C53: =[1]ввод!C47 -> 5 | D53: ='[1]сроки рассм'!D53/'[1]сроки рассм'!C53 -> 0 | E53: ='[1]сроки рассм'!E53/'[1]сроки рассм'!C53 -> 0 | F53: ='[1]сроки рассм'!F53/'[1]сроки рассм'!C53 -> 0 | G53: ='[1]сроки рассм'!G53/'[1]сроки рассм'!C53 -> 0 | H53: ='[1]сроки рассм'!H53/'[1]сроки рассм'!C53 -> 0 | I53: ='[1]сроки рассм'!I53/'[1]сроки рассм'!C53 -> 0 | J53: =[1]ввод!G47 -> 388 | K53: ='[1]сроки рассм'!K53/'[1]сроки рассм'!J53 -> 0 | L53: ='[1]сроки рассм'!L53/'[1]сроки рассм'!J53 -> 0 | M53: ='[1]сроки рассм'!M53/'[1]сроки рассм'!J53 -> 0 | N53: ='[1]сроки рассм'!N53/'[1]сроки рассм'!J53 -> 0 | O53: ='[1]сроки рассм'!O53/'[1]сроки рассм'!J53 -> 0 | P53: ='[1]сроки рассм'!P53/'[1]сроки рассм'!J53 -> 0 | Q53: =[1]ввод!K47 -> 0 | R53: ='[1]сроки рассм'!R53/'[1]сроки рассм'!Q53 -> #DIV/0! | S53: ='[1]сроки рассм'!S53/'[1]сроки рассм'!Q53 -> #DIV/0! | T53: ='[1]сроки рассм'!T53/'[1]сроки рассм'!Q53 -> #DIV/0! | U53: ='[1]сроки рассм'!U53/'[1]сроки рассм'!Q53 -> #DIV/0! | V53: ='[1]сроки рассм'!V53/'[1]сроки рассм'!Q53 -> #DIV/0! | W53: ='[1]сроки рассм'!W53/'[1]сроки рассм'!Q53 -> #DIV/0!
A54: 46 | B54: уржумский | C54: =[1]ввод!C48 -> 18 | D54: ='[1]сроки рассм'!D54/'[1]сроки рассм'!C54 -> 0 | E54: ='[1]сроки рассм'!E54/'[1]сроки рассм'!C54 -> 0.11111111 | F54: ='[1]сроки рассм'!F54/'[1]сроки рассм'!C54 -> 0 | G54: ='[1]сроки рассм'!G54/'[1]сроки рассм'!C54 -> 0 | H54: ='[1]сроки рассм'!H54/'[1]сроки рассм'!C54 -> 0 | I54: ='[1]сроки рассм'!I54/'[1]сроки рассм'!C54 -> 0 | J54: =[1]ввод!G48 -> 1429 | K54: ='[1]сроки рассм'!K54/'[1]сроки рассм'!J54 -> 0 | L54: ='[1]сроки рассм'!L54/'[1]сроки рассм'!J54 -> 0 | M54: ='[1]сроки рассм'!M54/'[1]сроки рассм'!J54 -> 0.00069979006 | N54: ='[1]сроки рассм'!N54/'[1]сроки рассм'!J54 -> 0 | O54: ='[1]сроки рассм'!O54/'[1]сроки рассм'!J54 -> 0 | P54: ='[1]сроки рассм'!P54/'[1]сроки рассм'!J54 -> 0 | Q54: =[1]ввод!K48 -> 0 | R54: ='[1]сроки рассм'!R54/'[1]сроки рассм'!Q54 -> #DIV/0! | S54: ='[1]сроки рассм'!S54/'[1]сроки рассм'!Q54 -> #DIV/0! | T54: ='[1]сроки рассм'!T54/'[1]сроки рассм'!Q54 -> #DIV/0! | U54: ='[1]сроки рассм'!U54/'[1]сроки рассм'!Q54 -> #DIV/0! | V54: ='[1]сроки рассм'!V54/'[1]сроки рассм'!Q54 -> #DIV/0! | W54: ='[1]сроки рассм'!W54/'[1]сроки рассм'!Q54 -> #DIV/0!
A55: 47 | B55: фаленский | C55: =[1]ввод!C49 -> 13 | D55: ='[1]сроки рассм'!D55/'[1]сроки рассм'!C55 -> 0 | E55: ='[1]сроки рассм'!E55/'[1]сроки рассм'!C55 -> 0 | F55: ='[1]сроки рассм'!F55/'[1]сроки рассм'!C55 -> 0 | G55: ='[1]сроки рассм'!G55/'[1]сроки рассм'!C55 -> 0 | H55: ='[1]сроки рассм'!H55/'[1]сроки рассм'!C55 -> 0 | I55: ='[1]сроки рассм'!I55/'[1]сроки рассм'!C55 -> 0 | J55: =[1]ввод!G49 -> 525 | K55: ='[1]сроки рассм'!K55/'[1]сроки рассм'!J55 -> 0 | L55: ='[1]сроки рассм'!L55/'[1]сроки рассм'!J55 -> 0 | M55: ='[1]сроки рассм'!M55/'[1]сроки рассм'!J55 -> 0 | N55: ='[1]сроки рассм'!N55/'[1]сроки рассм'!J55 -> 0 | O55: ='[1]сроки рассм'!O55/'[1]сроки рассм'!J55 -> 0 | P55: ='[1]сроки рассм'!P55/'[1]сроки рассм'!J55 -> 0 | Q55: =[1]ввод!K49 -> 0 | R55: ='[1]сроки рассм'!R55/'[1]сроки рассм'!Q55 -> #DIV/0! | S55: ='[1]сроки рассм'!S55/'[1]сроки рассм'!Q55 -> #DIV/0! | T55: ='[1]сроки рассм'!T55/'[1]сроки рассм'!Q55 -> #DIV/0! | U55: ='[1]сроки рассм'!U55/'[1]сроки рассм'!Q55 -> #DIV/0! | V55: ='[1]сроки рассм'!V55/'[1]сроки рассм'!Q55 -> #DIV/0! | W55: ='[1]сроки рассм'!W55/'[1]сроки рассм'!Q55 -> #DIV/0!
A56: 48 | B56: шабалинский | C56: =[1]ввод!C50 -> 6 | D56: ='[1]сроки рассм'!D56/'[1]сроки рассм'!C56 -> 0 | E56: ='[1]сроки рассм'!E56/'[1]сроки рассм'!C56 -> 0 | F56: ='[1]сроки рассм'!F56/'[1]сроки рассм'!C56 -> 0 | G56: ='[1]сроки рассм'!G56/'[1]сроки рассм'!C56 -> 0 | H56: ='[1]сроки рассм'!H56/'[1]сроки рассм'!C56 -> 0 | I56: ='[1]сроки рассм'!I56/'[1]сроки рассм'!C56 -> 0 | J56: =[1]ввод!G50 -> 447 | K56: ='[1]сроки рассм'!K56/'[1]сроки рассм'!J56 -> 0 | L56: ='[1]сроки рассм'!L56/'[1]сроки рассм'!J56 -> 0.0022371365 | M56: ='[1]сроки рассм'!M56/'[1]сроки рассм'!J56 -> 0.0044742729 | N56: ='[1]сроки рассм'!N56/'[1]сроки рассм'!J56 -> 0 | O56: ='[1]сроки рассм'!O56/'[1]сроки рассм'!J56 -> 0 | P56: ='[1]сроки рассм'!P56/'[1]сроки рассм'!J56 -> 0 | Q56: =[1]ввод!K50 -> 0 | R56: ='[1]сроки рассм'!R56/'[1]сроки рассм'!Q56 -> #DIV/0! | S56: ='[1]сроки рассм'!S56/'[1]сроки рассм'!Q56 -> #DIV/0! | T56: ='[1]сроки рассм'!T56/'[1]сроки рассм'!Q56 -> #DIV/0! | U56: ='[1]сроки рассм'!U56/'[1]сроки рассм'!Q56 -> #DIV/0! | V56: ='[1]сроки рассм'!V56/'[1]сроки рассм'!Q56 -> #DIV/0! | W56: ='[1]сроки рассм'!W56/'[1]сроки рассм'!Q56 -> #DIV/0!
A57: 49 | B57: юрьянский | C57: =[1]ввод!C51 -> 4 | D57: ='[1]сроки рассм'!D57/'[1]сроки рассм'!C57 -> 0 | E57: ='[1]сроки рассм'!E57/'[1]сроки рассм'!C57 -> 0 | F57: ='[1]сроки рассм'!F57/'[1]сроки рассм'!C57 -> 0 | G57: ='[1]сроки рассм'!G57/'[1]сроки рассм'!C57 -> 0 | H57: ='[1]сроки рассм'!H57/'[1]сроки рассм'!C57 -> 0 | I57: ='[1]сроки рассм'!I57/'[1]сроки рассм'!C57 -> 0 | J57: =[1]ввод!G51 -> 870 | K57: ='[1]сроки рассм'!K57/'[1]сроки рассм'!J57 -> 0 | L57: ='[1]сроки рассм'!L57/'[1]сроки рассм'!J57 -> 0.0057471264 | M57: ='[1]сроки рассм'!M57/'[1]сроки рассм'!J57 -> 0 | N57: ='[1]сроки рассм'!N57/'[1]сроки рассм'!J57 -> 0 | O57: ='[1]сроки рассм'!O57/'[1]сроки рассм'!J57 -> 0 | P57: ='[1]сроки рассм'!P57/'[1]сроки рассм'!J57 -> 0 | Q57: =[1]ввод!K51 -> 0 | R57: ='[1]сроки рассм'!R57/'[1]сроки рассм'!Q57 -> #DIV/0! | S57: ='[1]сроки рассм'!S57/'[1]сроки рассм'!Q57 -> #DIV/0! | T57: ='[1]сроки рассм'!T57/'[1]сроки рассм'!Q57 -> #DIV/0! | U57: ='[1]сроки рассм'!U57/'[1]сроки рассм'!Q57 -> #DIV/0! | V57: ='[1]сроки рассм'!V57/'[1]сроки рассм'!Q57 -> #DIV/0! | W57: ='[1]сроки рассм'!W57/'[1]сроки рассм'!Q57 -> #DIV/0!
A58: 50 | B58: юрьянский | C58: =[1]ввод!C52 -> 12 | D58: ='[1]сроки рассм'!D58/'[1]сроки рассм'!C58 -> 0 | E58: ='[1]сроки рассм'!E58/'[1]сроки рассм'!C58 -> 0.16666667 | F58: ='[1]сроки рассм'!F58/'[1]сроки рассм'!C58 -> 0 | G58: ='[1]сроки рассм'!G58/'[1]сроки рассм'!C58 -> 0 | H58: ='[1]сроки рассм'!H58/'[1]сроки рассм'!C58 -> 0 | I58: ='[1]сроки рассм'!I58/'[1]сроки рассм'!C58 -> 0 | J58: =[1]ввод!G52 -> 958 | K58: ='[1]сроки рассм'!K58/'[1]сроки рассм'!J58 -> 0 | L58: ='[1]сроки рассм'!L58/'[1]сроки рассм'!J58 -> 0 | M58: ='[1]сроки рассм'!M58/'[1]сроки рассм'!J58 -> 0 | N58: ='[1]сроки рассм'!N58/'[1]сроки рассм'!J58 -> 0 | O58: ='[1]сроки рассм'!O58/'[1]сроки рассм'!J58 -> 0 | P58: ='[1]сроки рассм'!P58/'[1]сроки рассм'!J58 -> 0 | Q58: =[1]ввод!K52 -> 0 | R58: ='[1]сроки рассм'!R58/'[1]сроки рассм'!Q58 -> #DIV/0! | S58: ='[1]сроки рассм'!S58/'[1]сроки рассм'!Q58 -> #DIV/0! | T58: ='[1]сроки рассм'!T58/'[1]сроки рассм'!Q58 -> #DIV/0! | U58: ='[1]сроки рассм'!U58/'[1]сроки рассм'!Q58 -> #DIV/0! | V58: ='[1]сроки рассм'!V58/'[1]сроки рассм'!Q58 -> #DIV/0! | W58: ='[1]сроки рассм'!W58/'[1]сроки рассм'!Q58 -> #DIV/0!
A59: 51 | B59: яранский | C59: =[1]ввод!C53 -> 13 | D59: ='[1]сроки рассм'!D59/'[1]сроки рассм'!C59 -> 0 | E59: ='[1]сроки рассм'!E59/'[1]сроки рассм'!C59 -> 0.076923077 | F59: ='[1]сроки рассм'!F59/'[1]сроки рассм'!C59 -> 0 | G59: ='[1]сроки рассм'!G59/'[1]сроки рассм'!C59 -> 0 | H59: ='[1]сроки рассм'!H59/'[1]сроки рассм'!C59 -> 0 | I59: ='[1]сроки рассм'!I59/'[1]сроки рассм'!C59 -> 0 | J59: =[1]ввод!G53 -> 1168 | K59: ='[1]сроки рассм'!K59/'[1]сроки рассм'!J59 -> 0 | L59: ='[1]сроки рассм'!L59/'[1]сроки рассм'!J59 -> 0.0025684932 | M59: ='[1]сроки рассм'!M59/'[1]сроки рассм'!J59 -> 0.0017123288 | N59: ='[1]сроки рассм'!N59/'[1]сроки рассм'!J59 -> 0 | O59: ='[1]сроки рассм'!O59/'[1]сроки рассм'!J59 -> 0 | P59: ='[1]сроки рассм'!P59/'[1]сроки рассм'!J59 -> 0 | Q59: =[1]ввод!K53 -> 2 | R59: ='[1]сроки рассм'!R59/'[1]сроки рассм'!Q59 -> 0 | S59: ='[1]сроки рассм'!S59/'[1]сроки рассм'!Q59 -> 0 | T59: ='[1]сроки рассм'!T59/'[1]сроки рассм'!Q59 -> 0 | U59: ='[1]сроки рассм'!U59/'[1]сроки рассм'!Q59 -> 0 | V59: ='[1]сроки рассм'!V59/'[1]сроки рассм'!Q59 -> 0 | W59: ='[1]сроки рассм'!W59/'[1]сроки рассм'!Q59 -> 0
A60: 52 | B60: ленинский | C60: =[1]ввод!C54 -> 2 | D60: ='[1]сроки рассм'!D60/'[1]сроки рассм'!C60 -> 0 | E60: ='[1]сроки рассм'!E60/'[1]сроки рассм'!C60 -> 0.5 | F60: ='[1]сроки рассм'!F60/'[1]сроки рассм'!C60 -> 0.5 | G60: ='[1]сроки рассм'!G60/'[1]сроки рассм'!C60 -> 0 | H60: ='[1]сроки рассм'!H60/'[1]сроки рассм'!C60 -> 0 | I60: ='[1]сроки рассм'!I60/'[1]сроки рассм'!C60 -> 0 | J60: =[1]ввод!G54 -> 2061 | K60: ='[1]сроки рассм'!K60/'[1]сроки рассм'!J60 -> 0 | L60: ='[1]сроки рассм'!L60/'[1]сроки рассм'!J60 -> 0.0038816109 | M60: ='[1]сроки рассм'!M60/'[1]сроки рассм'!J60 -> 0.00048520136 | N60: ='[1]сроки рассм'!N60/'[1]сроки рассм'!J60 -> 0 | O60: ='[1]сроки рассм'!O60/'[1]сроки рассм'!J60 -> 0 | P60: ='[1]сроки рассм'!P60/'[1]сроки рассм'!J60 -> 0 | Q60: =[1]ввод!K54 -> 3 | R60: ='[1]сроки рассм'!R60/'[1]сроки рассм'!Q60 -> 0 | S60: ='[1]сроки рассм'!S60/'[1]сроки рассм'!Q60 -> 0 | T60: ='[1]сроки рассм'!T60/'[1]сроки рассм'!Q60 -> 0 | U60: ='[1]сроки рассм'!U60/'[1]сроки рассм'!Q60 -> 0 | V60: ='[1]сроки рассм'!V60/'[1]сроки рассм'!Q60 -> 0 | W60: ='[1]сроки рассм'!W60/'[1]сроки рассм'!Q60 -> 0
A61: 53 | B61: ленинский | C61: =[1]ввод!C55 -> 16 | D61: ='[1]сроки рассм'!D61/'[1]сроки рассм'!C61 -> 0 | E61: ='[1]сроки рассм'!E61/'[1]сроки рассм'!C61 -> 0.125 | F61: ='[1]сроки рассм'!F61/'[1]сроки рассм'!C61 -> 0.0625 | G61: ='[1]сроки рассм'!G61/'[1]сроки рассм'!C61 -> 0 | H61: ='[1]сроки рассм'!H61/'[1]сроки рассм'!C61 -> 0 | I61: ='[1]сроки рассм'!I61/'[1]сроки рассм'!C61 -> 0 | J61: =[1]ввод!G55 -> 1797 | K61: ='[1]сроки рассм'!K61/'[1]сроки рассм'!J61 -> 0 | L61: ='[1]сроки рассм'!L61/'[1]сроки рассм'!J61 -> 0.0011129661 | M61: ='[1]сроки рассм'!M61/'[1]сроки рассм'!J61 -> 0.0011129661 | N61: ='[1]сроки рассм'!N61/'[1]сроки рассм'!J61 -> 0 | O61: ='[1]сроки рассм'!O61/'[1]сроки рассм'!J61 -> 0 | P61: ='[1]сроки рассм'!P61/'[1]сроки рассм'!J61 -> 0 | Q61: =[1]ввод!K55 -> 0 | R61: ='[1]сроки рассм'!R61/'[1]сроки рассм'!Q61 -> #DIV/0! | S61: ='[1]сроки рассм'!S61/'[1]сроки рассм'!Q61 -> #DIV/0! | T61: ='[1]сроки рассм'!T61/'[1]сроки рассм'!Q61 -> #DIV/0! | U61: ='[1]сроки рассм'!U61/'[1]сроки рассм'!Q61 -> #DIV/0! | V61: ='[1]сроки рассм'!V61/'[1]сроки рассм'!Q61 -> #DIV/0! | W61: ='[1]сроки рассм'!W61/'[1]сроки рассм'!Q61 -> #DIV/0!
A62: 54 | B62: ленинский | C62: =[1]ввод!C56 -> 13 | D62: ='[1]сроки рассм'!D62/'[1]сроки рассм'!C62 -> 0 | E62: ='[1]сроки рассм'!E62/'[1]сроки рассм'!C62 -> 0 | F62: ='[1]сроки рассм'!F62/'[1]сроки рассм'!C62 -> 0 | G62: ='[1]сроки рассм'!G62/'[1]сроки рассм'!C62 -> 0 | H62: ='[1]сроки рассм'!H62/'[1]сроки рассм'!C62 -> 0 | I62: ='[1]сроки рассм'!I62/'[1]сроки рассм'!C62 -> 0 | J62: =[1]ввод!G56 -> 1697 | K62: ='[1]сроки рассм'!K62/'[1]сроки рассм'!J62 -> 0 | L62: ='[1]сроки рассм'!L62/'[1]сроки рассм'!J62 -> 0 | M62: ='[1]сроки рассм'!M62/'[1]сроки рассм'!J62 -> 0 | N62: ='[1]сроки рассм'!N62/'[1]сроки рассм'!J62 -> 0 | O62: ='[1]сроки рассм'!O62/'[1]сроки рассм'!J62 -> 0 | P62: ='[1]сроки рассм'!P62/'[1]сроки рассм'!J62 -> 0 | Q62: =[1]ввод!K56 -> 0 | R62: ='[1]сроки рассм'!R62/'[1]сроки рассм'!Q62 -> #DIV/0! | S62: ='[1]сроки рассм'!S62/'[1]сроки рассм'!Q62 -> #DIV/0! | T62: ='[1]сроки рассм'!T62/'[1]сроки рассм'!Q62 -> #DIV/0! | U62: ='[1]сроки рассм'!U62/'[1]сроки рассм'!Q62 -> #DIV/0! | V62: ='[1]сроки рассм'!V62/'[1]сроки рассм'!Q62 -> #DIV/0! | W62: ='[1]сроки рассм'!W62/'[1]сроки рассм'!Q62 -> #DIV/0!
... A85: 77 | B85: слободской | C85: =[1]ввод!C79 -> 4 | D85: ='[1]сроки рассм'!D85/'[1]сроки рассм'!C85 -> 0 | E85: ='[1]сроки рассм'!E85/'[1]сроки рассм'!C85 -> 0 | F85: ='[1]сроки рассм'!F85/'[1]сроки рассм'!C85 -> 0 | G85: ='[1]сроки рассм'!G85/'[1]сроки рассм'!C85 -> 0 | H85: ='[1]сроки рассм'!H85/'[1]сроки рассм'!C85 -> 0 | I85: ='[1]сроки рассм'!I85/'[1]сроки рассм'!C85 -> 0 | J85: =[1]ввод!G79 -> 896 | K85: ='[1]сроки рассм'!K85/'[1]сроки рассм'!J85 -> 0 | L85: ='[1]сроки рассм'!L85/'[1]сроки рассм'!J85 -> 0.047991071 | M85: ='[1]сроки рассм'!M85/'[1]сроки рассм'!J85 -> 0 | N85: ='[1]сроки рассм'!N85/'[1]сроки рассм'!J85 -> 0 | O85: ='[1]сроки рассм'!O85/'[1]сроки рассм'!J85 -> 0 | P85: ='[1]сроки рассм'!P85/'[1]сроки рассм'!J85 -> 0 | Q85: =[1]ввод!K79 -> 0 | R85: ='[1]сроки рассм'!R85/'[1]сроки рассм'!Q85 -> #DIV/0! | S85: ='[1]сроки рассм'!S85/'[1]сроки рассм'!Q85 -> #DIV/0! | T85: ='[1]сроки рассм'!T85/'[1]сроки рассм'!Q85 -> #DIV/0! | U85: ='[1]сроки рассм'!U85/'[1]сроки рассм'!Q85 -> #DIV/0! | V85: ='[1]сроки рассм'!V85/'[1]сроки рассм'!Q85 -> #DIV/0! | W85: ='[1]сроки рассм'!W85/'[1]сроки рассм'!Q85 -> #DIV/0!
A86: 79 | B86: ленинский | C86: =[1]ввод!C81 -> 13 | D86: ='[1]сроки рассм'!D86/'[1]сроки рассм'!C86 -> 0 | E86: ='[1]сроки рассм'!E86/'[1]сроки рассм'!C86 -> 0.076923077 | F86: ='[1]сроки рассм'!F86/'[1]сроки рассм'!C86 -> 0 | G86: ='[1]сроки рассм'!G86/'[1]сроки рассм'!C86 -> 0 | H86: ='[1]сроки рассм'!H86/'[1]сроки рассм'!C86 -> 0 | I86: ='[1]сроки рассм'!I86/'[1]сроки рассм'!C86 -> 0 | J86: =[1]ввод!G81 -> 1338 | K86: ='[1]сроки рассм'!K86/'[1]сроки рассм'!J86 -> 0 | L86: ='[1]сроки рассм'!L86/'[1]сроки рассм'!J86 -> 0 | M86: ='[1]сроки рассм'!M86/'[1]сроки рассм'!J86 -> 0 | N86: ='[1]сроки рассм'!N86/'[1]сроки рассм'!J86 -> 0 | O86: ='[1]сроки рассм'!O86/'[1]сроки рассм'!J86 -> 0 | P86: ='[1]сроки рассм'!P86/'[1]сроки рассм'!J86 -> 0 | Q86: =[1]ввод!K81 -> 6 | R86: ='[1]сроки рассм'!R86/'[1]сроки рассм'!Q86 -> 0 | S86: ='[1]сроки рассм'!S86/'[1]сроки рассм'!Q86 -> 0 | T86: ='[1]сроки рассм'!T86/'[1]сроки рассм'!Q86 -> 0 | U86: ='[1]сроки рассм'!U86/'[1]сроки рассм'!Q86 -> 0 | V86: ='[1]сроки рассм'!V86/'[1]сроки рассм'!Q86 -> 0 | W86: ='[1]сроки рассм'!W86/'[1]сроки рассм'!Q86 -> 0
A87: 80 | B87: октябрьский | C87: =[1]ввод!C82 -> 12 | D87: ='[1]сроки рассм'!D87/'[1]сроки рассм'!C87 -> 0 | E87: ='[1]сроки рассм'!E87/'[1]сроки рассм'!C87 -> 0 | F87: ='[1]сроки рассм'!F87/'[1]сроки рассм'!C87 -> 0 | G87: ='[1]сроки рассм'!G87/'[1]сроки рассм'!C87 -> 0 | H87: ='[1]сроки рассм'!H87/'[1]сроки рассм'!C87 -> 0 | I87: ='[1]сроки рассм'!I87/'[1]сроки рассм'!C87 -> 0 | J87: =[1]ввод!G82 -> 1663 | K87: ='[1]сроки рассм'!K87/'[1]сроки рассм'!J87 -> 0 | L87: ='[1]сроки рассм'!L87/'[1]сроки рассм'!J87 -> 0.0078171978 | M87: ='[1]сроки рассм'!M87/'[1]сроки рассм'!J87 -> 0.00060132291 | N87: ='[1]сроки рассм'!N87/'[1]сроки рассм'!J87 -> 0 | O87: ='[1]сроки рассм'!O87/'[1]сроки рассм'!J87 -> 0 | P87: ='[1]сроки рассм'!P87/'[1]сроки рассм'!J87 -> 0 | Q87: =[1]ввод!K82 -> 1 | R87: ='[1]сроки рассм'!R87/'[1]сроки рассм'!Q87 -> 0 | S87: ='[1]сроки рассм'!S87/'[1]сроки рассм'!Q87 -> 0 | T87: ='[1]сроки рассм'!T87/'[1]сроки рассм'!Q87 -> 0 | U87: ='[1]сроки рассм'!U87/'[1]сроки рассм'!Q87 -> 0 | V87: ='[1]сроки рассм'!V87/'[1]сроки рассм'!Q87 -> 0 | W87: ='[1]сроки рассм'!W87/'[1]сроки рассм'!Q87 -> 0
A88: 42 | B88: ленинский | C88: =[1]ввод!C83 -> 16 | D88: ='[1]сроки рассм'!D88/'[1]сроки рассм'!C88 -> 0 | E88: ='[1]сроки рассм'!E88/'[1]сроки рассм'!C88 -> 0 | F88: ='[1]сроки рассм'!F88/'[1]сроки рассм'!C88 -> 0.1875 | G88: ='[1]сроки рассм'!G88/'[1]сроки рассм'!C88 -> 0 | H88: ='[1]сроки рассм'!H88/'[1]сроки рассм'!C88 -> 0 | I88: ='[1]сроки рассм'!I88/'[1]сроки рассм'!C88 -> 0 | J88: =[1]ввод!G83 -> 2736 | K88: ='[1]сроки рассм'!K88/'[1]сроки рассм'!J88 -> 0 | L88: ='[1]сроки рассм'!L88/'[1]сроки рассм'!J88 -> 0.0062134503 | M88: ='[1]сроки рассм'!M88/'[1]сроки рассм'!J88 -> 0.0010964912 | N88: ='[1]сроки рассм'!N88/'[1]сроки рассм'!J88 -> 0 | O88: ='[1]сроки рассм'!O88/'[1]сроки рассм'!J88 -> 0 | P88: ='[1]сроки рассм'!P88/'[1]сроки рассм'!J88 -> 0 | Q88: =[1]ввод!K83 -> 0 | R88: ='[1]сроки рассм'!R88/'[1]сроки рассм'!Q88 -> #DIV/0! | S88: ='[1]сроки рассм'!S88/'[1]сроки рассм'!Q88 -> #DIV/0! | T88: ='[1]сроки рассм'!T88/'[1]сроки рассм'!Q88 -> #DIV/0! | U88: ='[1]сроки рассм'!U88/'[1]сроки рассм'!Q88 -> #DIV/0! | V88: ='[1]сроки рассм'!V88/'[1]сроки рассм'!Q88 -> #DIV/0! | W88: ='[1]сроки рассм'!W88/'[1]сроки рассм'!Q88 -> #DIV/0!
A89: 9 | B89: первомайский | C89: =[1]ввод!C84 -> 21 | D89: ='[1]сроки рассм'!D89/'[1]сроки рассм'!C89 -> 0 | E89: ='[1]сроки рассм'!E89/'[1]сроки рассм'!C89 -> 0.28571429 | F89: ='[1]сроки рассм'!F89/'[1]сроки рассм'!C89 -> 0.047619048 | G89: ='[1]сроки рассм'!G89/'[1]сроки рассм'!C89 -> 0 | H89: ='[1]сроки рассм'!H89/'[1]сроки рассм'!C89 -> 0 | I89: ='[1]сроки рассм'!I89/'[1]сроки рассм'!C89 -> 0 | J89: =[1]ввод!G84 -> 1917 | K89: ='[1]сроки рассм'!K89/'[1]сроки рассм'!J89 -> 0 | L89: ='[1]сроки рассм'!L89/'[1]сроки рассм'!J89 -> 0.002608242 | M89: ='[1]сроки рассм'!M89/'[1]сроки рассм'!J89 -> 0 | N89: ='[1]сроки рассм'!N89/'[1]сроки рассм'!J89 -> 0 | O89: ='[1]сроки рассм'!O89/'[1]сроки рассм'!J89 -> 0 | P89: ='[1]сроки рассм'!P89/'[1]сроки рассм'!J89 -> 0 | Q89: =[1]ввод!K84 -> 0 | R89: ='[1]сроки рассм'!R89/'[1]сроки рассм'!Q89 -> #DIV/0! | S89: ='[1]сроки рассм'!S89/'[1]сроки рассм'!Q89 -> #DIV/0! | T89: ='[1]сроки рассм'!T89/'[1]сроки рассм'!Q89 -> #DIV/0! | U89: ='[1]сроки рассм'!U89/'[1]сроки рассм'!Q89 -> #DIV/0! | V89: ='[1]сроки рассм'!V89/'[1]сроки рассм'!Q89 -> #DIV/0! | W89: ='[1]сроки рассм'!W89/'[1]сроки рассм'!Q89 -> #DIV/0!
A90: 78 | B90: октябрьский | C90: =[1]ввод!C85 -> 10 | D90: ='[1]сроки рассм'!D90/'[1]сроки рассм'!C90 -> 0 | E90: ='[1]сроки рассм'!E90/'[1]сроки рассм'!C90 -> 0 | F90: ='[1]сроки рассм'!F90/'[1]сроки рассм'!C90 -> 0 | G90: ='[1]сроки рассм'!G90/'[1]сроки рассм'!C90 -> 0 | H90: ='[1]сроки рассм'!H90/'[1]сроки рассм'!C90 -> 0 | I90: ='[1]сроки рассм'!I90/'[1]сроки рассм'!C90 -> 0 | J90: =[1]ввод!G85 -> 1693 | K90: ='[1]сроки рассм'!K90/'[1]сроки рассм'!J90 -> 0 | L90: ='[1]сроки рассм'!L90/'[1]сроки рассм'!J90 -> 0 | M90: ='[1]сроки рассм'!M90/'[1]сроки рассм'!J90 -> 0 | N90: ='[1]сроки рассм'!N90/'[1]сроки рассм'!J90 -> 0 | O90: ='[1]сроки рассм'!O90/'[1]сроки рассм'!J90 -> 0 | P90: ='[1]сроки рассм'!P90/'[1]сроки рассм'!J90 -> 0 | Q90: =[1]ввод!K85 -> 0 | R90: ='[1]сроки рассм'!R90/'[1]сроки рассм'!Q90 -> #DIV/0! | S90: ='[1]сроки рассм'!S90/'[1]сроки рассм'!Q90 -> #DIV/0! | T90: ='[1]сроки рассм'!T90/'[1]сроки рассм'!Q90 -> #DIV/0! | U90: ='[1]сроки рассм'!U90/'[1]сроки рассм'!Q90 -> #DIV/0! | V90: ='[1]сроки рассм'!V90/'[1]сроки рассм'!Q90 -> #DIV/0! | W90: ='[1]сроки рассм'!W90/'[1]сроки рассм'!Q90 -> #DIV/0!
A91: Итого по области | C91: =SUM(C11:C90) -> 852 | D91: ='[1]сроки рассм'!D91/'[1]сроки рассм'!C91 -> 0 | E91: ='[1]сроки рассм'!E91/'[1]сроки рассм'!C91 -> 0.1314554 | F91: ='[1]сроки рассм'!F91/'[1]сроки рассм'!C91 -> 0.029342723 | G91: ='[1]сроки рассм'!G91/'[1]сроки рассм'!C91 -> 0.0011737089 | H91: ='[1]сроки рассм'!H91/'[1]сроки рассм'!C91 -> 0 | I91: ='[1]сроки рассм'!I91/'[1]сроки рассм'!C91 -> 0 | J91: =SUM(J11:J90) -> 94402 | K91: ='[1]сроки рассм'!K91/'[1]сроки рассм'!J91 -> 0 | L91: ='[1]сроки рассм'!L91/'[1]сроки рассм'!J91 -> 0.0096502193 | M91: ='[1]сроки рассм'!M91/'[1]сроки рассм'!J91 -> 0.00070973073 | N91: ='[1]сроки рассм'!N91/'[1]сроки рассм'!J91 -> 0 | O91: ='[1]сроки рассм'!O91/'[1]сроки рассм'!J91 -> 1.0592996e-05 | P91: ='[1]сроки рассм'!P91/'[1]сроки рассм'!J91 -> 0 | Q91: =SUM(Q11:Q90) -> 50 | R91: ='[1]сроки рассм'!R91/'[1]сроки рассм'!Q91 -> 0 | S91: ='[1]сроки рассм'!S91/'[1]сроки рассм'!Q91 -> 0 | T91: ='[1]сроки рассм'!T91/'[1]сроки рассм'!Q91 -> 0 | U91: ='[1]сроки рассм'!U91/'[1]сроки рассм'!Q91 -> 0 | V91: ='[1]сроки рассм'!V91/'[1]сроки рассм'!Q91 -> 0 | W91: ='[1]сроки рассм'!W91/'[1]сроки рассм'!Q91 -> 0
