Workbook

Sheet пост
A1: Сведения по судебным участкам Кировской области
A2: о нагрузке по поступившим уголовным, гражданским (административным) делам и делам об административных правонарушениях за 6 месяцев 2026 года
A3: № участка | B3: Муниципальный район (округ)Кировской области/район г.Кирова | C3: коэффициент нагрузки | D3: поступило дел
D5: уголовных | F5: гражданских | H5: административных | J5: об админ. правонарушениях | L5: средне-месячная нагрузка
D6: поступило | E6: на 1 судью в месяц | F6: поступило | G6: на 1 судью в месяц | H6: поступило | I6: на 1 судью в месяц | J6: поступило | K6: на 1 судью в месяц
A10: 1 | B10: 2 | D10: 3 | E10: 4 | F10: 5 | G10: 6 | H10: 7 | I10: 8 | J10: 9 | K10: 10 | L10: 11
A11: 5 | B11: верхнекамский | C11: 5.12 | D11: =[1]ввод!B7 -> 10 | E11: =D11/C11 -> 1.953125 | F11: =[1]ввод!F7 -> 1152 | G11: =F11/C11 -> 225 | H11: =[1]ввод!J7 -> 1 | I11: =H11/C11 -> 0.1953125 | J11: =[1]ввод!N7 -> 241 | K11: =J11/C11 -> 47.070312 | L11: =E11+G11+I11+K11 -> 274.21875
A12: 6 | B12: верхнекамский | C12: 5.12 | D12: =[1]ввод!B8 -> 4 | E12: =D12/C12 -> 0.78125 | F12: =[1]ввод!F8 -> 502 | G12: =F12/C12 -> 98.046875 | H12: =[1]ввод!J8 -> 0 | I12: =H12/C12 -> 0 | J12: =[1]ввод!N8 -> 98 | K12: =J12/C12 -> 19.140625 | L12: =E12+G12+I12+K12 -> 117.96875
A13: Итого по Верхнекамскому району | C13: 5.12 | D13: =D11+D12 -> 14 | E13: =D13/C13/COUNT(C11:C12) -> 1.3671875 | F13: =F11+F12 -> 1654 | G13: =F13/C13/COUNT(C11:C12) -> 161.52344 | H13: =H11+H12 -> 1 | I13: =H13/C13/COUNT(C11:C12) -> 0.09765625 | J13: =J11+J12 -> 339 | K13: =J13/C13/COUNT(C11:C12) -> 33.105469 | L13: =E13+G13+I13+K13 -> 196.09375
A14: 8 | B14: вятскополянский | C14: 5.12 | D14: =[1]ввод!B10 -> 13 | E14: =D14/C14 -> 2.5390625 | F14: =[1]ввод!F10 -> 1207 | G14: =F14/C14 -> 235.74219 | H14: =[1]ввод!J10 -> 0 | I14: =H14/C14 -> 0 | J14: =[1]ввод!N10 -> 309 | K14: =J14/C14 -> 60.351562 | L14: =E14+G14+I14+K14 -> 298.63281
A15: 10 | B15: вятскополянский | C15: 5.12 | D15: =[1]ввод!B12 -> 10 | E15: =D15/C15 -> 1.953125 | F15: =[1]ввод!F12 -> 1315 | G15: =F15/C15 -> 256.83594 | H15: =[1]ввод!J12 -> 1 | I15: =H15/C15 -> 0.1953125 | J15: =[1]ввод!N12 -> 212 | K15: =J15/C15 -> 41.40625 | L15: =E15+G15+I15+K15 -> 300.39062
A16: 73 | B16: вятскополянский | C16: 5.12 | D16: =[1]ввод!B75 -> 8 | E16: =D16/C16 -> 1.5625 | F16: =[1]ввод!F75 -> 1172 | G16: =F16/C16 -> 228.90625 | H16: =[1]ввод!J75 -> 1 | I16: =H16/C16 -> 0.1953125 | J16: =[1]ввод!N75 -> 219 | K16: =J16/C16 -> 42.773438 | L16: =E16+G16+I16+K16 -> 273.4375
A17: Итого по Вятскополянскому району | C17: 5.12 | D17: =SUM(D14:D16) -> 31 | E17: =D17/C17/COUNT(C14:C16) -> 2.0182292 | F17: =SUM(F14:F16) -> 3694 | G17: =F17/C17/COUNT(C14:C16) -> 240.49479 | H17: =SUM(H14:H16) -> 2 | I17: =H17/C17/COUNT(C14:C16) -> 0.13020833 | J17: =SUM(J14:J16) -> 740 | K17: =J17/C17/COUNT(C14:C16) -> 48.177083 | L17: =E17+G17+I17+K17 -> 290.82031
A18: 12 | B18: зуевский | C18: 5.12 | D18: =[1]ввод!B14 -> 17 | E18: =D18/C18 -> 3.3203125 | F18: =[1]ввод!F14 -> 1937 | G18: =F18/C18 -> 378.32031 | H18: =[1]ввод!J14 -> 0 | I18: =H18/C18 -> 0 | J18: =[1]ввод!N14 -> 432 | K18: =J18/C18 -> 84.375 | L18: =E18+G18+I18+K18 -> 466.01562
A19: 47 | B19: фаленский | C19: 5.12 | D19: =[1]ввод!B49 -> 13 | E19: =D19/C19 -> 2.5390625 | F19: =[1]ввод!F49 -> 524 | G19: =F19/C19 -> 102.34375 | H19: =[1]ввод!J49 -> 0 | I19: =H19/C19 -> 0 | J19: =[1]ввод!N49 -> 165 | K19: =J19/C19 -> 32.226562 | L19: =E19+G19+I19+K19 -> 137.10938
A20: Итого по Зуевскому району | C20: 5.12 | D20: =D18+D19 -> 30 | E20: =D20/C20/COUNT(C18:C19) -> 2.9296875 | F20: =F18+F19 -> 2461 | G20: =F20/C20/COUNT(C18:C19) -> 240.33203 | H20: =H18+H19 -> 0 | I20: =H20/C20/COUNT(C18:C19) -> 0 | J20: =J18+J19 -> 597 | K20: =J20/C20/COUNT(C18:C19) -> 58.300781 | L20: =E20+G20+I20+K20 -> 301.5625
A21: 15 | B21: кирово-чепецкий | C21: 5.12 | D21: =[1]ввод!B17 -> 7 | E21: =D21/C21 -> 1.3671875 | F21: =[1]ввод!F17 -> 1664 | G21: =F21/C21 -> 325 | H21: =[1]ввод!J17 -> 0 | I21: =H21/C21 -> 0 | J21: =[1]ввод!N17 -> 324 | K21: =J21/C21 -> 63.28125 | L21: =E21+G21+I21+K21 -> 389.64844
A22: 16 | B22: кирово-чепецкий | C22: 5.12 | D22: =[1]ввод!B18 -> 10 | E22: =D22/C22 -> 1.953125 | F22: =[1]ввод!F18 -> 1651 | G22: =F22/C22 -> 322.46094 | H22: =[1]ввод!J18 -> 2 | I22: =H22/C22 -> 0.390625 | J22: =[1]ввод!N18 -> 251 | K22: =J22/C22 -> 49.023438 | L22: =E22+G22+I22+K22 -> 373.82812
A23: 17 | B23: кирово-чепецкий | C23: 5.12 | D23: =[1]ввод!B19 -> 4 | E23: =D23/C23 -> 0.78125 | F23: =[1]ввод!F19 -> 1859 | G23: =F23/C23 -> 363.08594 | H23: =[1]ввод!J19 -> 0 | I23: =H23/C23 -> 0 | J23: =[1]ввод!N19 -> 237 | K23: =J23/C23 -> 46.289062 | L23: =E23+G23+I23+K23 -> 410.15625
A24: 18 | B24: кирово-чепецкий | C24: 5.12 | D24: =[1]ввод!B20 -> 7 | E24: =D24/C24 -> 1.3671875 | F24: =[1]ввод!F20 -> 1479 | G24: =F24/C24 -> 288.86719 | H24: =[1]ввод!J20 -> 0 | I24: =H24/C24 -> 0 | J24: =[1]ввод!N20 -> 527 | K24: =J24/C24 -> 102.92969 | L24: =E24+G24+I24+K24 -> 393.16406
A25: 74 | B25: кирово-чепецкий | C25: 5.12 | D25: =[1]ввод!B76 -> 17 | E25: =D25/C25 -> 3.3203125 | F25: =[1]ввод!F76 -> 1393 | G25: =F25/C25 -> 272.07031 | H25: =[1]ввод!J76 -> 1 | I25: =H25/C25 -> 0.1953125 | J25: =[1]ввод!N76 -> 268 | K25: =J25/C25 -> 52.34375 | L25: =E25+G25+I25+K25 -> 327.92969
A26: Итого по Кирово-Чепецкому району | C26: 5.12 | D26: =D21+D22+D23+D24+D25 -> 45 | E26: =D26/C26/COUNT(C21:C25) -> 1.7578125 | F26: =F21+F22+F23+F24+F25 -> 8046 | G26: =F26/C26/COUNT(C21:C25) -> 314.29688 | H26: =H21+H22+H23+H24+H25 -> 3 | I26: =H26/C26/COUNT(C21:C25) -> 0.1171875 | J26: =J21+J22+J23+J24+J25 -> 1607 | K26: =J26/C26/COUNT(C21:C25) -> 62.773438 | L26: =E26+G26+I26+K26 -> 378.94531
A27: 19 | B27: котельничский | C27: 5.12 | D27: =[1]ввод!B21 -> 5 | E27: =D27/C27 -> 0.9765625 | F27: =[1]ввод!F21 -> 793 | G27: =F27/C27 -> 154.88281 | H27: =[1]ввод!J21 -> 0 | I27: =H27/C27 -> 0 | J27: =[1]ввод!N21 -> 149 | K27: =J27/C27 -> 29.101562 | L27: =E27+G27+I27+K27 -> 184.96094
A28: 20 | B28: котельничский | C28: 5.12 | D28: =[1]ввод!B22 -> 12 | E28: =D28/C28 -> 2.34375 | F28: =[1]ввод!F22 -> 624 | G28: =F28/C28 -> 121.875 | H28: =[1]ввод!J22 -> 1 | I28: =H28/C28 -> 0.1953125 | J28: =[1]ввод!N22 -> 148 | K28: =J28/C28 -> 28.90625 | L28: =E28+G28+I28+K28 -> 153.32031
A29: 75 | B29: котельничский | C29: 5.12 | D29: =[1]ввод!B77 -> 10 | E29: =D29/C29 -> 1.953125 | F29: =[1]ввод!F77 -> 961 | G29: =F29/C29 -> 187.69531 | H29: =[1]ввод!J77 -> 0 | I29: =H29/C29 -> 0 | J29: =[1]ввод!N77 -> 177 | K29: =J29/C29 -> 34.570312 | L29: =E29+G29+I29+K29 -> 224.21875
A30: 11 | B30: даровской | C30: 5.12 | D30: =[1]ввод!B13 -> 5 | E30: =D30/C30 -> 0.9765625 | F30: =[1]ввод!F13 -> 478 | G30: =F30/C30 -> 93.359375 | H30: =[1]ввод!J13 -> 0 | I30: =H30/C30 -> 0 | J30: =[1]ввод!N13 -> 130 | K30: =J30/C30 -> 25.390625 | L30: =E30+G30+I30+K30 -> 119.72656
A31: 32 | B31: орловский | C31: 5.12 | D31: =[1]ввод!B34 -> 7 | E31: =D31/C31 -> 1.3671875 | F31: =[1]ввод!F34 -> 521 | G31: =F31/C31 -> 101.75781 | H31: =[1]ввод!J34 -> 1 | I31: =H31/C31 -> 0.1953125 | J31: =[1]ввод!N34 -> 187 | K31: =J31/C31 -> 36.523438 | L31: =E31+G31+I31+K31 -> 139.84375
A32: Итого по Котельничскому району | C32: 5.12 | D32: =SUM(D27:D31) -> 39 | E32: =D32/C32/COUNT(C27:C31) -> 1.5234375 | F32: =SUM(F27:F31) -> 3377 | G32: =F32/C32/COUNT(C27:C31) -> 131.91406 | H32: =SUM(H27:H31) -> 2 | I32: =H32/C32/COUNT(C27:C31) -> 0.078125 | J32: =SUM(J27:J31) -> 791 | K32: =J32/C32/COUNT(C27:C31) -> 30.898438 | L32: =E32+G32+I32+K32 -> 164.41406
A33: 21 | B33: Куменский | C33: 5.12 | D33: =[1]ввод!B23 -> 12 | E33: =D33/C33 -> 2.34375 | F33: =[1]ввод!F23 -> 1149 | G33: =F33/C33 -> 224.41406 | H33: =[1]ввод!J23 -> 0 | I33: =H33/C33 -> 0 | J33: =[1]ввод!N23 -> 193 | K33: =J33/C33 -> 37.695312 | L33: =E33+G33+I33+K33 -> 264.45312
A34: 23 | B34: Лузский | C34: 5.12 | D34: =[1]ввод!B25 -> 13 | E34: =D34/C34 -> 2.5390625 | F34: =[1]ввод!F25 -> 1153 | G34: =F34/C34 -> 225.19531 | H34: =[1]ввод!J25 -> 0 | I34: =H34/C34 -> 0 | J34: =[1]ввод!N25 -> 340 | K34: =J34/C34 -> 66.40625 | L34: =E34+G34+I34+K34 -> 294.14062
A35: 24 | B35: малмыжский | C35: 5.12 | D35: =[1]ввод!B26 -> 23 | E35: =D35/C35 -> 4.4921875 | F35: =[1]ввод!F26 -> 1533 | G35: =F35/C35 -> 299.41406 | H35: =[1]ввод!J26 -> 0 | I35: =H35/C35 -> 0 | J35: =[1]ввод!N26 -> 244 | K35: =J35/C35 -> 47.65625 | L35: =E35+G35+I35+K35 -> 351.5625
A36: 14 | B36: кильмезский | C36: 5.12 | D36: =[1]ввод!B16 -> 22 | E36: =D36/C36 -> 4.296875 | F36: =[1]ввод!F16 -> 847 | G36: =F36/C36 -> 165.42969 | H36: =[1]ввод!J16 -> 0 | I36: =H36/C36 -> 0 | J36: =[1]ввод!N16 -> 135 | K36: =J36/C36 -> 26.367188 | L36: =E36+G36+I36+K36 -> 196.09375
A37: Итого по Малмыжскому району | C37: 5.12 | D37: =D35+D36 -> 45 | E37: =D37/C37/COUNT(C35:C36) -> 4.3945312 | F37: =F35+F36 -> 2380 | G37: =F37/C37/COUNT(C35:C36) -> 232.42188 | H37: =H35+H36 -> 0 | I37: =H37/C37/COUNT(C35:C36) -> 0 | J37: =J35+J36 -> 379 | K37: =J37/C37/COUNT(C35:C36) -> 37.011719 | L37: =E37+G37+I37+K37 -> 273.82812
A38: 25 | B38: мурашинский | C38: 5.12 | D38: =[1]ввод!B27 -> 11 | E38: =D38/C38 -> 2.1484375 | F38: =[1]ввод!F27 -> 755 | G38: =F38/C38 -> 147.46094 | H38: =[1]ввод!J27 -> 0 | I38: =H38/C38 -> 0 | J38: =[1]ввод!N27 -> 210 | K38: =J38/C38 -> 41.015625 | L38: =E38+G38+I38+K38 -> 190.625
A39: 31 | B39: опаринский | C39: 5.12 | D39: =[1]ввод!B33 -> 7 | E39: =D39/C39 -> 1.3671875 | F39: =[1]ввод!F33 -> 578 | G39: =F39/C39 -> 112.89062 | H39: =[1]ввод!J33 -> 0 | I39: =H39/C39 -> 0 | J39: =[1]ввод!N33 -> 120 | K39: =J39/C39 -> 23.4375 | L39: =E39+G39+I39+K39 -> 137.69531
A40: Итого по Мурашинскому району | C40: 5.12 | D40: =D38+D39 -> 18 | E40: =D40/C40/COUNT(C38:C39) -> 1.7578125 | F40: =F38+F39 -> 1333 | G40: =F40/C40/COUNT(C38:C39) -> 130.17578 | H40: =H38+H39 -> 0 | I40: =H40/C40/COUNT(C38:C39) -> 0 | J40: =J38+J39 -> 330 | K40: =J40/C40/COUNT(C38:C39) -> 32.226562 | L40: =E40+G40+I40+K40 -> 164.16016
A41: 27 | B41: немский | C41: 5.12 | D41: =[1]ввод!B29 -> 9 | E41: =D41/C41 -> 1.7578125 | F41: =[1]ввод!F29 -> 348 | G41: =F41/C41 -> 67.96875 | H41: =[1]ввод!J29 -> 1 | I41: =H41/C41 -> 0.1953125 | J41: =[1]ввод!N29 -> 117 | K41: =J41/C41 -> 22.851562 | L41: =E41+G41+I41+K41 -> 92.773438
A42: 28 | B42: нолинский | C42: 5.12 | D42: =[1]ввод!B30 -> 15 | E42: =D42/C42 -> 2.9296875 | F42: =[1]ввод!F30 -> 1188 | G42: =F42/C42 -> 232.03125 | H42: =[1]ввод!J30 -> 0 | I42: =H42/C42 -> 0 | J42: =[1]ввод!N30 -> 195 | K42: =J42/C42 -> 38.085938 | L42: =E42+G42+I42+K42 -> 273.04688
A43: 43 | B43: сунский | C43: 5.12 | D43: =[1]ввод!B45 -> 11 | E43: =D43/C43 -> 2.1484375 | F43: =[1]ввод!F45 -> 299 | G43: =F43/C43 -> 58.398438 | H43: =[1]ввод!J45 -> 0 | I43: =H43/C43 -> 0 | J43: =[1]ввод!N45 -> 162 | K43: =J43/C43 -> 31.640625 | L43: =E43+G43+I43+K43 -> 92.1875
A44: Итого по Нолинскому району | C44: 5.12 | D44: =D41+D42+D43 -> 35 | E44: =D44/C44/COUNT(C41:C43) -> 2.2786458 | F44: =F41+F42+F43 -> 1835 | G44: =F44/C44/COUNT(C41:C43) -> 119.46615 | H44: =H41+H42+H43 -> 1 | I44: =H44/C44/COUNT(C41:C43) -> 0.065104167 | J44: =J41+J42+J43 -> 474 | K44: =J44/C44/COUNT(C41:C43) -> 30.859375 | L44: =E44+G44+I44+K44 -> 152.66927
...

Sheet окон
A1: Сведения по судебным участкам Кировской области
A2: о нагрузке по оконченным уголовным делам, гражданским (административным) делам, делам об административных правонарушениях и материалам за 6 месяцев 2026 г.
A3: № участ-ка | B3: Муниципальный район (округ)Кировской области/район г.Кирова | C3: коэф-фици-ент нагруз-ки | D3: окончено | V3: Остаток дел
D5: уголовные | F5: гражданские | H5: административные | J5: админ.правонарушения | L5: средне-месячная нагрузка по 1 инстанции | M5: материалы | Q5: общая среднемесячная нагрузка | R5: с нарушением срока,устан.ст. | V5: уголовных | W5: гражданских | X5: административных
D6: окончено | E6: на 1 судью в месяц | F6: окончено | G6: на 1 судью в месяц | H6: окончено | I6: на 1 судью в месяц | J6: окончено | K6: на 1 судью в месяц | M6: уголовные | N6: гражданские | O6: административные | P6: об административных правонарушениях
R7: 227, 233, 321 УПК | S7: ГПК | T7: КАС | U7: 29,6 КоАП и др актами
A10: 1 | B10: 2 | D10: 3 | E10: 4 | F10: 5 | G10: 6 | H10: 7 | I10: 8 | J10: 9 | K10: 10 | L10: 11 | M10: 12 | N10: 13 | O10: 14 | P10: 15 | Q10: 16 | R10: 17 | S10: 18 | T10: 19 | U10: 20 | V10: 21 | W10: 22 | X10: 23
A11: 5 | B11: верхнекамский | C11: 5.12 | D11: =[1]ввод!C7 -> 7 | E11: =D11/C11 -> 1.3671875 | F11: =[1]ввод!G7 -> 1145 | G11: =F11/C11 -> 223.63281 | H11: =[1]ввод!K7 -> 1 | I11: =H11/C11 -> 0.1953125 | J11: =[1]ввод!O7 -> 246 | K11: =J11/C11 -> 48.046875 | L11: =E11+G11+I11+K11 -> 273.24219 | M11: =[1]ввод!Q7 -> 8 | N11: =[1]ввод!R7 -> 326 | O11: =[1]ввод!S7 -> 1 | P11: =[1]ввод!T7 -> 20 | Q11: =L11+M11/C11+N11/C11+O11/C11+P11/C11 -> 342.57812 | R11: =[1]ввод!D7 -> 0 | S11: =[1]ввод!H7 -> 0 | T11: =[1]ввод!L7 -> 0 | U11: =[1]ввод!P7 -> 0 | V11: =[1]ввод!E7 -> 3 | W11: =[1]ввод!I7 -> 15 | X11: =[1]ввод!M7 -> 0
A12: 6 | B12: верхнекамский | C12: 5.12 | D12: =[1]ввод!C8 -> 3 | E12: =D12/C12 -> 0.5859375 | F12: =[1]ввод!G8 -> 504 | G12: =F12/C12 -> 98.4375 | H12: =[1]ввод!K8 -> 0 | I12: =H12/C12 -> 0 | J12: =[1]ввод!O8 -> 98 | K12: =J12/C12 -> 19.140625 | L12: =E12+G12+I12+K12 -> 118.16406 | M12: =[1]ввод!Q8 -> 3 | N12: =[1]ввод!R8 -> 615 | O12: =[1]ввод!S8 -> 0 | P12: =[1]ввод!T8 -> 7 | Q12: =L12+M12/C12+N12/C12+O12/C12+P12/C12 -> 240.23438 | R12: =[1]ввод!D8 -> 0 | S12: =[1]ввод!H8 -> 0 | T12: =[1]ввод!L8 -> 0 | U12: =[1]ввод!P8 -> 0 | V12: =[1]ввод!E8 -> 1 | W12: =[1]ввод!I8 -> 10 | X12: =[1]ввод!M8 -> 0
A13: Итого по Верхнекамскому судебному району | C13: 5.12 | D13: =D11+D12 -> 10 | E13: =D13/C13/COUNT(C11:C12) -> 0.9765625 | F13: =F11+F12 -> 1649 | G13: =F13/C13/COUNT(C11:C12) -> 161.03516 | H13: =H11+H12 -> 1 | I13: =H13/C13/COUNT(C11:C12) -> 0.09765625 | J13: =J11+J12 -> 344 | K13: =J13/C13/COUNT(C11:C12) -> 33.59375 | L13: =E13+G13+I13+K13 -> 195.70312 | M13: =M11+M12 -> 11 | N13: =N11+N12 -> 941 | O13: =O11+O12 -> 1 | P13: =P11+P12 -> 27 | Q13: =L13+M13/C13/COUNT(C11:C12)+N13/C13/COUNT(C11:C12)+O13/C13/COUNT(C11:C12)+P13/C13/COUNT(C11:C12) -> 291.40625 | R13: =R11+R12 -> 0 | S13: =S11+S12 -> 0 | T13: =T11+T12 -> 0 | U13: =U11+U12 -> 0 | V13: =V11+V12 -> 4 | W13: =W11+W12 -> 25 | X13: =X11+X12 -> 0
A14: 8 | B14: вятскополянский | C14: 5.12 | D14: =[1]ввод!C10 -> 11 | E14: =D14/C14 -> 2.1484375 | F14: =[1]ввод!G10 -> 1204 | G14: =F14/C14 -> 235.15625 | H14: =[1]ввод!K10 -> 0 | I14: =H14/C14 -> 0 | J14: =[1]ввод!O10 -> 303 | K14: =J14/C14 -> 59.179688 | L14: =E14+G14+I14+K14 -> 296.48438 | M14: =[1]ввод!Q10 -> 4 | N14: =[1]ввод!R10 -> 496 | O14: =[1]ввод!S10 -> 0 | P14: =[1]ввод!T10 -> 41 | Q14: =L14+M14/C14+N14/C14+O14/C14+P14/C14 -> 402.14844 | R14: =[1]ввод!D10 -> 0 | S14: =[1]ввод!H10 -> 0 | T14: =[1]ввод!L10 -> 0 | U14: =[1]ввод!P10 -> 0 | V14: =[1]ввод!E10 -> 4 | W14: =[1]ввод!I10 -> 13 | X14: =[1]ввод!M10 -> 0
A15: 10 | B15: вятскополянский | C15: 5.12 | D15: =[1]ввод!C12 -> 10 | E15: =D15/C15 -> 1.953125 | F15: =[1]ввод!G12 -> 1309 | G15: =F15/C15 -> 255.66406 | H15: =[1]ввод!K12 -> 1 | I15: =H15/C15 -> 0.1953125 | J15: =[1]ввод!O12 -> 221 | K15: =J15/C15 -> 43.164062 | L15: =E15+G15+I15+K15 -> 300.97656 | M15: =[1]ввод!Q12 -> 1 | N15: =[1]ввод!R12 -> 730 | O15: =[1]ввод!S12 -> 2 | P15: =[1]ввод!T12 -> 22 | Q15: =L15+M15/C15+N15/C15+O15/C15+P15/C15 -> 448.4375 | R15: =[1]ввод!D12 -> 0 | S15: =[1]ввод!H12 -> 0 | T15: =[1]ввод!L12 -> 0 | U15: =[1]ввод!P12 -> 0 | V15: =[1]ввод!E12 -> 5 | W15: =[1]ввод!I12 -> 18 | X15: =[1]ввод!M12 -> 0
A16: 73 | B16: вятскополянский | C16: 5.12 | D16: =[1]ввод!C75 -> 12 | E16: =D16/C16 -> 2.34375 | F16: =[1]ввод!G75 -> 1168 | G16: =F16/C16 -> 228.125 | H16: =[1]ввод!K75 -> 1 | I16: =H16/C16 -> 0.1953125 | J16: =[1]ввод!O75 -> 227 | K16: =J16/C16 -> 44.335938 | L16: =E16+G16+I16+K16 -> 275 | M16: =[1]ввод!Q75 -> 2 | N16: =[1]ввод!R75 -> 415 | O16: =[1]ввод!S75 -> 2 | P16: =[1]ввод!T75 -> 10 | Q16: =L16+M16/C16+N16/C16+O16/C16+P16/C16 -> 358.78906 | R16: =[1]ввод!D75 -> 0 | S16: =[1]ввод!H75 -> 0 | T16: =[1]ввод!L75 -> 0 | U16: =[1]ввод!P75 -> 0 | V16: =[1]ввод!E75 -> 3 | W16: =[1]ввод!I75 -> 10 | X16: =[1]ввод!M75 -> 0
A17: Итого по Вятскополянскому судебному району | C17: 5.12 | D17: =SUM(D14:D16) -> 33 | E17: =D17/C17/COUNT(C14:C16) -> 2.1484375 | F17: =SUM(F14:F16) -> 3681 | G17: =F17/C17/COUNT(C14:C16) -> 239.64844 | H17: =SUM(H14:H16) -> 2 | I17: =H17/C17/COUNT(C14:C16) -> 0.13020833 | J17: =SUM(J14:J16) -> 751 | K17: =J17/C17/COUNT(C14:C16) -> 48.893229 | L17: =E17+G17+I17+K17 -> 290.82031 | M17: =SUM(M14:M16) -> 7 | N17: =SUM(N14:N16) -> 1641 | O17: =SUM(O14:O16) -> 4 | P17: =SUM(P14:P16) -> 73 | Q17: =L17+M17/C17/COUNT(C14:C16)+N17/C17/COUNT(C14:C16)+O17/C17/COUNT(C14:C16)+P17/C17/COUNT(C14:C16) -> 403.125 | R17: =SUM(R14:R16) -> 0 | S17: =SUM(S14:S16) -> 0 | T17: =SUM(T14:T16) -> 0 | U17: =SUM(U14:U16) -> 0 | V17: =SUM(V14:V16) -> 12 | W17: =SUM(W14:W16) -> 41 | X17: =SUM(X14:X16) -> 0
A18: 12 | B18: зуевский | C18: 5.12 | D18: =[1]ввод!C14 -> 14 | E18: =D18/C18 -> 2.734375 | F18: =[1]ввод!G14 -> 1935 | G18: =F18/C18 -> 377.92969 | H18: =[1]ввод!K14 -> 0 | I18: =H18/C18 -> 0 | J18: =[1]ввод!O14 -> 431 | K18: =J18/C18 -> 84.179688 | L18: =E18+G18+I18+K18 -> 464.84375 | M18: =[1]ввод!Q14 -> 7 | N18: =[1]ввод!R14 -> 284 | O18: =[1]ввод!S14 -> 0 | P18: =[1]ввод!T14 -> 92 | Q18: =L18+M18/C18+N18/C18+O18/C18+P18/C18 -> 539.64844 | R18: =[1]ввод!D14 -> 0 | S18: =[1]ввод!H14 -> 0 | T18: =[1]ввод!L14 -> 0 | U18: =[1]ввод!P14 -> 0 | V18: =[1]ввод!E14 -> 4 | W18: =[1]ввод!I14 -> 18 | X18: =[1]ввод!M14 -> 0
A19: 47 | B19: фаленский | C19: 5.12 | D19: =[1]ввод!C49 -> 13 | E19: =D19/C19 -> 2.5390625 | F19: =[1]ввод!G49 -> 525 | G19: =F19/C19 -> 102.53906 | H19: =[1]ввод!K49 -> 0 | I19: =H19/C19 -> 0 | J19: =[1]ввод!O49 -> 159 | K19: =J19/C19 -> 31.054688 | L19: =E19+G19+I19+K19 -> 136.13281 | M19: =[1]ввод!Q49 -> 0 | N19: =[1]ввод!R49 -> 199 | O19: =[1]ввод!S49 -> 0 | P19: =[1]ввод!T49 -> 39 | Q19: =L19+M19/C19+N19/C19+O19/C19+P19/C19 -> 182.61719 | R19: =[1]ввод!D49 -> 0 | S19: =[1]ввод!H49 -> 0 | T19: =[1]ввод!L49 -> 0 | U19: =[1]ввод!P49 -> 0 | V19: =[1]ввод!E49 -> 1 | W19: =[1]ввод!I49 -> 1 | X19: =[1]ввод!M49 -> 0
A20: Итого по Зуевскому судебному району | C20: 5.12 | D20: =D18+D19 -> 27 | E20: =D20/C20/COUNT(C18:C19) -> 2.6367188 | F20: =F18+F19 -> 2460 | G20: =F20/C20/COUNT(C18:C19) -> 240.23438 | H20: =H18+H19 -> 0 | I20: =H20/C20/COUNT(C18:C19) -> 0 | J20: =J18+J19 -> 590 | K20: =J20/C20/COUNT(C18:C19) -> 57.617188 | L20: =E20+G20+I20+K20 -> 300.48828 | M20: =M18+M19 -> 7 | N20: =N18+N19 -> 483 | O20: =O18+O19 -> 0 | P20: =P18+P19 -> 131 | Q20: =L20+M20/C20/COUNT(C18:C19)+N20/C20/COUNT(C18:C19)+O20/C20/COUNT(C18:C19)+P20/C20/COUNT(C18:C19) -> 361.13281 | R20: =R18+R19 -> 0 | S20: =S18+S19 -> 0 | T20: =T18+T19 -> 0 | U20: =U18+U19 -> 0 | V20: =V18+V19 -> 5 | W20: =W18+W19 -> 19 | X20: =X18+X19 -> 0
A21: 15 | B21: кирово-чепецкий | C21: 5.12 | D21: =[1]ввод!C17 -> 4 | E21: =D21/C21 -> 0.78125 | F21: =[1]ввод!G17 -> 1668 | G21: =F21/C21 -> 325.78125 | H21: =[1]ввод!K17 -> 0 | I21: =H21/C21 -> 0 | J21: =[1]ввод!O17 -> 319 | K21: =J21/C21 -> 62.304688 | L21: =E21+G21+I21+K21 -> 388.86719 | M21: =[1]ввод!Q17 -> 8 | N21: =[1]ввод!R17 -> 406 | O21: =[1]ввод!S17 -> 0 | P21: =[1]ввод!T17 -> 30 | Q21: =L21+M21/C21+N21/C21+O21/C21+P21/C21 -> 475.58594 | R21: =[1]ввод!D17 -> 0 | S21: =[1]ввод!H17 -> 0 | T21: =[1]ввод!L17 -> 0 | U21: =[1]ввод!P17 -> 0 | V21: =[1]ввод!E17 -> 3 | W21: =[1]ввод!I17 -> 9 | X21: =[1]ввод!M17 -> 0
A22: 16 | B22: кирово-чепецкий | C22: 5.12 | D22: =[1]ввод!C18 -> 12 | E22: =D22/C22 -> 2.34375 | F22: =[1]ввод!G18 -> 1652 | G22: =F22/C22 -> 322.65625 | H22: =[1]ввод!K18 -> 2 | I22: =H22/C22 -> 0.390625 | J22: =[1]ввод!O18 -> 251 | K22: =J22/C22 -> 49.023438 | L22: =E22+G22+I22+K22 -> 374.41406 | M22: =[1]ввод!Q18 -> 3 | N22: =[1]ввод!R18 -> 181 | O22: =[1]ввод!S18 -> 0 | P22: =[1]ввод!T18 -> 13 | Q22: =L22+M22/C22+N22/C22+O22/C22+P22/C22 -> 412.89062 | R22: =[1]ввод!D18 -> 0 | S22: =[1]ввод!H18 -> 0 | T22: =[1]ввод!L18 -> 0 | U22: =[1]ввод!P18 -> 0 | V22: =[1]ввод!E18 -> 1 | W22: =[1]ввод!I18 -> 14 | X22: =[1]ввод!M18 -> 0
A23: 17 | B23: кирово-чепецкий | C23: 5.12 | D23: =[1]ввод!C19 -> 2 | E23: =D23/C23 -> 0.390625 | F23: =[1]ввод!G19 -> 1853 | G23: =F23/C23 -> 361.91406 | H23: =[1]ввод!K19 -> 0 | I23: =H23/C23 -> 0 | J23: =[1]ввод!O19 -> 237 | K23: =J23/C23 -> 46.289062 | L23: =E23+G23+I23+K23 -> 408.59375 | M23: =[1]ввод!Q19 -> 5 | N23: =[1]ввод!R19 -> 496 | O23: =[1]ввод!S19 -> 0 | P23: =[1]ввод!T19 -> 9 | Q23: =L23+M23/C23+N23/C23+O23/C23+P23/C23 -> 508.20312 | R23: =[1]ввод!D19 -> 0 | S23: =[1]ввод!H19 -> 0 | T23: =[1]ввод!L19 -> 0 | U23: =[1]ввод!P19 -> 0 | V23: =[1]ввод!E19 -> 2 | W23: =[1]ввод!I19 -> 24 | X23: =[1]ввод!M19 -> 0
A24: 18 | B24: кирово-чепецкий | C24: 5.12 | D24: =[1]ввод!C20 -> 5 | E24: =D24/C24 -> 0.9765625 | F24: =[1]ввод!G20 -> 1456 | G24: =F24/C24 -> 284.375 | H24: =[1]ввод!K20 -> 0 | I24: =H24/C24 -> 0 | J24: =[1]ввод!O20 -> 475 | K24: =J24/C24 -> 92.773438 | L24: =E24+G24+I24+K24 -> 378.125 | M24: =[1]ввод!Q20 -> 5 | N24: =[1]ввод!R20 -> 418 | O24: =[1]ввод!S20 -> 0 | P24: =[1]ввод!T20 -> 18 | Q24: =L24+M24/C24+N24/C24+O24/C24+P24/C24 -> 464.25781 | R24: =[1]ввод!D20 -> 0 | S24: =[1]ввод!H20 -> 0 | T24: =[1]ввод!L20 -> 0 | U24: =[1]ввод!P20 -> 0 | V24: =[1]ввод!E20 -> 3 | W24: =[1]ввод!I20 -> 35 | X24: =[1]ввод!M20 -> 0
A25: 74 | B25: кирово-чепецкий | C25: 5.12 | D25: =[1]ввод!C76 -> 15 | E25: =D25/C25 -> 2.9296875 | F25: =[1]ввод!G76 -> 1390 | G25: =F25/C25 -> 271.48438 | H25: =[1]ввод!K76 -> 1 | I25: =H25/C25 -> 0.1953125 | J25: =[1]ввод!O76 -> 276 | K25: =J25/C25 -> 53.90625 | L25: =E25+G25+I25+K25 -> 328.51562 | M25: =[1]ввод!Q76 -> 14 | N25: =[1]ввод!R76 -> 456 | O25: =[1]ввод!S76 -> 1 | P25: =[1]ввод!T76 -> 28 | Q25: =L25+M25/C25+N25/C25+O25/C25+P25/C25 -> 425.97656 | R25: =[1]ввод!D76 -> 0 | S25: =[1]ввод!H76 -> 0 | T25: =[1]ввод!L76 -> 0 | U25: =[1]ввод!P76 -> 0 | V25: =[1]ввод!E76 -> 4 | W25: =[1]ввод!I76 -> 13 | X25: =[1]ввод!M76 -> 0
A26: Итого по Кирово-Чепецкому судебный району | C26: 5.12 | D26: =D23+D24+D22+D21+D25 -> 38 | E26: =D26/C26/COUNT(C21:C25) -> 1.484375 | F26: =F21+F22+F23+F24+F25 -> 8019 | G26: =F26/C26/COUNT(C21:C25) -> 313.24219 | H26: =H21+H22+H23+H24+H25 -> 3 | I26: =H26/C26/COUNT(C21:C25) -> 0.1171875 | J26: =J23+J24+J22+J21+J25 -> 1558 | K26: =J26/C26/COUNT(C21:C25) -> 60.859375 | L26: =E26+G26+I26+K26 -> 375.70312 | M26: =M23+M24+M22+M21+M25 -> 35 | N26: =N23+N24+N22+N21+N25 -> 1957 | O26: =O23+O24+O22+O21+O25 -> 1 | P26: =P23+P24+P22+P21+P25 -> 98 | Q26: =L26+M26/C26/COUNT(C21:C25)+N26/C26/COUNT(C21:C25)+O26/C26/COUNT(C21:C25)+P26/C26/COUNT(C21:C25) -> 457.38281 | R26: =R21+R22+R23+R24+R25 -> 0 | S26: =S21+S22+S23+S24+S25 -> 0 | T26: =T21+T22+T23+T24+T25 -> 0 | U26: =U21+U22+U23+U24+U25 -> 0 | V26: =V21+V22+V23+V24+V25 -> 13 | W26: =W23+W24+W22+W21+W25 -> 95 | X26: =X21+X22+X23+X24+X25 -> 0
A27: 19 | B27: котельничский | C27: 5.12 | D27: =[1]ввод!C21 -> 3 | E27: =D27/C27 -> 0.5859375 | F27: =[1]ввод!G21 -> 796 | G27: =F27/C27 -> 155.46875 | H27: =[1]ввод!K21 -> 0 | I27: =H27/C27 -> 0 | J27: =[1]ввод!O21 -> 141 | K27: =J27/C27 -> 27.539062 | L27: =E27+G27+I27+K27 -> 183.59375 | M27: =[1]ввод!Q21 -> 2 | N27: =[1]ввод!R21 -> 814 | O27: =[1]ввод!S21 -> 1 | P27: =[1]ввод!T21 -> 76 | Q27: =L27+M27/C27+N27/C27+O27/C27+P27/C27 -> 358.00781 | R27: =[1]ввод!D21 -> 0 | S27: =[1]ввод!H21 -> 0 | T27: =[1]ввод!L21 -> 0 | U27: =[1]ввод!P21 -> 0 | V27: =[1]ввод!E21 -> 3 | W27: =[1]ввод!I21 -> 5 | X27: =[1]ввод!M21 -> 0
A28: 20 | B28: котельничский | C28: 5.12 | D28: =[1]ввод!C22 -> 11 | E28: =D28/C28 -> 2.1484375 | F28: =[1]ввод!G22 -> 622 | G28: =F28/C28 -> 121.48438 | H28: =[1]ввод!K22 -> 1 | I28: =H28/C28 -> 0.1953125 | J28: =[1]ввод!O22 -> 149 | K28: =J28/C28 -> 29.101562 | L28: =E28+G28+I28+K28 -> 152.92969 | M28: =[1]ввод!Q22 -> 1 | N28: =[1]ввод!R22 -> 1028 | O28: =[1]ввод!S22 -> 0 | P28: =[1]ввод!T22 -> 27 | Q28: =L28+M28/C28+N28/C28+O28/C28+P28/C28 -> 359.17969 | R28: =[1]ввод!D22 -> 0 | S28: =[1]ввод!H22 -> 0 | T28: =[1]ввод!L22 -> 0 | U28: =[1]ввод!P22 -> 0 | V28: =[1]ввод!E22 -> 2 | W28: =[1]ввод!I22 -> 9 | X28: =[1]ввод!M22 -> 0
A29: 75 | B29: котельничский | C29: 5.12 | D29: =[1]ввод!C77 -> 8 | E29: =D29/C29 -> 1.5625 | F29: =[1]ввод!G77 -> 956 | G29: =F29/C29 -> 186.71875 | H29: =[1]ввод!K77 -> 0 | I29: =H29/C29 -> 0 | J29: =[1]ввод!O77 -> 168 | K29: =J29/C29 -> 32.8125 | L29: =E29+G29+I29+K29 -> 221.09375 | M29: =[1]ввод!Q77 -> 6 | N29: =[1]ввод!R77 -> 616 | O29: =[1]ввод!S77 -> 1 | P29: =[1]ввод!T77 -> 31 | Q29: =L29+M29/C29+N29/C29+O29/C29+P29/C29 -> 348.82812 | R29: =[1]ввод!D77 -> 0 | S29: =[1]ввод!H77 -> 0 | T29: =[1]ввод!L77 -> 0 | U29: =[1]ввод!P77 -> 0 | V29: =[1]ввод!E77 -> 3 | W29: =[1]ввод!I77 -> 10 | X29: =[1]ввод!M77 -> 0
A30: 11 | B30: даровской | C30: 5.12 | D30: =[1]ввод!C13 -> 4 | E30: =D30/C30 -> 0.78125 | F30: =[1]ввод!G13 -> 479 | G30: =F30/C30 -> 93.554688 | H30: =[1]ввод!K13 -> 0 | I30: =H30/C30 -> 0 | J30: =[1]ввод!O13 -> 133 | K30: =J30/C30 -> 25.976562 | L30: =E30+G30+I30+K30 -> 120.3125 | M30: =[1]ввод!Q13 -> 3 | N30: =[1]ввод!R13 -> 265 | O30: =[1]ввод!S13 -> 2 | P30: =[1]ввод!T13 -> 5 | Q30: =L30+M30/C30+N30/C30+O30/C30+P30/C30 -> 174.02344 | R30: =[1]ввод!D13 -> 0 | S30: =[1]ввод!H13 -> 0 | T30: =[1]ввод!L13 -> 0 | U30: =[1]ввод!P13 -> 0 | V30: =[1]ввод!E13 -> 1 | W30: =[1]ввод!I13 -> 4 | X30: =[1]ввод!M13 -> 0
A31: 32 | B31: орловский | C31: 5.12 | D31: =[1]ввод!C34 -> 9 | E31: =D31/C31 -> 1.7578125 | F31: =[1]ввод!G34 -> 520 | G31: =F31/C31 -> 101.5625 | H31: =[1]ввод!K34 -> 1 | I31: =H31/C31 -> 0.1953125 | J31: =[1]ввод!O34 -> 160 | K31: =J31/C31 -> 31.25 | L31: =E31+G31+I31+K31 -> 134.76562 | M31: =[1]ввод!Q34 -> 1 | N31: =[1]ввод!R34 -> 442 | O31: =[1]ввод!S34 -> 0 | P31: =[1]ввод!T34 -> 79 | Q31: =L31+M31/C31+N31/C31+O31/C31+P31/C31 -> 236.71875 | R31: =[1]ввод!D34 -> 0 | S31: =[1]ввод!H34 -> 0 | T31: =[1]ввод!L34 -> 0 | U31: =[1]ввод!P34 -> 0 | V31: =[1]ввод!E34 -> 0 | W31: =[1]ввод!I34 -> 7 | X31: =[1]ввод!M34 -> 0
A32: Итого по Котельничскому судебному району | C32: 5.12 | D32: =SUM(D27:D31) -> 35 | E32: =D32/C32/COUNT(C27:C31) -> 1.3671875 | F32: =SUM(F27:F31) -> 3373 | G32: =F32/C32/COUNT(C27:C31) -> 131.75781 | H32: =SUM(H27:H31) -> 2 | I32: =H32/C32/COUNT(C27:C31) -> 0.078125 | J32: =SUM(J27:J31) -> 751 | K32: =J32/C32/COUNT(C27:C31) -> 29.335938 | L32: =E32+G32+I32+K32 -> 162.53906 | M32: =SUM(M27:M31) -> 13 | N32: =SUM(N27:N31) -> 3165 | O32: =SUM(O27:O31) -> 4 | P32: =SUM(P27:P31) -> 218 | Q32: =L32+M32/C32/COUNT(C27:C31)+N32/C32/COUNT(C27:C31)+O32/C32/COUNT(C27:C31)+P32/C32/COUNT(C27:C31) -> 295.35156 | R32: =SUM(R27:R31) -> 0 | S32: =SUM(S27:S31) -> 0 | T32: =SUM(T27:T31) -> 0 | U32: =SUM(U27:U31) -> 0 | V32: =SUM(V27:V31) -> 9 | W32: =SUM(W27:W31) -> 35 | X32: =SUM(X27:X31) -> 0
A33: 21 | B33: Куменский | C33: 5.12 | D33: =[1]ввод!C23 -> 11 | E33: =D33/C33 -> 2.1484375 | F33: =[1]ввод!G23 -> 1140 | G33: =F33/C33 -> 222.65625 | H33: =[1]ввод!K23 -> 0 | I33: =H33/C33 -> 0 | J33: =[1]ввод!O23 -> 193 | K33: =J33/C33 -> 37.695312 | L33: =E33+G33+I33+K33 -> 262.5 | M33: =[1]ввод!Q23 -> 5 | N33: =[1]ввод!R23 -> 319 | O33: =[1]ввод!S23 -> 0 | P33: =[1]ввод!T23 -> 41 | Q33: =L33+M33/C33+N33/C33+O33/C33+P33/C33 -> 333.78906 | R33: =[1]ввод!D23 -> 0 | S33: =[1]ввод!H23 -> 0 | T33: =[1]ввод!L23 -> 0 | U33: =[1]ввод!P23 -> 0 | V33: =[1]ввод!E23 -> 2 | W33: =[1]ввод!I23 -> 15 | X33: =[1]ввод!M23 -> 0
A34: 23 | B34: Лузский | C34: 5.12 | D34: =[1]ввод!C25 -> 10 | E34: =D34/C34 -> 1.953125 | F34: =[1]ввод!G25 -> 1151 | G34: =F34/C34 -> 224.80469 | H34: =[1]ввод!K25 -> 0 | I34: =H34/C34 -> 0 | J34: =[1]ввод!O25 -> 364 | K34: =J34/C34 -> 71.09375 | L34: =E34+G34+I34+K34 -> 297.85156 | M34: =[1]ввод!Q25 -> 0 | N34: =[1]ввод!R25 -> 522 | O34: =[1]ввод!S25 -> 0 | P34: =[1]ввод!T25 -> 44 | Q34: =L34+M34/C34+N34/C34+O34/C34+P34/C34 -> 408.39844 | R34: =[1]ввод!D25 -> 0 | S34: =[1]ввод!H25 -> 0 | T34: =[1]ввод!L25 -> 0 | U34: =[1]ввод!P25 -> 0 | V34: =[1]ввод!E25 -> 3 | W34: =[1]ввод!I25 -> 10 | X34: =[1]ввод!M25 -> 0
A35: 24 | B35: малмыжский | C35: 5.12 | D35: =[1]ввод!C26 -> 22 | E35: =D35/C35 -> 4.296875 | F35: =[1]ввод!G26 -> 1534 | G35: =F35/C35 -> 299.60938 | H35: =[1]ввод!K26 -> 0 | I35: =H35/C35 -> 0 | J35: =[1]ввод!O26 -> 287 | K35: =J35/C35 -> 56.054688 | L35: =E35+G35+I35+K35 -> 359.96094 | M35: =[1]ввод!Q26 -> 4 | N35: =[1]ввод!R26 -> 602 | O35: =[1]ввод!S26 -> 0 | P35: =[1]ввод!T26 -> 3 | Q35: =L35+M35/C35+N35/C35+O35/C35+P35/C35 -> 478.90625 | R35: =[1]ввод!D26 -> 0 | S35: =[1]ввод!H26 -> 0 | T35: =[1]ввод!L26 -> 0 | U35: =[1]ввод!P26 -> 0 | V35: =[1]ввод!E26 -> 6 | W35: =[1]ввод!I26 -> 15 | X35: =[1]ввод!M26 -> 0
A36: 14 | B36: кильмезский | C36: 5.12 | D36: =[1]ввод!C16 -> 18 | E36: =D36/C36 -> 3.515625 | F36: =[1]ввод!G16 -> 844 | G36: =F36/C36 -> 164.84375 | H36: =[1]ввод!K16 -> 0 | I36: =H36/C36 -> 0 | J36: =[1]ввод!O16 -> 132 | K36: =J36/C36 -> 25.78125 | L36: =E36+G36+I36+K36 -> 194.14062 | M36: =[1]ввод!Q16 -> 5 | N36: =[1]ввод!R16 -> 501 | O36: =[1]ввод!S16 -> 1 | P36: =[1]ввод!T16 -> 20 | Q36: =L36+M36/C36+N36/C36+O36/C36+P36/C36 -> 297.07031 | R36: =[1]ввод!D16 -> 0 | S36: =[1]ввод!H16 -> 0 | T36: =[1]ввод!L16 -> 0 | U36: =[1]ввод!P16 -> 0 | V36: =[1]ввод!E16 -> 6 | W36: =[1]ввод!I16 -> 8 | X36: =[1]ввод!M16 -> 0
A37: Итого по Малмыжскому судебному району | C37: 5.12 | D37: =D35+D36 -> 40 | E37: =D37/C37/COUNT(C35:C36) -> 3.90625 | F37: =F35+F36 -> 2378 | G37: =F37/C37/COUNT(C35:C36) -> 232.22656 | H37: =H35+H36 -> 0 | I37: =H37/C37/COUNT(C35:C36) -> 0 | J37: =J35+J36 -> 419 | K37: =J37/C37/COUNT(C35:C36) -> 40.917969 | L37: =E37+G37+I37+K37 -> 277.05078 | M37: =M35+M36 -> 9 | N37: =N35+N36 -> 1103 | O37: =O35+O36 -> 1 | P37: =P35+P36 -> 23 | Q37: =L37+M37/C37/COUNT(C35:C36)+N37/C37/COUNT(C35:C36)+O37/C37/COUNT(C35:C36)+P37/C37/COUNT(C35:C36) -> 387.98828 | R37: =R35+R36 -> 0 | S37: =S35+S36 -> 0 | T37: =T35+T36 -> 0 | U37: =U35+U36 -> 0 | V37: =V35+V36 -> 12 | W37: =W35+W36 -> 23 | X37: =X35+X36 -> 0
A38: 25 | B38: мурашинский | C38: 5.12 | D38: =[1]ввод!C27 -> 10 | E38: =D38/C38 -> 1.953125 | F38: =[1]ввод!G27 -> 755 | G38: =F38/C38 -> 147.46094 | H38: =[1]ввод!K27 -> 0 | I38: =H38/C38 -> 0 | J38: =[1]ввод!O27 -> 202 | K38: =J38/C38 -> 39.453125 | L38: =E38+G38+I38+K38 -> 188.86719 | M38: =[1]ввод!Q27 -> 1 | N38: =[1]ввод!R27 -> 378 | O38: =[1]ввод!S27 -> 0 | P38: =[1]ввод!T27 -> 17 | Q38: =L38+M38/C38+N38/C38+O38/C38+P38/C38 -> 266.21094 | R38: =[1]ввод!D27 -> 0 | S38: =[1]ввод!H27 -> 0 | T38: =[1]ввод!L27 -> 0 | U38: =[1]ввод!P27 -> 0 | V38: =[1]ввод!E27 -> 2 | W38: =[1]ввод!I27 -> 5 | X38: =[1]ввод!M27 -> 0
A39: 31 | B39: опаринский | C39: 5.12 | D39: =[1]ввод!C33 -> 7 | E39: =D39/C39 -> 1.3671875 | F39: =[1]ввод!G33 -> 580 | G39: =F39/C39 -> 113.28125 | H39: =[1]ввод!K33 -> 0 | I39: =H39/C39 -> 0 | J39: =[1]ввод!O33 -> 119 | K39: =J39/C39 -> 23.242188 | L39: =E39+G39+I39+K39 -> 137.89062 | M39: =[1]ввод!Q33 -> 2 | N39: =[1]ввод!R33 -> 246 | O39: =[1]ввод!S33 -> 1 | P39: =[1]ввод!T33 -> 15 | Q39: =L39+M39/C39+N39/C39+O39/C39+P39/C39 -> 189.45312 | R39: =[1]ввод!D33 -> 0 | S39: =[1]ввод!H33 -> 0 | T39: =[1]ввод!L33 -> 0 | U39: =[1]ввод!P33 -> 0 | V39: =[1]ввод!E33 -> 0 | W39: =[1]ввод!I33 -> 3 | X39: =[1]ввод!M33 -> 0
A40: Итого по Мурашинскому судебному району | C40: 5.12 | D40: =D38+D39 -> 17 | E40: =D40/C40/COUNT(C38:C39) -> 1.6601562 | F40: =F38+F39 -> 1335 | G40: =F40/C40/COUNT(C38:C39) -> 130.37109 | H40: =H38+H39 -> 0 | I40: =H40/C40/COUNT(C38:C39) -> 0 | J40: =J38+J39 -> 321 | K40: =J40/C40/COUNT(C38:C39) -> 31.347656 | L40: =E40+G40+I40+K40 -> 163.37891 | M40: =M38+M39 -> 3 | N40: =N38+N39 -> 624 | O40: =O38+O39 -> 1 | P40: =P38+P39 -> 32 | Q40: =L40+M40/C40/COUNT(C38:C39)+N40/C40/COUNT(C38:C39)+O40/C40/COUNT(C38:C39)+P40/C40/COUNT(C38:C39) -> 227.83203 | R40: =R38+R39 -> 0 | S40: =S38+S39 -> 0 | T40: =T38+T39 -> 0 | U40: =U38+U39 -> 0 | V40: =V38+V39 -> 2 | W40: =W38+W39 -> 8 | X40: =X38+X39 -> 0
A41: 27 | B41: немский | C41: 5.12 | D41: =[1]ввод!C29 -> 7 | E41: =D41/C41 -> 1.3671875 | F41: =[1]ввод!G29 -> 350 | G41: =F41/C41 -> 68.359375 | H41: =[1]ввод!K29 -> 1 | I41: =H41/C41 -> 0.1953125 | J41: =[1]ввод!O29 -> 108 | K41: =J41/C41 -> 21.09375 | L41: =E41+G41+I41+K41 -> 91.015625 | M41: =[1]ввод!Q29 -> 3 | N41: =[1]ввод!R29 -> 156 | O41: =[1]ввод!S29 -> 5 | P41: =[1]ввод!T29 -> 46 | Q41: =L41+M41/C41+N41/C41+O41/C41+P41/C41 -> 132.03125 | R41: =[1]ввод!D29 -> 0 | S41: =[1]ввод!H29 -> 0 | T41: =[1]ввод!L29 -> 0 | U41: =[1]ввод!P29 -> 0 | V41: =[1]ввод!E29 -> 2 | W41: =[1]ввод!I29 -> 4 | X41: =[1]ввод!M29 -> 0
A42: 28 | B42: нолинский | C42: 5.12 | D42: =[1]ввод!C30 -> 16 | E42: =D42/C42 -> 3.125 | F42: =[1]ввод!G30 -> 1193 | G42: =F42/C42 -> 233.00781 | H42: =[1]ввод!K30 -> 0 | I42: =H42/C42 -> 0 | J42: =[1]ввод!O30 -> 188 | K42: =J42/C42 -> 36.71875 | L42: =E42+G42+I42+K42 -> 272.85156 | M42: =[1]ввод!Q30 -> 7 | N42: =[1]ввод!R30 -> 369 | O42: =[1]ввод!S30 -> 0 | P42: =[1]ввод!T30 -> 42 | Q42: =L42+M42/C42+N42/C42+O42/C42+P42/C42 -> 354.49219 | R42: =[1]ввод!D30 -> 0 | S42: =[1]ввод!H30 -> 0 | T42: =[1]ввод!L30 -> 0 | U42: =[1]ввод!P30 -> 0 | V42: =[1]ввод!E30 -> 5 | W42: =[1]ввод!I30 -> 12 | X42: =[1]ввод!M30 -> 0
A43: 43 | B43: сунский | C43: 5.12 | D43: =[1]ввод!C45 -> 9 | E43: =D43/C43 -> 1.7578125 | F43: =[1]ввод!G45 -> 299 | G43: =F43/C43 -> 58.398438 | H43: =[1]ввод!K45 -> 0 | I43: =H43/C43 -> 0 | J43: =[1]ввод!O45 -> 152 | K43: =J43/C43 -> 29.6875 | L43: =E43+G43+I43+K43 -> 89.84375 | M43: =[1]ввод!Q45 -> 2 | N43: =[1]ввод!R45 -> 119 | O43: =[1]ввод!S45 -> 0 | P43: =[1]ввод!T45 -> 0 | Q43: =L43+M43/C43+N43/C43+O43/C43+P43/C43 -> 113.47656 | R43: =[1]ввод!D45 -> 0 | S43: =[1]ввод!H45 -> 0 | T43: =[1]ввод!L45 -> 0 | U43: =[1]ввод!P45 -> 0 | V43: =[1]ввод!E45 -> 2 | W43: =[1]ввод!I45 -> 3 | X43: =[1]ввод!M45 -> 0
...

Sheet окон без судприказов
A1: Сведения по судебным участкам Кировской области
A2: о нагрузке по оконченным уголовным делам, гражданским (административным) делам (без судебных приказов), делам об административных правонарушениях и материалам за 6 месяцев 2026 г.
A3: № участ-ка | B3: Муниципальный район (округ)Кировской области/район г.Кирова | C3: коэф-фици-ент нагруз-ки | D3: окончено | V3: Остаток дел
D5: уголовные | F5: гражданские | H5: административные | J5: админ.правонарушения | L5: средне-месячная нагрузка по 1 инстанции | M5: материалы | Q5: общая среднемесячная нагрузка | R5: с нарушением срока,устан.ст. | V5: уголовных | W5: гражданских | X5: административных
D6: окончено | E6: на 1 судью в месяц | F6: окончено | G6: на 1 судью в месяц | H6: окончено | I6: на 1 судью в месяц | J6: окончено | K6: на 1 судью в месяц | M6: уголовные | N6: гражданские | O6: административные | P6: об административных правонарушениях
R7: 227, 233, 321 УПК | S7: ГПК | T7: КАС | U7: 29,6 КоАП и др актами
A10: 1 | B10: 2 | D10: 3 | E10: 4 | F10: 5 | G10: 6 | H10: 7 | I10: 8 | J10: 9 | K10: 10 | L10: 11 | M10: 12 | N10: 13 | O10: 14 | P10: 15 | Q10: 16 | R10: 17 | S10: 18 | T10: 19 | U10: 20 | V10: 21 | W10: 22 | X10: 23
A11: 5 | B11: верхнекамский | C11: 5.12 | D11: =[2]ввод!C7 -> 7 | E11: =D11/C11 -> 1.3671875 | F11: =[2]ввод!G7 -> 60 | G11: =F11/C11 -> 11.71875 | H11: =[2]ввод!K7 -> 0 | I11: =H11/C11 -> 0 | J11: =[2]ввод!O7 -> 246 | K11: =J11/C11 -> 48.046875 | L11: =E11+G11+I11+K11 -> 61.132812 | M11: =[2]ввод!Q7 -> 8 | N11: =[2]ввод!R7 -> 326 | O11: =[2]ввод!S7 -> 1 | P11: =[2]ввод!T7 -> 20 | Q11: =L11+M11/C11+N11/C11+O11/C11+P11/C11 -> 130.46875 | R11: =[2]ввод!D7 -> 0 | S11: =[2]ввод!H7 -> 0 | T11: =[2]ввод!L7 -> 0 | U11: =[2]ввод!P7 -> 0 | V11: =[2]ввод!E7 -> 3 | W11: =[2]ввод!I7 -> 15 | X11: =[2]ввод!M7 -> 0
A12: 6 | B12: верхнекамский | C12: 5.12 | D12: =[2]ввод!C8 -> 3 | E12: =D12/C12 -> 0.5859375 | F12: =[2]ввод!G8 -> 48 | G12: =F12/C12 -> 9.375 | H12: =[2]ввод!K8 -> 0 | I12: =H12/C12 -> 0 | J12: =[2]ввод!O8 -> 98 | K12: =J12/C12 -> 19.140625 | L12: =E12+G12+I12+K12 -> 29.101562 | M12: =[2]ввод!Q8 -> 3 | N12: =[2]ввод!R8 -> 615 | O12: =[2]ввод!S8 -> 0 | P12: =[2]ввод!T8 -> 7 | Q12: =L12+M12/C12+N12/C12+O12/C12+P12/C12 -> 151.17188 | R12: =[2]ввод!D8 -> 0 | S12: =[2]ввод!H8 -> 0 | T12: =[2]ввод!L8 -> 0 | U12: =[2]ввод!P8 -> 0 | V12: =[2]ввод!E8 -> 1 | W12: =[2]ввод!I8 -> 10 | X12: =[2]ввод!M8 -> 0
A13: Итого по Верхнекамскому судебному району | C13: 5.12 | D13: =D11+D12 -> 10 | E13: =D13/C13/COUNT(C11:C12) -> 0.9765625 | F13: =F11+F12 -> 108 | G13: =F13/C13/COUNT(C11:C12) -> 10.546875 | H13: =H11+H12 -> 0 | I13: =H13/C13/COUNT(C11:C12) -> 0 | J13: =J11+J12 -> 344 | K13: =J13/C13/COUNT(C11:C12) -> 33.59375 | L13: =E13+G13+I13+K13 -> 45.117188 | M13: =M11+M12 -> 11 | N13: =N11+N12 -> 941 | O13: =O11+O12 -> 1 | P13: =P11+P12 -> 27 | Q13: =L13+M13/C13/COUNT(C11:C12)+N13/C13/COUNT(C11:C12)+O13/C13/COUNT(C11:C12)+P13/C13/COUNT(C11:C12) -> 140.82031 | R13: =R11+R12 -> 0 | S13: =S11+S12 -> 0 | T13: =T11+T12 -> 0 | U13: =U11+U12 -> 0 | V13: =V11+V12 -> 4 | W13: =W11+W12 -> 25 | X13: =X11+X12 -> 0
A14: 8 | B14: вятскополянский | C14: 5.12 | D14: =[2]ввод!C10 -> 11 | E14: =D14/C14 -> 2.1484375 | F14: =[2]ввод!G10 -> 53 | G14: =F14/C14 -> 10.351562 | H14: =[2]ввод!K10 -> 0 | I14: =H14/C14 -> 0 | J14: =[2]ввод!O10 -> 303 | K14: =J14/C14 -> 59.179688 | L14: =E14+G14+I14+K14 -> 71.679688 | M14: =[2]ввод!Q10 -> 4 | N14: =[2]ввод!R10 -> 496 | O14: =[2]ввод!S10 -> 0 | P14: =[2]ввод!T10 -> 41 | Q14: =L14+M14/C14+N14/C14+O14/C14+P14/C14 -> 177.34375 | R14: =[2]ввод!D10 -> 0 | S14: =[2]ввод!H10 -> 0 | T14: =[2]ввод!L10 -> 0 | U14: =[2]ввод!P10 -> 0 | V14: =[2]ввод!E10 -> 4 | W14: =[2]ввод!I10 -> 13 | X14: =[2]ввод!M10 -> 0
A15: 10 | B15: вятскополянский | C15: 5.12 | D15: =[2]ввод!C12 -> 10 | E15: =D15/C15 -> 1.953125 | F15: =[2]ввод!G12 -> 67 | G15: =F15/C15 -> 13.085938 | H15: =[2]ввод!K12 -> 0 | I15: =H15/C15 -> 0 | J15: =[2]ввод!O12 -> 221 | K15: =J15/C15 -> 43.164062 | L15: =E15+G15+I15+K15 -> 58.203125 | M15: =[2]ввод!Q12 -> 1 | N15: =[2]ввод!R12 -> 730 | O15: =[2]ввод!S12 -> 2 | P15: =[2]ввод!T12 -> 22 | Q15: =L15+M15/C15+N15/C15+O15/C15+P15/C15 -> 205.66406 | R15: =[2]ввод!D12 -> 0 | S15: =[2]ввод!H12 -> 0 | T15: =[2]ввод!L12 -> 0 | U15: =[2]ввод!P12 -> 0 | V15: =[2]ввод!E12 -> 5 | W15: =[2]ввод!I12 -> 18 | X15: =[2]ввод!M12 -> 0
A16: 73 | B16: вятскополянский | C16: 5.12 | D16: =[2]ввод!C75 -> 12 | E16: =D16/C16 -> 2.34375 | F16: =[2]ввод!G75 -> 60 | G16: =F16/C16 -> 11.71875 | H16: =[2]ввод!K75 -> 0 | I16: =H16/C16 -> 0 | J16: =[2]ввод!O75 -> 227 | K16: =J16/C16 -> 44.335938 | L16: =E16+G16+I16+K16 -> 58.398438 | M16: =[2]ввод!Q75 -> 2 | N16: =[2]ввод!R75 -> 415 | O16: =[2]ввод!S75 -> 2 | P16: =[2]ввод!T75 -> 10 | Q16: =L16+M16/C16+N16/C16+O16/C16+P16/C16 -> 142.1875 | R16: =[2]ввод!D75 -> 0 | S16: =[2]ввод!H75 -> 0 | T16: =[2]ввод!L75 -> 0 | U16: =[2]ввод!P75 -> 0 | V16: =[2]ввод!E75 -> 3 | W16: =[2]ввод!I75 -> 10 | X16: =[2]ввод!M75 -> 0
A17: Итого по Вятскополянскому судебному району | C17: 5.12 | D17: =SUM(D14:D16) -> 33 | E17: =D17/C17/COUNT(C14:C16) -> 2.1484375 | F17: =SUM(F14:F16) -> 180 | G17: =F17/C17/COUNT(C14:C16) -> 11.71875 | H17: =SUM(H14:H16) -> 0 | I17: =H17/C17/COUNT(C14:C16) -> 0 | J17: =SUM(J14:J16) -> 751 | K17: =J17/C17/COUNT(C14:C16) -> 48.893229 | L17: =E17+G17+I17+K17 -> 62.760417 | M17: =SUM(M14:M16) -> 7 | N17: =SUM(N14:N16) -> 1641 | O17: =SUM(O14:O16) -> 4 | P17: =SUM(P14:P16) -> 73 | Q17: =L17+M17/C17/COUNT(C14:C16)+N17/C17/COUNT(C14:C16)+O17/C17/COUNT(C14:C16)+P17/C17/COUNT(C14:C16) -> 175.0651 | R17: =SUM(R14:R16) -> 0 | S17: =SUM(S14:S16) -> 0 | T17: =SUM(T14:T16) -> 0 | U17: =SUM(U14:U16) -> 0 | V17: =SUM(V14:V16) -> 12 | W17: =SUM(W14:W16) -> 41 | X17: =SUM(X14:X16) -> 0
A18: 12 | B18: зуевский | C18: 5.12 | D18: =[2]ввод!C14 -> 14 | E18: =D18/C18 -> 2.734375 | F18: =[2]ввод!G14 -> 110 | G18: =F18/C18 -> 21.484375 | H18: =[2]ввод!K14 -> 0 | I18: =H18/C18 -> 0 | J18: =[2]ввод!O14 -> 431 | K18: =J18/C18 -> 84.179688 | L18: =E18+G18+I18+K18 -> 108.39844 | M18: =[2]ввод!Q14 -> 7 | N18: =[2]ввод!R14 -> 284 | O18: =[2]ввод!S14 -> 0 | P18: =[2]ввод!T14 -> 92 | Q18: =L18+M18/C18+N18/C18+O18/C18+P18/C18 -> 183.20312 | R18: =[2]ввод!D14 -> 0 | S18: =[2]ввод!H14 -> 0 | T18: =[2]ввод!L14 -> 0 | U18: =[2]ввод!P14 -> 0 | V18: =[2]ввод!E14 -> 4 | W18: =[2]ввод!I14 -> 18 | X18: =[2]ввод!M14 -> 0
A19: 47 | B19: фаленский | C19: 5.12 | D19: =[2]ввод!C49 -> 13 | E19: =D19/C19 -> 2.5390625 | F19: =[2]ввод!G49 -> 31 | G19: =F19/C19 -> 6.0546875 | H19: =[2]ввод!K49 -> 0 | I19: =H19/C19 -> 0 | J19: =[2]ввод!O49 -> 159 | K19: =J19/C19 -> 31.054688 | L19: =E19+G19+I19+K19 -> 39.648438 | M19: =[2]ввод!Q49 -> 0 | N19: =[2]ввод!R49 -> 199 | O19: =[2]ввод!S49 -> 0 | P19: =[2]ввод!T49 -> 39 | Q19: =L19+M19/C19+N19/C19+O19/C19+P19/C19 -> 86.132812 | R19: =[2]ввод!D49 -> 0 | S19: =[2]ввод!H49 -> 0 | T19: =[2]ввод!L49 -> 0 | U19: =[2]ввод!P49 -> 0 | V19: =[2]ввод!E49 -> 1 | W19: =[2]ввод!I49 -> 1 | X19: =[2]ввод!M49 -> 0
A20: Итого по Зуевскому судебному району | C20: 5.12 | D20: =D18+D19 -> 27 | E20: =D20/C20/COUNT(C18:C19) -> 2.6367188 | F20: =F18+F19 -> 141 | G20: =F20/C20/COUNT(C18:C19) -> 13.769531 | H20: =H18+H19 -> 0 | I20: =H20/C20/COUNT(C18:C19) -> 0 | J20: =J18+J19 -> 590 | K20: =J20/C20/COUNT(C18:C19) -> 57.617188 | L20: =E20+G20+I20+K20 -> 74.023438 | M20: =M18+M19 -> 7 | N20: =N18+N19 -> 483 | O20: =O18+O19 -> 0 | P20: =P18+P19 -> 131 | Q20: =L20+M20/C20/COUNT(C18:C19)+N20/C20/COUNT(C18:C19)+O20/C20/COUNT(C18:C19)+P20/C20/COUNT(C18:C19) -> 134.66797 | R20: =R18+R19 -> 0 | S20: =S18+S19 -> 0 | T20: =T18+T19 -> 0 | U20: =U18+U19 -> 0 | V20: =V18+V19 -> 5 | W20: =W18+W19 -> 19 | X20: =X18+X19 -> 0
A21: 15 | B21: кирово-чепецкий | C21: 5.12 | D21: =[2]ввод!C17 -> 4 | E21: =D21/C21 -> 0.78125 | F21: =[2]ввод!G17 -> 73 | G21: =F21/C21 -> 14.257812 | H21: =[2]ввод!K17 -> 0 | I21: =H21/C21 -> 0 | J21: =[2]ввод!O17 -> 319 | K21: =J21/C21 -> 62.304688 | L21: =E21+G21+I21+K21 -> 77.34375 | M21: =[2]ввод!Q17 -> 8 | N21: =[2]ввод!R17 -> 406 | O21: =[2]ввод!S17 -> 0 | P21: =[2]ввод!T17 -> 30 | Q21: =L21+M21/C21+N21/C21+O21/C21+P21/C21 -> 164.0625 | R21: =[2]ввод!D17 -> 0 | S21: =[2]ввод!H17 -> 0 | T21: =[2]ввод!L17 -> 0 | U21: =[2]ввод!P17 -> 0 | V21: =[2]ввод!E17 -> 3 | W21: =[2]ввод!I17 -> 9 | X21: =[2]ввод!M17 -> 0
A22: 16 | B22: кирово-чепецкий | C22: 5.12 | D22: =[2]ввод!C18 -> 12 | E22: =D22/C22 -> 2.34375 | F22: =[2]ввод!G18 -> 86 | G22: =F22/C22 -> 16.796875 | H22: =[2]ввод!K18 -> 0 | I22: =H22/C22 -> 0 | J22: =[2]ввод!O18 -> 251 | K22: =J22/C22 -> 49.023438 | L22: =E22+G22+I22+K22 -> 68.164062 | M22: =[2]ввод!Q18 -> 3 | N22: =[2]ввод!R18 -> 181 | O22: =[2]ввод!S18 -> 0 | P22: =[2]ввод!T18 -> 13 | Q22: =L22+M22/C22+N22/C22+O22/C22+P22/C22 -> 106.64062 | R22: =[2]ввод!D18 -> 0 | S22: =[2]ввод!H18 -> 0 | T22: =[2]ввод!L18 -> 0 | U22: =[2]ввод!P18 -> 0 | V22: =[2]ввод!E18 -> 1 | W22: =[2]ввод!I18 -> 14 | X22: =[2]ввод!M18 -> 0
A23: 17 | B23: кирово-чепецкий | C23: 5.12 | D23: =[2]ввод!C19 -> 2 | E23: =D23/C23 -> 0.390625 | F23: =[2]ввод!G19 -> 132 | G23: =F23/C23 -> 25.78125 | H23: =[2]ввод!K19 -> 0 | I23: =H23/C23 -> 0 | J23: =[2]ввод!O19 -> 237 | K23: =J23/C23 -> 46.289062 | L23: =E23+G23+I23+K23 -> 72.460938 | M23: =[2]ввод!Q19 -> 5 | N23: =[2]ввод!R19 -> 496 | O23: =[2]ввод!S19 -> 0 | P23: =[2]ввод!T19 -> 9 | Q23: =L23+M23/C23+N23/C23+O23/C23+P23/C23 -> 172.07031 | R23: =[2]ввод!D19 -> 0 | S23: =[2]ввод!H19 -> 0 | T23: =[2]ввод!L19 -> 0 | U23: =[2]ввод!P19 -> 0 | V23: =[2]ввод!E19 -> 2 | W23: =[2]ввод!I19 -> 24 | X23: =[2]ввод!M19 -> 0
A24: 18 | B24: кирово-чепецкий | C24: 5.12 | D24: =[2]ввод!C20 -> 5 | E24: =D24/C24 -> 0.9765625 | F24: =[2]ввод!G20 -> 100 | G24: =F24/C24 -> 19.53125 | H24: =[2]ввод!K20 -> 0 | I24: =H24/C24 -> 0 | J24: =[2]ввод!O20 -> 475 | K24: =J24/C24 -> 92.773438 | L24: =E24+G24+I24+K24 -> 113.28125 | M24: =[2]ввод!Q20 -> 5 | N24: =[2]ввод!R20 -> 418 | O24: =[2]ввод!S20 -> 0 | P24: =[2]ввод!T20 -> 18 | Q24: =L24+M24/C24+N24/C24+O24/C24+P24/C24 -> 199.41406 | R24: =[2]ввод!D20 -> 0 | S24: =[2]ввод!H20 -> 0 | T24: =[2]ввод!L20 -> 0 | U24: =[2]ввод!P20 -> 0 | V24: =[2]ввод!E20 -> 3 | W24: =[2]ввод!I20 -> 35 | X24: =[2]ввод!M20 -> 0
A25: 74 | B25: кирово-чепецкий | C25: 5.12 | D25: =[2]ввод!C76 -> 15 | E25: =D25/C25 -> 2.9296875 | F25: =[2]ввод!G76 -> 102 | G25: =F25/C25 -> 19.921875 | H25: =[2]ввод!K76 -> 0 | I25: =H25/C25 -> 0 | J25: =[2]ввод!O76 -> 276 | K25: =J25/C25 -> 53.90625 | L25: =E25+G25+I25+K25 -> 76.757812 | M25: =[2]ввод!Q76 -> 14 | N25: =[2]ввод!R76 -> 456 | O25: =[2]ввод!S76 -> 1 | P25: =[2]ввод!T76 -> 28 | Q25: =L25+M25/C25+N25/C25+O25/C25+P25/C25 -> 174.21875 | R25: =[2]ввод!D76 -> 0 | S25: =[2]ввод!H76 -> 0 | T25: =[2]ввод!L76 -> 0 | U25: =[2]ввод!P76 -> 0 | V25: =[2]ввод!E76 -> 4 | W25: =[2]ввод!I76 -> 13 | X25: =[2]ввод!M76 -> 0
A26: Итого по Кирово-Чепецкому судебный району | C26: 5.12 | D26: =D23+D24+D22+D21+D25 -> 38 | E26: =D26/C26/COUNT(C21:C25) -> 1.484375 | F26: =F21+F22+F23+F24+F25 -> 493 | G26: =F26/C26/COUNT(C21:C25) -> 19.257812 | H26: =H21+H22+H23+H24+H25 -> 0 | I26: =H26/C26/COUNT(C21:C25) -> 0 | J26: =J23+J24+J22+J21+J25 -> 1558 | K26: =J26/C26/COUNT(C21:C25) -> 60.859375 | L26: =E26+G26+I26+K26 -> 81.601562 | M26: =M23+M24+M22+M21+M25 -> 35 | N26: =N23+N24+N22+N21+N25 -> 1957 | O26: =O23+O24+O22+O21+O25 -> 1 | P26: =P23+P24+P22+P21+P25 -> 98 | Q26: =L26+M26/C26/COUNT(C21:C25)+N26/C26/COUNT(C21:C25)+O26/C26/COUNT(C21:C25)+P26/C26/COUNT(C21:C25) -> 163.28125 | R26: =R21+R22+R23+R24+R25 -> 0 | S26: =S21+S22+S23+S24+S25 -> 0 | T26: =T21+T22+T23+T24+T25 -> 0 | U26: =U21+U22+U23+U24+U25 -> 0 | V26: =V21+V22+V23+V24+V25 -> 13 | W26: =W23+W24+W22+W21+W25 -> 95 | X26: =X21+X22+X23+X24+X25 -> 0
A27: 19 | B27: котельничский | C27: 5.12 | D27: =[2]ввод!C21 -> 3 | E27: =D27/C27 -> 0.5859375 | F27: =[2]ввод!G21 -> 41 | G27: =F27/C27 -> 8.0078125 | H27: =[2]ввод!K21 -> 0 | I27: =H27/C27 -> 0 | J27: =[2]ввод!O21 -> 141 | K27: =J27/C27 -> 27.539062 | L27: =E27+G27+I27+K27 -> 36.132812 | M27: =[2]ввод!Q21 -> 2 | N27: =[2]ввод!R21 -> 814 | O27: =[2]ввод!S21 -> 1 | P27: =[2]ввод!T21 -> 76 | Q27: =L27+M27/C27+N27/C27+O27/C27+P27/C27 -> 210.54688 | R27: =[2]ввод!D21 -> 0 | S27: =[2]ввод!H21 -> 0 | T27: =[2]ввод!L21 -> 0 | U27: =[2]ввод!P21 -> 0 | V27: =[2]ввод!E21 -> 3 | W27: =[2]ввод!I21 -> 5 | X27: =[2]ввод!M21 -> 0
A28: 20 | B28: котельничский | C28: 5.12 | D28: =[2]ввод!C22 -> 11 | E28: =D28/C28 -> 2.1484375 | F28: =[2]ввод!G22 -> 45 | G28: =F28/C28 -> 8.7890625 | H28: =[2]ввод!K22 -> 0 | I28: =H28/C28 -> 0 | J28: =[2]ввод!O22 -> 149 | K28: =J28/C28 -> 29.101562 | L28: =E28+G28+I28+K28 -> 40.039062 | M28: =[2]ввод!Q22 -> 1 | N28: =[2]ввод!R22 -> 1028 | O28: =[2]ввод!S22 -> 0 | P28: =[2]ввод!T22 -> 27 | Q28: =L28+M28/C28+N28/C28+O28/C28+P28/C28 -> 246.28906 | R28: =[2]ввод!D22 -> 0 | S28: =[2]ввод!H22 -> 0 | T28: =[2]ввод!L22 -> 0 | U28: =[2]ввод!P22 -> 0 | V28: =[2]ввод!E22 -> 2 | W28: =[2]ввод!I22 -> 9 | X28: =[2]ввод!M22 -> 0
A29: 75 | B29: котельничский | C29: 5.12 | D29: =[2]ввод!C77 -> 8 | E29: =D29/C29 -> 1.5625 | F29: =[2]ввод!G77 -> 57 | G29: =F29/C29 -> 11.132812 | H29: =[2]ввод!K77 -> 0 | I29: =H29/C29 -> 0 | J29: =[2]ввод!O77 -> 168 | K29: =J29/C29 -> 32.8125 | L29: =E29+G29+I29+K29 -> 45.507812 | M29: =[2]ввод!Q77 -> 6 | N29: =[2]ввод!R77 -> 616 | O29: =[2]ввод!S77 -> 1 | P29: =[2]ввод!T77 -> 31 | Q29: =L29+M29/C29+N29/C29+O29/C29+P29/C29 -> 173.24219 | R29: =[2]ввод!D77 -> 0 | S29: =[2]ввод!H77 -> 0 | T29: =[2]ввод!L77 -> 0 | U29: =[2]ввод!P77 -> 0 | V29: =[2]ввод!E77 -> 3 | W29: =[2]ввод!I77 -> 10 | X29: =[2]ввод!M77 -> 0
A30: 11 | B30: даровской | C30: 5.12 | D30: =[2]ввод!C13 -> 4 | E30: =D30/C30 -> 0.78125 | F30: =[2]ввод!G13 -> 40 | G30: =F30/C30 -> 7.8125 | H30: =[2]ввод!K13 -> 0 | I30: =H30/C30 -> 0 | J30: =[2]ввод!O13 -> 133 | K30: =J30/C30 -> 25.976562 | L30: =E30+G30+I30+K30 -> 34.570312 | M30: =[2]ввод!Q13 -> 3 | N30: =[2]ввод!R13 -> 265 | O30: =[2]ввод!S13 -> 2 | P30: =[2]ввод!T13 -> 5 | Q30: =L30+M30/C30+N30/C30+O30/C30+P30/C30 -> 88.28125 | R30: =[2]ввод!D13 -> 0 | S30: =[2]ввод!H13 -> 0 | T30: =[2]ввод!L13 -> 0 | U30: =[2]ввод!P13 -> 0 | V30: =[2]ввод!E13 -> 1 | W30: =[2]ввод!I13 -> 4 | X30: =[2]ввод!M13 -> 0
A31: 32 | B31: орловский | C31: 5.12 | D31: =[2]ввод!C34 -> 9 | E31: =D31/C31 -> 1.7578125 | F31: =[2]ввод!G34 -> 34 | G31: =F31/C31 -> 6.640625 | H31: =[2]ввод!K34 -> 0 | I31: =H31/C31 -> 0 | J31: =[2]ввод!O34 -> 160 | K31: =J31/C31 -> 31.25 | L31: =E31+G31+I31+K31 -> 39.648438 | M31: =[2]ввод!Q34 -> 1 | N31: =[2]ввод!R34 -> 442 | O31: =[2]ввод!S34 -> 0 | P31: =[2]ввод!T34 -> 79 | Q31: =L31+M31/C31+N31/C31+O31/C31+P31/C31 -> 141.60156 | R31: =[2]ввод!D34 -> 0 | S31: =[2]ввод!H34 -> 0 | T31: =[2]ввод!L34 -> 0 | U31: =[2]ввод!P34 -> 0 | V31: =[2]ввод!E34 -> 0 | W31: =[2]ввод!I34 -> 7 | X31: =[2]ввод!M34 -> 0
A32: Итого по Котельничскому судебному району | C32: 5.12 | D32: =SUM(D27:D31) -> 35 | E32: =D32/C32/COUNT(C27:C31) -> 1.3671875 | F32: =SUM(F27:F31) -> 217 | G32: =F32/C32/COUNT(C27:C31) -> 8.4765625 | H32: =SUM(H27:H31) -> 0 | I32: =H32/C32/COUNT(C27:C31) -> 0 | J32: =SUM(J27:J31) -> 751 | K32: =J32/C32/COUNT(C27:C31) -> 29.335938 | L32: =E32+G32+I32+K32 -> 39.179688 | M32: =SUM(M27:M31) -> 13 | N32: =SUM(N27:N31) -> 3165 | O32: =SUM(O27:O31) -> 4 | P32: =SUM(P27:P31) -> 218 | Q32: =L32+M32/C32/COUNT(C27:C31)+N32/C32/COUNT(C27:C31)+O32/C32/COUNT(C27:C31)+P32/C32/COUNT(C27:C31) -> 171.99219 | R32: =SUM(R27:R31) -> 0 | S32: =SUM(S27:S31) -> 0 | T32: =SUM(T27:T31) -> 0 | U32: =SUM(U27:U31) -> 0 | V32: =SUM(V27:V31) -> 9 | W32: =SUM(W27:W31) -> 35 | X32: =SUM(X27:X31) -> 0
A33: 21 | B33: Куменский | C33: 5.12 | D33: =[2]ввод!C23 -> 11 | E33: =D33/C33 -> 2.1484375 | F33: =[2]ввод!G23 -> 84 | G33: =F33/C33 -> 16.40625 | H33: =[2]ввод!K23 -> 0 | I33: =H33/C33 -> 0 | J33: =[2]ввод!O23 -> 193 | K33: =J33/C33 -> 37.695312 | L33: =E33+G33+I33+K33 -> 56.25 | M33: =[2]ввод!Q23 -> 5 | N33: =[2]ввод!R23 -> 319 | O33: =[2]ввод!S23 -> 0 | P33: =[2]ввод!T23 -> 41 | Q33: =L33+M33/C33+N33/C33+O33/C33+P33/C33 -> 127.53906 | R33: =[2]ввод!D23 -> 0 | S33: =[2]ввод!H23 -> 0 | T33: =[2]ввод!L23 -> 0 | U33: =[2]ввод!P23 -> 0 | V33: =[2]ввод!E23 -> 2 | W33: =[2]ввод!I23 -> 15 | X33: =[2]ввод!M23 -> 0
A34: 23 | B34: Лузский | C34: 5.12 | D34: =[2]ввод!C25 -> 10 | E34: =D34/C34 -> 1.953125 | F34: =[2]ввод!G25 -> 52 | G34: =F34/C34 -> 10.15625 | H34: =[2]ввод!K25 -> 0 | I34: =H34/C34 -> 0 | J34: =[2]ввод!O25 -> 364 | K34: =J34/C34 -> 71.09375 | L34: =E34+G34+I34+K34 -> 83.203125 | M34: =[2]ввод!Q25 -> 0 | N34: =[2]ввод!R25 -> 522 | O34: =[2]ввод!S25 -> 0 | P34: =[2]ввод!T25 -> 44 | Q34: =L34+M34/C34+N34/C34+O34/C34+P34/C34 -> 193.75 | R34: =[2]ввод!D25 -> 0 | S34: =[2]ввод!H25 -> 0 | T34: =[2]ввод!L25 -> 0 | U34: =[2]ввод!P25 -> 0 | V34: =[2]ввод!E25 -> 3 | W34: =[2]ввод!I25 -> 10 | X34: =[2]ввод!M25 -> 0
A35: 24 | B35: малмыжский | C35: 5.12 | D35: =[2]ввод!C26 -> 22 | E35: =D35/C35 -> 4.296875 | F35: =[2]ввод!G26 -> 40 | G35: =F35/C35 -> 7.8125 | H35: =[2]ввод!K26 -> 0 | I35: =H35/C35 -> 0 | J35: =[2]ввод!O26 -> 287 | K35: =J35/C35 -> 56.054688 | L35: =E35+G35+I35+K35 -> 68.164062 | M35: =[2]ввод!Q26 -> 4 | N35: =[2]ввод!R26 -> 602 | O35: =[2]ввод!S26 -> 0 | P35: =[2]ввод!T26 -> 3 | Q35: =L35+M35/C35+N35/C35+O35/C35+P35/C35 -> 187.10938 | R35: =[2]ввод!D26 -> 0 | S35: =[2]ввод!H26 -> 0 | T35: =[2]ввод!L26 -> 0 | U35: =[2]ввод!P26 -> 0 | V35: =[2]ввод!E26 -> 6 | W35: =[2]ввод!I26 -> 15 | X35: =[2]ввод!M26 -> 0
A36: 14 | B36: кильмезский | C36: 5.12 | D36: =[2]ввод!C16 -> 18 | E36: =D36/C36 -> 3.515625 | F36: =[2]ввод!G16 -> 38 | G36: =F36/C36 -> 7.421875 | H36: =[2]ввод!K16 -> 0 | I36: =H36/C36 -> 0 | J36: =[2]ввод!O16 -> 132 | K36: =J36/C36 -> 25.78125 | L36: =E36+G36+I36+K36 -> 36.71875 | M36: =[2]ввод!Q16 -> 5 | N36: =[2]ввод!R16 -> 501 | O36: =[2]ввод!S16 -> 1 | P36: =[2]ввод!T16 -> 20 | Q36: =L36+M36/C36+N36/C36+O36/C36+P36/C36 -> 139.64844 | R36: =[2]ввод!D16 -> 0 | S36: =[2]ввод!H16 -> 0 | T36: =[2]ввод!L16 -> 0 | U36: =[2]ввод!P16 -> 0 | V36: =[2]ввод!E16 -> 6 | W36: =[2]ввод!I16 -> 8 | X36: =[2]ввод!M16 -> 0
A37: Итого по Малмыжскому судебному району | C37: 5.12 | D37: =D35+D36 -> 40 | E37: =D37/C37/COUNT(C35:C36) -> 3.90625 | F37: =F35+F36 -> 78 | G37: =F37/C37/COUNT(C35:C36) -> 7.6171875 | H37: =H35+H36 -> 0 | I37: =H37/C37/COUNT(C35:C36) -> 0 | J37: =J35+J36 -> 419 | K37: =J37/C37/COUNT(C35:C36) -> 40.917969 | L37: =E37+G37+I37+K37 -> 52.441406 | M37: =M35+M36 -> 9 | N37: =N35+N36 -> 1103 | O37: =O35+O36 -> 1 | P37: =P35+P36 -> 23 | Q37: =L37+M37/C37/COUNT(C35:C36)+N37/C37/COUNT(C35:C36)+O37/C37/COUNT(C35:C36)+P37/C37/COUNT(C35:C36) -> 163.37891 | R37: =R35+R36 -> 0 | S37: =S35+S36 -> 0 | T37: =T35+T36 -> 0 | U37: =U35+U36 -> 0 | V37: =V35+V36 -> 12 | W37: =W35+W36 -> 23 | X37: =X35+X36 -> 0
A38: 25 | B38: мурашинский | C38: 5.12 | D38: =[2]ввод!C27 -> 10 | E38: =D38/C38 -> 1.953125 | F38: =[2]ввод!G27 -> 33 | G38: =F38/C38 -> 6.4453125 | H38: =[2]ввод!K27 -> 0 | I38: =H38/C38 -> 0 | J38: =[2]ввод!O27 -> 202 | K38: =J38/C38 -> 39.453125 | L38: =E38+G38+I38+K38 -> 47.851562 | M38: =[2]ввод!Q27 -> 1 | N38: =[2]ввод!R27 -> 378 | O38: =[2]ввод!S27 -> 0 | P38: =[2]ввод!T27 -> 17 | Q38: =L38+M38/C38+N38/C38+O38/C38+P38/C38 -> 125.19531 | R38: =[2]ввод!D27 -> 0 | S38: =[2]ввод!H27 -> 0 | T38: =[2]ввод!L27 -> 0 | U38: =[2]ввод!P27 -> 0 | V38: =[2]ввод!E27 -> 2 | W38: =[2]ввод!I27 -> 5 | X38: =[2]ввод!M27 -> 0
A39: 31 | B39: опаринский | C39: 5.12 | D39: =[2]ввод!C33 -> 7 | E39: =D39/C39 -> 1.3671875 | F39: =[2]ввод!G33 -> 22 | G39: =F39/C39 -> 4.296875 | H39: =[2]ввод!K33 -> 0 | I39: =H39/C39 -> 0 | J39: =[2]ввод!O33 -> 119 | K39: =J39/C39 -> 23.242188 | L39: =E39+G39+I39+K39 -> 28.90625 | M39: =[2]ввод!Q33 -> 2 | N39: =[2]ввод!R33 -> 246 | O39: =[2]ввод!S33 -> 1 | P39: =[2]ввод!T33 -> 15 | Q39: =L39+M39/C39+N39/C39+O39/C39+P39/C39 -> 80.46875 | R39: =[2]ввод!D33 -> 0 | S39: =[2]ввод!H33 -> 0 | T39: =[2]ввод!L33 -> 0 | U39: =[2]ввод!P33 -> 0 | V39: =[2]ввод!E33 -> 0 | W39: =[2]ввод!I33 -> 3 | X39: =[2]ввод!M33 -> 0
A40: Итого по Мурашинскому судебному району | C40: 5.12 | D40: =D38+D39 -> 17 | E40: =D40/C40/COUNT(C38:C39) -> 1.6601562 | F40: =F38+F39 -> 55 | G40: =F40/C40/COUNT(C38:C39) -> 5.3710938 | H40: =H38+H39 -> 0 | I40: =H40/C40/COUNT(C38:C39) -> 0 | J40: =J38+J39 -> 321 | K40: =J40/C40/COUNT(C38:C39) -> 31.347656 | L40: =E40+G40+I40+K40 -> 38.378906 | M40: =M38+M39 -> 3 | N40: =N38+N39 -> 624 | O40: =O38+O39 -> 1 | P40: =P38+P39 -> 32 | Q40: =L40+M40/C40/COUNT(C38:C39)+N40/C40/COUNT(C38:C39)+O40/C40/COUNT(C38:C39)+P40/C40/COUNT(C38:C39) -> 102.83203 | R40: =R38+R39 -> 0 | S40: =S38+S39 -> 0 | T40: =T38+T39 -> 0 | U40: =U38+U39 -> 0 | V40: =V38+V39 -> 2 | W40: =W38+W39 -> 8 | X40: =X38+X39 -> 0
A41: 27 | B41: немский | C41: 5.12 | D41: =[2]ввод!C29 -> 7 | E41: =D41/C41 -> 1.3671875 | F41: =[2]ввод!G29 -> 22 | G41: =F41/C41 -> 4.296875 | H41: =[2]ввод!K29 -> 0 | I41: =H41/C41 -> 0 | J41: =[2]ввод!O29 -> 108 | K41: =J41/C41 -> 21.09375 | L41: =E41+G41+I41+K41 -> 26.757812 | M41: =[2]ввод!Q29 -> 3 | N41: =[2]ввод!R29 -> 156 | O41: =[2]ввод!S29 -> 5 | P41: =[2]ввод!T29 -> 46 | Q41: =L41+M41/C41+N41/C41+O41/C41+P41/C41 -> 67.773438 | R41: =[2]ввод!D29 -> 0 | S41: =[2]ввод!H29 -> 0 | T41: =[2]ввод!L29 -> 0 | U41: =[2]ввод!P29 -> 0 | V41: =[2]ввод!E29 -> 2 | W41: =[2]ввод!I29 -> 4 | X41: =[2]ввод!M29 -> 0
A42: 28 | B42: нолинский | C42: 5.12 | D42: =[2]ввод!C30 -> 16 | E42: =D42/C42 -> 3.125 | F42: =[2]ввод!G30 -> 62 | G42: =F42/C42 -> 12.109375 | H42: =[2]ввод!K30 -> 0 | I42: =H42/C42 -> 0 | J42: =[2]ввод!O30 -> 188 | K42: =J42/C42 -> 36.71875 | L42: =E42+G42+I42+K42 -> 51.953125 | M42: =[2]ввод!Q30 -> 7 | N42: =[2]ввод!R30 -> 369 | O42: =[2]ввод!S30 -> 0 | P42: =[2]ввод!T30 -> 42 | Q42: =L42+M42/C42+N42/C42+O42/C42+P42/C42 -> 133.59375 | R42: =[2]ввод!D30 -> 0 | S42: =[2]ввод!H30 -> 0 | T42: =[2]ввод!L30 -> 0 | U42: =[2]ввод!P30 -> 0 | V42: =[2]ввод!E30 -> 5 | W42: =[2]ввод!I30 -> 12 | X42: =[2]ввод!M30 -> 0
A43: 43 | B43: сунский | C43: 5.12 | D43: =[2]ввод!C45 -> 9 | E43: =D43/C43 -> 1.7578125 | F43: =[2]ввод!G45 -> 11 | G43: =F43/C43 -> 2.1484375 | H43: =[2]ввод!K45 -> 0 | I43: =H43/C43 -> 0 | J43: =[2]ввод!O45 -> 152 | K43: =J43/C43 -> 29.6875 | L43: =E43+G43+I43+K43 -> 33.59375 | M43: =[2]ввод!Q45 -> 2 | N43: =[2]ввод!R45 -> 119 | O43: =[2]ввод!S45 -> 0 | P43: =[2]ввод!T45 -> 0 | Q43: =L43+M43/C43+N43/C43+O43/C43+P43/C43 -> 57.226562 | R43: =[2]ввод!D45 -> 0 | S43: =[2]ввод!H45 -> 0 | T43: =[2]ввод!L45 -> 0 | U43: =[2]ввод!P45 -> 0 | V43: =[2]ввод!E45 -> 2 | W43: =[2]ввод!I45 -> 3 | X43: =[2]ввод!M45 -> 0
...
