Workbook

Sheet пост
A1: Сведения по судебным участкам Кировской области
A2: о нагрузке по поступившим уголовным, гражданским (административным) делам и делам об административных правонарушениях за 6 месяцев 2026 года
A3: № участка | B3: Муниципальный район (округ)Кировской области/район г.Кирова | C3: коэффициент нагрузки | D3: поступило дел
D5: уголовных | F5: гражданских | H5: административных | J5: об админ. правонарушениях | L5: средне-месячная нагрузка
D6: поступило | E6: на 1 судью в месяц | F6: поступило | G6: на 1 судью в месяц | H6: поступило | I6: на 1 судью в месяц | J6: поступило | K6: на 1 судью в месяц
A10: 1 | B10: 2 | D10: 3 | E10: 4 | F10: 5 | G10: 6 | H10: 7 | I10: 8 | J10: 9 | K10: 10 | L10: 11
A11: 5 | B11: верхнекамский | C11: 5.12 | D11: =[1]ввод!B7 -> 10 | E11: =D11/C11 -> 1.953125 | F11: =[1]ввод!F7 -> 1152 | G11: =F11/C11 -> 225 | H11: =[1]ввод!J7 -> 1 | I11: =H11/C11 -> 0.1953125 | J11: =[1]ввод!N7 -> 241 | K11: =J11/C11 -> 47.070312 | L11: =E11+G11+I11+K11 -> 274.21875
A12: 6 | B12: верхнекамский | C12: 5.12 | D12: =[1]ввод!B8 -> 4 | E12: =D12/C12 -> 0.78125 | F12: =[1]ввод!F8 -> 502 | G12: =F12/C12 -> 98.046875 | H12: =[1]ввод!J8 -> 0 | I12: =H12/C12 -> 0 | J12: =[1]ввод!N8 -> 98 | K12: =J12/C12 -> 19.140625 | L12: =E12+G12+I12+K12 -> 117.96875
A13: Итого по Верхнекамскому району | C13: 5.12 | D13: =D11+D12 -> 14 | E13: =D13/C13/COUNT(C11:C12) -> 1.3671875 | F13: =F11+F12 -> 1654 | G13: =F13/C13/COUNT(C11:C12) -> 161.52344 | H13: =H11+H12 -> 1 | I13: =H13/C13/COUNT(C11:C12) -> 0.09765625 | J13: =J11+J12 -> 339 | K13: =J13/C13/COUNT(C11:C12) -> 33.105469 | L13: =E13+G13+I13+K13 -> 196.09375
A14: 8 | B14: вятскополянский | C14: 5.12 | D14: =[1]ввод!B10 -> 13 | E14: =D14/C14 -> 2.5390625 | F14: =[1]ввод!F10 -> 1207 | G14: =F14/C14 -> 235.74219 | H14: =[1]ввод!J10 -> 0 | I14: =H14/C14 -> 0 | J14: =[1]ввод!N10 -> 309 | K14: =J14/C14 -> 60.351562 | L14: =E14+G14+I14+K14 -> 298.63281
A15: 10 | B15: вятскополянский | C15: 5.12 | D15: =[1]ввод!B12 -> 10 | E15: =D15/C15 -> 1.953125 | F15: =[1]ввод!F12 -> 1315 | G15: =F15/C15 -> 256.83594 | H15: =[1]ввод!J12 -> 1 | I15: =H15/C15 -> 0.1953125 | J15: =[1]ввод!N12 -> 212 | K15: =J15/C15 -> 41.40625 | L15: =E15+G15+I15+K15 -> 300.39062
A16: 73 | B16: вятскополянский | C16: 5.12 | D16: =[1]ввод!B75 -> 8 | E16: =D16/C16 -> 1.5625 | F16: =[1]ввод!F75 -> 1172 | G16: =F16/C16 -> 228.90625 | H16: =[1]ввод!J75 -> 1 | I16: =H16/C16 -> 0.1953125 | J16: =[1]ввод!N75 -> 219 | K16: =J16/C16 -> 42.773438 | L16: =E16+G16+I16+K16 -> 273.4375
A17: Итого по Вятскополянскому району | C17: 5.12 | D17: =SUM(D14:D16) -> 31 | E17: =D17/C17/COUNT(C14:C16) -> 2.0182292 | F17: =SUM(F14:F16) -> 3694 | G17: =F17/C17/COUNT(C14:C16) -> 240.49479 | H17: =SUM(H14:H16) -> 2 | I17: =H17/C17/COUNT(C14:C16) -> 0.13020833 | J17: =SUM(J14:J16) -> 740 | K17: =J17/C17/COUNT(C14:C16) -> 48.177083 | L17: =E17+G17+I17+K17 -> 290.82031
A18: 12 | B18: зуевский | C18: 5.12 | D18: =[1]ввод!B14 -> 17 | E18: =D18/C18 -> 3.3203125 | F18: =[1]ввод!F14 -> 1937 | G18: =F18/C18 -> 378.32031 | H18: =[1]ввод!J14 -> 0 | I18: =H18/C18 -> 0 | J18: =[1]ввод!N14 -> 432 | K18: =J18/C18 -> 84.375 | L18: =E18+G18+I18+K18 -> 466.01562
A19: 47 | B19: фаленский | C19: 5.12 | D19: =[1]ввод!B49 -> 13 | E19: =D19/C19 -> 2.5390625 | F19: =[1]ввод!F49 -> 524 | G19: =F19/C19 -> 102.34375 | H19: =[1]ввод!J49 -> 0 | I19: =H19/C19 -> 0 | J19: =[1]ввод!N49 -> 165 | K19: =J19/C19 -> 32.226562 | L19: =E19+G19+I19+K19 -> 137.10938
A20: Итого по Зуевскому району | C20: 5.12 | D20: =D18+D19 -> 30 | E20: =D20/C20/COUNT(C18:C19) -> 2.9296875 | F20: =F18+F19 -> 2461 | G20: =F20/C20/COUNT(C18:C19) -> 240.33203 | H20: =H18+H19 -> 0 | I20: =H20/C20/COUNT(C18:C19) -> 0 | J20: =J18+J19 -> 597 | K20: =J20/C20/COUNT(C18:C19) -> 58.300781 | L20: =E20+G20+I20+K20 -> 301.5625
A21: 15 | B21: кирово-чепецкий | C21: 5.12 | D21: =[1]ввод!B17 -> 7 | E21: =D21/C21 -> 1.3671875 | F21: =[1]ввод!F17 -> 1664 | G21: =F21/C21 -> 325 | H21: =[1]ввод!J17 -> 0 | I21: =H21/C21 -> 0 | J21: =[1]ввод!N17 -> 324 | K21: =J21/C21 -> 63.28125 | L21: =E21+G21+I21+K21 -> 389.64844
A22: 16 | B22: кирово-чепецкий | C22: 5.12 | D22: =[1]ввод!B18 -> 10 | E22: =D22/C22 -> 1.953125 | F22: =[1]ввод!F18 -> 1651 | G22: =F22/C22 -> 322.46094 | H22: =[1]ввод!J18 -> 2 | I22: =H22/C22 -> 0.390625 | J22: =[1]ввод!N18 -> 251 | K22: =J22/C22 -> 49.023438 | L22: =E22+G22+I22+K22 -> 373.82812
A23: 17 | B23: кирово-чепецкий | C23: 5.12 | D23: =[1]ввод!B19 -> 4 | E23: =D23/C23 -> 0.78125 | F23: =[1]ввод!F19 -> 1859 | G23: =F23/C23 -> 363.08594 | H23: =[1]ввод!J19 -> 0 | I23: =H23/C23 -> 0 | J23: =[1]ввод!N19 -> 237 | K23: =J23/C23 -> 46.289062 | L23: =E23+G23+I23+K23 -> 410.15625
A24: 18 | B24: кирово-чепецкий | C24: 5.12 | D24: =[1]ввод!B20 -> 7 | E24: =D24/C24 -> 1.3671875 | F24: =[1]ввод!F20 -> 1479 | G24: =F24/C24 -> 288.86719 | H24: =[1]ввод!J20 -> 0 | I24: =H24/C24 -> 0 | J24: =[1]ввод!N20 -> 527 | K24: =J24/C24 -> 102.92969 | L24: =E24+G24+I24+K24 -> 393.16406
A25: 74 | B25: кирово-чепецкий | C25: 5.12 | D25: =[1]ввод!B76 -> 17 | E25: =D25/C25 -> 3.3203125 | F25: =[1]ввод!F76 -> 1393 | G25: =F25/C25 -> 272.07031 | H25: =[1]ввод!J76 -> 1 | I25: =H25/C25 -> 0.1953125 | J25: =[1]ввод!N76 -> 268 | K25: =J25/C25 -> 52.34375 | L25: =E25+G25+I25+K25 -> 327.92969
A26: Итого по Кирово-Чепецкому району | C26: 5.12 | D26: =D21+D22+D23+D24+D25 -> 45 | E26: =D26/C26/COUNT(C21:C25) -> 1.7578125 | F26: =F21+F22+F23+F24+F25 -> 8046 | G26: =F26/C26/COUNT(C21:C25) -> 314.29688 | H26: =H21+H22+H23+H24+H25 -> 3 | I26: =H26/C26/COUNT(C21:C25) -> 0.1171875 | J26: =J21+J22+J23+J24+J25 -> 1607 | K26: =J26/C26/COUNT(C21:C25) -> 62.773438 | L26: =E26+G26+I26+K26 -> 378.94531
A27: 19 | B27: котельничский | C27: 5.12 | D27: =[1]ввод!B21 -> 5 | E27: =D27/C27 -> 0.9765625 | F27: =[1]ввод!F21 -> 793 | G27: =F27/C27 -> 154.88281 | H27: =[1]ввод!J21 -> 0 | I27: =H27/C27 -> 0 | J27: =[1]ввод!N21 -> 149 | K27: =J27/C27 -> 29.101562 | L27: =E27+G27+I27+K27 -> 184.96094
A28: 20 | B28: котельничский | C28: 5.12 | D28: =[1]ввод!B22 -> 12 | E28: =D28/C28 -> 2.34375 | F28: =[1]ввод!F22 -> 624 | G28: =F28/C28 -> 121.875 | H28: =[1]ввод!J22 -> 1 | I28: =H28/C28 -> 0.1953125 | J28: =[1]ввод!N22 -> 148 | K28: =J28/C28 -> 28.90625 | L28: =E28+G28+I28+K28 -> 153.32031
A29: 75 | B29: котельничский | C29: 5.12 | D29: =[1]ввод!B77 -> 10 | E29: =D29/C29 -> 1.953125 | F29: =[1]ввод!F77 -> 961 | G29: =F29/C29 -> 187.69531 | H29: =[1]ввод!J77 -> 0 | I29: =H29/C29 -> 0 | J29: =[1]ввод!N77 -> 177 | K29: =J29/C29 -> 34.570312 | L29: =E29+G29+I29+K29 -> 224.21875
A30: 11 | B30: даровской | C30: 5.12 | D30: =[1]ввод!B13 -> 5 | E30: =D30/C30 -> 0.9765625 | F30: =[1]ввод!F13 -> 478 | G30: =F30/C30 -> 93.359375 | H30: =[1]ввод!J13 -> 0 | I30: =H30/C30 -> 0 | J30: =[1]ввод!N13 -> 130 | K30: =J30/C30 -> 25.390625 | L30: =E30+G30+I30+K30 -> 119.72656
A31: 32 | B31: орловский | C31: 5.12 | D31: =[1]ввод!B34 -> 7 | E31: =D31/C31 -> 1.3671875 | F31: =[1]ввод!F34 -> 521 | G31: =F31/C31 -> 101.75781 | H31: =[1]ввод!J34 -> 1 | I31: =H31/C31 -> 0.1953125 | J31: =[1]ввод!N34 -> 187 | K31: =J31/C31 -> 36.523438 | L31: =E31+G31+I31+K31 -> 139.84375
A32: Итого по Котельничскому району | C32: 5.12 | D32: =SUM(D27:D31) -> 39 | E32: =D32/C32/COUNT(C27:C31) -> 1.5234375 | F32: =SUM(F27:F31) -> 3377 | G32: =F32/C32/COUNT(C27:C31) -> 131.91406 | H32: =SUM(H27:H31) -> 2 | I32: =H32/C32/COUNT(C27:C31) -> 0.078125 | J32: =SUM(J27:J31) -> 791 | K32: =J32/C32/COUNT(C27:C31) -> 30.898438 | L32: =E32+G32+I32+K32 -> 164.41406
A33: 21 | B33: Куменский | C33: 5.12 | D33: =[1]ввод!B23 -> 12 | E33: =D33/C33 -> 2.34375 | F33: =[1]ввод!F23 -> 1149 | G33: =F33/C33 -> 224.41406 | H33: =[1]ввод!J23 -> 0 | I33: =H33/C33 -> 0 | J33: =[1]ввод!N23 -> 193 | K33: =J33/C33 -> 37.695312 | L33: =E33+G33+I33+K33 -> 264.45312
A34: 23 | B34: Лузский | C34: 5.12 | D34: =[1]ввод!B25 -> 13 | E34: =D34/C34 -> 2.5390625 | F34: =[1]ввод!F25 -> 1153 | G34: =F34/C34 -> 225.19531 | H34: =[1]ввод!J25 -> 0 | I34: =H34/C34 -> 0 | J34: =[1]ввод!N25 -> 340 | K34: =J34/C34 -> 66.40625 | L34: =E34+G34+I34+K34 -> 294.14062
A35: 24 | B35: малмыжский | C35: 5.12 | D35: =[1]ввод!B26 -> 23 | E35: =D35/C35 -> 4.4921875 | F35: =[1]ввод!F26 -> 1533 | G35: =F35/C35 -> 299.41406 | H35: =[1]ввод!J26 -> 0 | I35: =H35/C35 -> 0 | J35: =[1]ввод!N26 -> 244 | K35: =J35/C35 -> 47.65625 | L35: =E35+G35+I35+K35 -> 351.5625
A36: 14 | B36: кильмезский | C36: 5.12 | D36: =[1]ввод!B16 -> 22 | E36: =D36/C36 -> 4.296875 | F36: =[1]ввод!F16 -> 847 | G36: =F36/C36 -> 165.42969 | H36: =[1]ввод!J16 -> 0 | I36: =H36/C36 -> 0 | J36: =[1]ввод!N16 -> 135 | K36: =J36/C36 -> 26.367188 | L36: =E36+G36+I36+K36 -> 196.09375
A37: Итого по Малмыжскому району | C37: 5.12 | D37: =D35+D36 -> 45 | E37: =D37/C37/COUNT(C35:C36) -> 4.3945312 | F37: =F35+F36 -> 2380 | G37: =F37/C37/COUNT(C35:C36) -> 232.42188 | H37: =H35+H36 -> 0 | I37: =H37/C37/COUNT(C35:C36) -> 0 | J37: =J35+J36 -> 379 | K37: =J37/C37/COUNT(C35:C36) -> 37.011719 | L37: =E37+G37+I37+K37 -> 273.82812
A38: 25 | B38: мурашинский | C38: 5.12 | D38: =[1]ввод!B27 -> 11 | E38: =D38/C38 -> 2.1484375 | F38: =[1]ввод!F27 -> 755 | G38: =F38/C38 -> 147.46094 | H38: =[1]ввод!J27 -> 0 | I38: =H38/C38 -> 0 | J38: =[1]ввод!N27 -> 210 | K38: =J38/C38 -> 41.015625 | L38: =E38+G38+I38+K38 -> 190.625
A39: 31 | B39: опаринский | C39: 5.12 | D39: =[1]ввод!B33 -> 7 | E39: =D39/C39 -> 1.3671875 | F39: =[1]ввод!F33 -> 578 | G39: =F39/C39 -> 112.89062 | H39: =[1]ввод!J33 -> 0 | I39: =H39/C39 -> 0 | J39: =[1]ввод!N33 -> 120 | K39: =J39/C39 -> 23.4375 | L39: =E39+G39+I39+K39 -> 137.69531
A40: Итого по Мурашинскому району | C40: 5.12 | D40: =D38+D39 -> 18 | E40: =D40/C40/COUNT(C38:C39) -> 1.7578125 | F40: =F38+F39 -> 1333 | G40: =F40/C40/COUNT(C38:C39) -> 130.17578 | H40: =H38+H39 -> 0 | I40: =H40/C40/COUNT(C38:C39) -> 0 | J40: =J38+J39 -> 330 | K40: =J40/C40/COUNT(C38:C39) -> 32.226562 | L40: =E40+G40+I40+K40 -> 164.16016
A41: 27 | B41: немский | C41: 5.12 | D41: =[1]ввод!B29 -> 9 | E41: =D41/C41 -> 1.7578125 | F41: =[1]ввод!F29 -> 348 | G41: =F41/C41 -> 67.96875 | H41: =[1]ввод!J29 -> 1 | I41: =H41/C41 -> 0.1953125 | J41: =[1]ввод!N29 -> 117 | K41: =J41/C41 -> 22.851562 | L41: =E41+G41+I41+K41 -> 92.773438
A42: 28 | B42: нолинский | C42: 5.12 | D42: =[1]ввод!B30 -> 15 | E42: =D42/C42 -> 2.9296875 | F42: =[1]ввод!F30 -> 1188 | G42: =F42/C42 -> 232.03125 | H42: =[1]ввод!J30 -> 0 | I42: =H42/C42 -> 0 | J42: =[1]ввод!N30 -> 195 | K42: =J42/C42 -> 38.085938 | L42: =E42+G42+I42+K42 -> 273.04688
A43: 43 | B43: сунский | C43: 5.12 | D43: =[1]ввод!B45 -> 11 | E43: =D43/C43 -> 2.1484375 | F43: =[1]ввод!F45 -> 299 | G43: =F43/C43 -> 58.398438 | H43: =[1]ввод!J45 -> 0 | I43: =H43/C43 -> 0 | J43: =[1]ввод!N45 -> 162 | K43: =J43/C43 -> 31.640625 | L43: =E43+G43+I43+K43 -> 92.1875
A44: Итого по Нолинскому району | C44: 5.12 | D44: =D41+D42+D43 -> 35 | E44: =D44/C44/COUNT(C41:C43) -> 2.2786458 | F44: =F41+F42+F43 -> 1835 | G44: =F44/C44/COUNT(C41:C43) -> 119.46615 | H44: =H41+H42+H43 -> 1 | I44: =H44/C44/COUNT(C41:C43) -> 0.065104167 | J44: =J41+J42+J43 -> 474 | K44: =J44/C44/COUNT(C41:C43) -> 30.859375 | L44: =E44+G44+I44+K44 -> 152.66927
A45: 29 | B45: омутнинский | C45: 5.12 | D45: =[1]ввод!B31 -> 5 | E45: =D45/C45 -> 0.9765625 | F45: =[1]ввод!F31 -> 750 | G45: =F45/C45 -> 146.48438 | H45: =[1]ввод!J31 -> 2 | I45: =H45/C45 -> 0.390625 | J45: =[1]ввод!N31 -> 208 | K45: =J45/C45 -> 40.625 | L45: =E45+G45+I45+K45 -> 188.47656
A46: 30 | B46: омутнинский | C46: 5.12 | D46: =[1]ввод!B32 -> 6 | E46: =D46/C46 -> 1.171875 | F46: =[1]ввод!F32 -> 815 | G46: =F46/C46 -> 159.17969 | H46: =[1]ввод!J32 -> 0 | I46: =H46/C46 -> 0 | J46: =[1]ввод!N32 -> 234 | K46: =J46/C46 -> 45.703125 | L46: =E46+G46+I46+K46 -> 206.05469
A47: 76 | B47: омутнинский | C47: 5.12 | D47: =[1]ввод!B78 -> 15 | E47: =D47/C47 -> 2.9296875 | F47: =[1]ввод!F78 -> 876 | G47: =F47/C47 -> 171.09375 | H47: =[1]ввод!J78 -> 0 | I47: =H47/C47 -> 0 | J47: =[1]ввод!N78 -> 175 | K47: =J47/C47 -> 34.179688 | L47: =E47+G47+I47+K47 -> 208.20312
A48: 2 | B48: афанасьевский | C48: 5.12 | D48: =[1]ввод!B4 -> 3 | E48: =D48/C48 -> 0.5859375 | F48: =[1]ввод!F4 -> 517 | G48: =F48/C48 -> 100.97656 | H48: =[1]ввод!J4 -> 1 | I48: =H48/C48 -> 0.1953125 | J48: =[1]ввод!N4 -> 140 | K48: =J48/C48 -> 27.34375 | L48: =E48+G48+I48+K48 -> 129.10156
A49: Итого по Омутнинскому району | C49: 5.12 | D49: =SUM(D45:D48) -> 29 | E49: =D49/C49/COUNT(C45:C48) -> 1.4160156 | F49: =SUM(F45:F48) -> 2958 | G49: =F49/C49/COUNT(C45:C48) -> 144.43359 | H49: =SUM(H45:H48) -> 3 | I49: =H49/C49/COUNT(C45:C48) -> 0.14648438 | J49: =SUM(J45:J48) -> 757 | K49: =J49/C49/COUNT(C45:C48) -> 36.962891 | L49: =E49+G49+I49+K49 -> 182.95898
A50: 33 | B50: Оричевский | C50: 5.12 | D50: =[1]ввод!B35 -> 26 | E50: =D50/C50 -> 5.078125 | F50: =[1]ввод!F35 -> 1697 | G50: =F50/C50 -> 331.44531 | H50: =[1]ввод!J35 -> 0 | I50: =H50/C50 -> 0 | J50: =[1]ввод!N35 -> 396 | K50: =J50/C50 -> 77.34375 | L50: =E50+G50+I50+K50 -> 413.86719
A51: 35 | B51: Подосиновский | C51: 5.12 | D51: =[1]ввод!B37 -> 13 | E51: =D51/C51 -> 2.5390625 | F51: =[1]ввод!F37 -> 943 | G51: =F51/C51 -> 184.17969 | H51: =[1]ввод!J37 -> 1 | I51: =H51/C51 -> 0.1953125 | J51: =[1]ввод!N37 -> 263 | K51: =J51/C51 -> 51.367188 | L51: =E51+G51+I51+K51 -> 238.28125
A52: 36 | B52: санчурский | C52: 5.12 | D52: =[1]ввод!B38 -> 4 | E52: =D52/C52 -> 0.78125 | F52: =[1]ввод!F38 -> 436 | G52: =F52/C52 -> 85.15625 | H52: =[1]ввод!J38 -> 1 | I52: =H52/C52 -> 0.1953125 | J52: =[1]ввод!N38 -> 121 | K52: =J52/C52 -> 23.632812 | L52: =E52+G52+I52+K52 -> 109.76562
A53: 13 | B53: кикнурский | C53: 5.12 | D53: =[1]ввод!B15 -> 4 | E53: =D53/C53 -> 0.78125 | F53: =[1]ввод!F15 -> 352 | G53: =F53/C53 -> 68.75 | H53: =[1]ввод!J15 -> 1 | I53: =H53/C53 -> 0.1953125 | J53: =[1]ввод!N15 -> 80 | K53: =J53/C53 -> 15.625 | L53: =E53+G53+I53+K53 -> 85.351562
A54: Итого по Санчурскому району | C54: 5.12 | D54: =D52+D53 -> 8 | E54: =D54/C54/COUNT(C52:C53) -> 0.78125 | F54: =F52+F53 -> 788 | G54: =F54/C54/COUNT(C52:C53) -> 76.953125 | H54: =H52+H53 -> 2 | I54: =H54/C54/COUNT(C52:C53) -> 0.1953125 | J54: =J52+J53 -> 201 | K54: =J54/C54/COUNT(C52:C53) -> 19.628906 | L54: =E54+G54+I54+K54 -> 97.558594
A55: 38 | B55: слободской | C55: 5.12 | D55: =[1]ввод!B40 -> 9 | E55: =D55/C55 -> 1.7578125 | F55: =[1]ввод!F40 -> 799 | G55: =F55/C55 -> 156.05469 | H55: =[1]ввод!J40 -> 0 | I55: =H55/C55 -> 0 | J55: =[1]ввод!N40 -> 186 | K55: =J55/C55 -> 36.328125 | L55: =E55+G55+I55+K55 -> 194.14062
A56: 39 | B56: слободской | C56: 5.12 | D56: =[1]ввод!B41 -> 14 | E56: =D56/C56 -> 2.734375 | F56: =[1]ввод!F41 -> 1175 | G56: =F56/C56 -> 229.49219 | H56: =[1]ввод!J41 -> 0 | I56: =H56/C56 -> 0 | J56: =[1]ввод!N41 -> 167 | K56: =J56/C56 -> 32.617188 | L56: =E56+G56+I56+K56 -> 264.84375
A57: 40 | B57: слободской | C57: 5.12 | D57: =[1]ввод!B42 -> 11 | E57: =D57/C57 -> 2.1484375 | F57: =[1]ввод!F42 -> 1273 | G57: =F57/C57 -> 248.63281 | H57: =[1]ввод!J42 -> 4 | I57: =H57/C57 -> 0.78125 | J57: =[1]ввод!N42 -> 308 | K57: =J57/C57 -> 60.15625 | L57: =E57+G57+I57+K57 -> 311.71875
A58: 77 | B58: слободской | C58: 5.12 | D58: =[1]ввод!B79 -> 3 | E58: =D58/C58 -> 0.5859375 | F58: =[1]ввод!F79 -> 896 | G58: =F58/C58 -> 175 | H58: =[1]ввод!J79 -> 0 | I58: =H58/C58 -> 0 | J58: =[1]ввод!N79 -> 206 | K58: =J58/C58 -> 40.234375 | L58: =E58+G58+I58+K58 -> 215.82031
A59: 3 | B59: белохолуницкий | C59: 5.12 | D59: =[1]ввод!B5 -> 4 | E59: =D59/C59 -> 0.78125 | F59: =[1]ввод!F5 -> 1014 | G59: =F59/C59 -> 198.04688 | H59: =[1]ввод!J5 -> 0 | I59: =H59/C59 -> 0 | J59: =[1]ввод!N5 -> 205 | K59: =J59/C59 -> 40.039062 | L59: =E59+G59+I59+K59 -> 238.86719
A60: 26 | B60: нагорский | C60: 5.12 | D60: =[1]ввод!B28 -> 5 | E60: =D60/C60 -> 0.9765625 | F60: =[1]ввод!F28 -> 353 | G60: =F60/C60 -> 68.945312 | H60: =[1]ввод!J28 -> 0 | I60: =H60/C60 -> 0 | J60: =[1]ввод!N28 -> 100 | K60: =J60/C60 -> 19.53125 | L60: =E60+G60+I60+K60 -> 89.453125
A61: Итого по Слободскому району | C61: 5.12 | D61: =SUM(D55:D60) -> 46 | E61: =D61/C61/COUNT(C55:C60) -> 1.4973958 | F61: =SUM(F55:F60) -> 5510 | G61: =F61/C61/COUNT(C55:C60) -> 179.36198 | H61: =SUM(H55:H60) -> 4 | I61: =H61/C61/COUNT(C55:C60) -> 0.13020833 | J61: =SUM(J55:J60) -> 1172 | K61: =J61/C61/COUNT(C55:C60) -> 38.151042 | L61: =E61+G61+I61+K61 -> 219.14062
A62: 41 | B62: советский | C62: 5.12 | D62: =[1]ввод!B43 -> 29 | E62: =D62/C62 -> 5.6640625 | F62: =[1]ввод!F43 -> 1132 | G62: =F62/C62 -> 221.09375 | H62: =[1]ввод!J43 -> 0 | I62: =H62/C62 -> 0 | J62: =[1]ввод!N43 -> 428 | K62: =J62/C62 -> 83.59375 | L62: =E62+G62+I62+K62 -> 310.35156
A63: 7 | B63: верхошижемский | C63: 5.12 | D63: =[1]ввод!B9 -> 7 | E63: =D63/C63 -> 1.3671875 | F63: =[1]ввод!F9 -> 453 | G63: =F63/C63 -> 88.476562 | H63: =[1]ввод!J9 -> 0 | I63: =H63/C63 -> 0 | J63: =[1]ввод!N9 -> 117 | K63: =J63/C63 -> 22.851562 | L63: =E63+G63+I63+K63 -> 112.69531
A64: 22 | B64: лебяжский | C64: 5.12 | D64: =[1]ввод!B24 -> 11 | E64: =D64/C64 -> 2.1484375 | F64: =[1]ввод!F24 -> 335 | G64: =F64/C64 -> 65.429688 | H64: =[1]ввод!J24 -> 0 | I64: =H64/C64 -> 0 | J64: =[1]ввод!N24 -> 83 | K64: =J64/C64 -> 16.210938 | L64: =E64+G64+I64+K64 -> 83.789062
A65: 34 | B65: пижанский | C65: 5.12 | D65: =[1]ввод!B36 -> 13 | E65: =D65/C65 -> 2.5390625 | F65: =[1]ввод!F36 -> 449 | G65: =F65/C65 -> 87.695312 | H65: =[1]ввод!J36 -> 0 | I65: =H65/C65 -> 0 | J65: =[1]ввод!N36 -> 96 | K65: =J65/C65 -> 18.75 | L65: =E65+G65+I65+K65 -> 108.98438
A66: Итого по Советскому району | C66: 5.12 | D66: =SUM(D62:D65) -> 60 | E66: =D66/C66/COUNT(C62:C65) -> 2.9296875 | F66: =SUM(F62:F65) -> 2369 | G66: =F66/C66/COUNT(C62:C65) -> 115.67383 | H66: =SUM(H62:H65) -> 0 | I66: =H66/C66/COUNT(C62:C65) -> 0 | J66: =SUM(J62:J65) -> 724 | K66: =J66/C66/COUNT(C62:C65) -> 35.351562 | L66: =E66+G66+I66+K66 -> 153.95508
A67: 45 | B67: унинский | C67: 5.12 | D67: =[1]ввод!B47 -> 4 | E67: =D67/C67 -> 0.78125 | F67: =[1]ввод!F47 -> 386 | G67: =F67/C67 -> 75.390625 | H67: =[1]ввод!J47 -> 0 | I67: =H67/C67 -> 0 | J67: =[1]ввод!N47 -> 101 | K67: =J67/C67 -> 19.726562 | L67: =E67+G67+I67+K67 -> 95.898438
A68: 4 | B68: богородский | C68: 5.12 | D68: =[1]ввод!B6 -> 4 | E68: =D68/C68 -> 0.78125 | F68: =[1]ввод!F6 -> 323 | G68: =F68/C68 -> 63.085938 | H68: =[1]ввод!J6 -> 0 | I68: =H68/C68 -> 0 | J68: =[1]ввод!N6 -> 77 | K68: =J68/C68 -> 15.039062 | L68: =E68+G68+I68+K68 -> 78.90625
A69: Итого по Унинскому району | C69: 5.12 | D69: =D67+D68 -> 8 | E69: =D69/C69/COUNT(C67:C68) -> 0.78125 | F69: =F67+F68 -> 709 | G69: =F69/C69/COUNT(C67:C68) -> 69.238281 | H69: =H67+H68 -> 0 | I69: =H69/C69/COUNT(C67:C68) -> 0 | J69: =J67+J68 -> 178 | K69: =J69/C69/COUNT(C67:C68) -> 17.382812 | L69: =E69+G69+I69+K69 -> 87.402344
A70: 46 | B70: уржумский | C70: 5.12 | D70: =[1]ввод!B48 -> 16 | E70: =D70/C70 -> 3.125 | F70: =[1]ввод!F48 -> 1429 | G70: =F70/C70 -> 279.10156 | H70: =[1]ввод!J48 -> 0 | I70: =H70/C70 -> 0 | J70: =[1]ввод!N48 -> 304 | K70: =J70/C70 -> 59.375 | L70: =E70+G70+I70+K70 -> 341.60156
A71: 48 | B71: шабалинский | C71: 5.12 | D71: =[1]ввод!B50 -> 5 | E71: =D71/C71 -> 0.9765625 | F71: =[1]ввод!F50 -> 445 | G71: =F71/C71 -> 86.914062 | H71: =[1]ввод!J50 -> 0 | I71: =H71/C71 -> 0 | J71: =[1]ввод!N50 -> 102 | K71: =J71/C71 -> 19.921875 | L71: =E71+G71+I71+K71 -> 107.8125
A72: 37 | B72: свечинский | C72: 5.12 | D72: =[1]ввод!B39 -> 1 | E72: =D72/C72 -> 0.1953125 | F72: =[1]ввод!F39 -> 385 | G72: =F72/C72 -> 75.195312 | H72: =[1]ввод!J39 -> 0 | I72: =H72/C72 -> 0 | J72: =[1]ввод!N39 -> 86 | K72: =J72/C72 -> 16.796875 | L72: =E72+G72+I72+K72 -> 92.1875
A73: Итого по Шабалинскому району | C73: 5.12 | D73: =D71+D72 -> 6 | E73: =D73/C73/COUNT(C71:C72) -> 0.5859375 | F73: =F71+F72 -> 830 | G73: =F73/C73/COUNT(C71:C72) -> 81.054688 | H73: =H71+H72 -> 0 | I73: =H73/C73/COUNT(C71:C72) -> 0 | J73: =J71+J72 -> 188 | K73: =J73/C73/COUNT(C71:C72) -> 18.359375 | L73: =E73+G73+I73+K73 -> 100
A74: 49 | B74: юрьянский | C74: 5.12 | D74: =[1]ввод!B51 -> 6 | E74: =D74/C74 -> 1.171875 | F74: =[1]ввод!F51 -> 867 | G74: =F74/C74 -> 169.33594 | H74: =[1]ввод!J51 -> 0 | I74: =H74/C74 -> 0 | J74: =[1]ввод!N51 -> 156 | K74: =J74/C74 -> 30.46875 | L74: =E74+G74+I74+K74 -> 200.97656
A75: 50 | B75: юрьянский | C75: 5.12 | D75: =[1]ввод!B52 -> 11 | E75: =D75/C75 -> 2.1484375 | F75: =[1]ввод!F52 -> 958 | G75: =F75/C75 -> 187.10938 | H75: =[1]ввод!J52 -> 0 | I75: =H75/C75 -> 0 | J75: =[1]ввод!N52 -> 264 | K75: =J75/C75 -> 51.5625 | L75: =E75+G75+I75+K75 -> 240.82031
A76: Итого по Юрьянскому району | C76: 5.12 | D76: =D74+D75 -> 17 | E76: =D76/C76/COUNT(C74:C75) -> 1.6601562 | F76: =F74+F75 -> 1825 | G76: =F76/C76/COUNT(C74:C75) -> 178.22266 | H76: =H74+H75 -> 0 | I76: =H76/C76/COUNT(C74:C75) -> 0 | J76: =J74+J75 -> 420 | K76: =J76/C76/COUNT(C74:C75) -> 41.015625 | L76: =E76+G76+I76+K76 -> 220.89844
A77: 51 | B77: яранский | C77: 5.12 | D77: =[1]ввод!B53 -> 14 | E77: =D77/C77 -> 2.734375 | F77: =[1]ввод!F53 -> 1173 | G77: =F77/C77 -> 229.10156 | H77: =[1]ввод!J53 -> 2 | I77: =H77/C77 -> 0.390625 | J77: =[1]ввод!N53 -> 237 | K77: =J77/C77 -> 46.289062 | L77: =E77+G77+I77+K77 -> 278.51562
A78: 1 | B78: арбажский | C78: 5.12 | D78: =[1]ввод!B3 -> 2 | E78: =D78/C78 -> 0.390625 | F78: =[1]ввод!F3 -> 293 | G78: =F78/C78 -> 57.226562 | H78: =[1]ввод!J3 -> 0 | I78: =H78/C78 -> 0 | J78: =[1]ввод!N3 -> 102 | K78: =J78/C78 -> 19.921875 | L78: =E78+G78+I78+K78 -> 77.539062
A79: 44 | B79: тужинский | C79: 5.12 | D79: =[1]ввод!B46 -> 5 | E79: =D79/C79 -> 0.9765625 | F79: =[1]ввод!F46 -> 239 | G79: =F79/C79 -> 46.679688 | H79: =[1]ввод!J46 -> 0 | I79: =H79/C79 -> 0 | J79: =[1]ввод!N46 -> 94 | K79: =J79/C79 -> 18.359375 | L79: =E79+G79+I79+K79 -> 66.015625
A80: Итого по Яранскому району | C80: 5.12 | D80: =SUM(D77:D79) -> 21 | E80: =D80/C80/COUNT(C77:C79) -> 1.3671875 | F80: =SUM(F77:F79) -> 1705 | G80: =F80/C80/COUNT(C77:C79) -> 111.0026 | H80: =SUM(H77:H79) -> 2 | I80: =H80/C80/COUNT(C77:C79) -> 0.13020833 | J80: =SUM(J77:J79) -> 433 | K80: =J80/C80/COUNT(C77:C79) -> 28.190104 | L80: =E80+G80+I80+K80 -> 140.6901
A81: 52 | B81: ленинский | C81: 5.12 | D81: =[1]ввод!B54 -> 2 | E81: =D81/C81 -> 0.390625 | F81: =[1]ввод!F54 -> 2058 | G81: =F81/C81 -> 401.95312 | H81: =[1]ввод!J54 -> 3 | I81: =H81/C81 -> 0.5859375 | J81: =[1]ввод!N54 -> 283 | K81: =J81/C81 -> 55.273438 | L81: =E81+G81+I81+K81 -> 458.20312
A82: 53 | B82: ленинский | C82: 5.12 | D82: =[1]ввод!B55 -> 18 | E82: =D82/C82 -> 3.515625 | F82: =[1]ввод!F55 -> 1793 | G82: =F82/C82 -> 350.19531 | H82: =[1]ввод!J55 -> 0 | I82: =H82/C82 -> 0 | J82: =[1]ввод!N55 -> 551 | K82: =J82/C82 -> 107.61719 | L82: =E82+G82+I82+K82 -> 461.32812
A83: 54 | B83: ленинский | C83: 5.12 | D83: =[1]ввод!B56 -> 13 | E83: =D83/C83 -> 2.5390625 | F83: =[1]ввод!F56 -> 1685 | G83: =F83/C83 -> 329.10156 | H83: =[1]ввод!J56 -> 0 | I83: =H83/C83 -> 0 | J83: =[1]ввод!N56 -> 472 | K83: =J83/C83 -> 92.1875 | L83: =E83+G83+I83+K83 -> 423.82812
A84: 55 | B84: ленинский | C84: 5.12 | D84: =[1]ввод!B57 -> 11 | E84: =D84/C84 -> 2.1484375 | F84: =[1]ввод!F57 -> 1800 | G84: =F84/C84 -> 351.5625 | H84: =[1]ввод!J57 -> 1 | I84: =H84/C84 -> 0.1953125 | J84: =[1]ввод!N57 -> 469 | K84: =J84/C84 -> 91.601562 | L84: =E84+G84+I84+K84 -> 445.50781
A85: 56 | B85: ленинский | C85: 5.12 | D85: =[1]ввод!B58 -> 14 | E85: =D85/C85 -> 2.734375 | F85: =[1]ввод!F58 -> 1431 | G85: =F85/C85 -> 279.49219 | H85: =[1]ввод!J58 -> 2 | I85: =H85/C85 -> 0.390625 | J85: =[1]ввод!N58 -> 221 | K85: =J85/C85 -> 43.164062 | L85: =E85+G85+I85+K85 -> 325.78125
A86: 57 | B86: ленинский | C86: 5.12 | D86: =[1]ввод!B59 -> 8 | E86: =D86/C86 -> 1.5625 | F86: =[1]ввод!F59 -> 1630 | G86: =F86/C86 -> 318.35938 | H86: =[1]ввод!J59 -> 3 | I86: =H86/C86 -> 0.5859375 | J86: =[1]ввод!N59 -> 335 | K86: =J86/C86 -> 65.429688 | L86: =E86+G86+I86+K86 -> 385.9375
A87: 58 | B87: ленинский | C87: 5.12 | D87: =[1]ввод!B60 -> 24 | E87: =D87/C87 -> 4.6875 | F87: =[1]ввод!F60 -> 1942 | G87: =F87/C87 -> 379.29688 | H87: =[1]ввод!J60 -> 2 | I87: =H87/C87 -> 0.390625 | J87: =[1]ввод!N60 -> 430 | K87: =J87/C87 -> 83.984375 | L87: =E87+G87+I87+K87 -> 468.35938
A88: 70 | B88: ленинский | C88: 5.12 | D88: =[1]ввод!B72 -> 28 | E88: =D88/C88 -> 5.46875 | F88: =[1]ввод!F72 -> 1980 | G88: =F88/C88 -> 386.71875 | H88: =[1]ввод!J72 -> 2 | I88: =H88/C88 -> 0.390625 | J88: =[1]ввод!N72 -> 443 | K88: =J88/C88 -> 86.523438 | L88: =E88+G88+I88+K88 -> 479.10156
A89: 79 | B89: ленинский | C89: 5.12 | D89: =[1]ввод!B81 -> 15 | E89: =D89/C89 -> 2.9296875 | F89: =[1]ввод!F81 -> 1338 | G89: =F89/C89 -> 261.32812 | H89: =[1]ввод!J81 -> 6 | I89: =H89/C89 -> 1.171875 | J89: =[1]ввод!N81 -> 391 | K89: =J89/C89 -> 76.367188 | L89: =E89+G89+I89+K89 -> 341.79688
A90: 42 | B90: ленинский | C90: 5.12 | D90: =[1]ввод!B83 -> 17 | E90: =D90/C90 -> 3.3203125 | F90: =[1]ввод!F83 -> 2750 | G90: =F90/C90 -> 537.10938 | H90: =[1]ввод!J83 -> 0 | I90: =H90/C90 -> 0 | J90: =[1]ввод!N83 -> 567 | K90: =J90/C90 -> 110.74219 | L90: =E90+G90+I90+K90 -> 651.17188
A91: Итого по Ленинскому району | C91: 5.12 | D91: =D81+D82+D83+D84+D85+D86+D87+D88+D89+D90 -> 150 | E91: =D91/C91/COUNT(C81:C90) -> 2.9296875 | F91: =F81+F82+F83+F84+F85+F86+F87+F88+F89+F90 -> 18407 | G91: =F91/C91/COUNT(C81:C90) -> 359.51172 | H91: =H81+H82+H83+H84+H85+H86+H87+H88+H89+H90 -> 19 | I91: =H91/C91/COUNT(C81:C90) -> 0.37109375 | J91: =J81+J82+J83+J84+J85+J86+J87+J88+J89+J90 -> 4162 | K91: =J91/C91/COUNT(C81:C90) -> 81.289062 | L91: =E91+G91+I91+K91 -> 444.10156
A92: 59 | B92: нововятский | C92: 5.12 | D92: =[1]ввод!B61 -> 12 | E92: =D92/C92 -> 2.34375 | F92: =[1]ввод!F61 -> 1963 | G92: =F92/C92 -> 383.39844 | H92: =[1]ввод!J61 -> 1 | I92: =H92/C92 -> 0.1953125 | J92: =[1]ввод!N61 -> 601 | K92: =J92/C92 -> 117.38281 | L92: =E92+G92+I92+K92 -> 503.32031
A93: 60 | B93: нововятский | C93: 5.12 | D93: =[1]ввод!B62 -> 21 | E93: =D93/C93 -> 4.1015625 | F93: =[1]ввод!F62 -> 1962 | G93: =F93/C93 -> 383.20312 | H93: =[1]ввод!J62 -> 1 | I93: =H93/C93 -> 0.1953125 | J93: =[1]ввод!N62 -> 418 | K93: =J93/C93 -> 81.640625 | L93: =E93+G93+I93+K93 -> 469.14062
A94: Итого по Нововятскому району | C94: 5.12 | D94: =D92+D93 -> 33 | E94: =D94/C94/COUNT(C92:C93) -> 3.2226562 | F94: =F92+F93 -> 3925 | G94: =F94/C94/COUNT(C92:C93) -> 383.30078 | H94: =H92+H93 -> 2 | I94: =H94/C94/COUNT(C92:C93) -> 0.1953125 | J94: =J92+J93 -> 1019 | K94: =J94/C94/COUNT(C92:C93) -> 99.511719 | L94: =E94+G94+I94+K94 -> 486.23047
A95: 61 | B95: октябрьский | C95: 5.12 | D95: =[1]ввод!B63 -> 11 | E95: =D95/C95 -> 2.1484375 | F95: =[1]ввод!F63 -> 1258 | G95: =F95/C95 -> 245.70312 | H95: =[1]ввод!J63 -> 0 | I95: =H95/C95 -> 0 | J95: =[1]ввод!N63 -> 227 | K95: =J95/C95 -> 44.335938 | L95: =E95+G95+I95+K95 -> 292.1875
A96: 62 | B96: октябрьский | C96: 5.12 | D96: =[1]ввод!B64 -> 12 | E96: =D96/C96 -> 2.34375 | F96: =[1]ввод!F64 -> 1099 | G96: =F96/C96 -> 214.64844 | H96: =[1]ввод!J64 -> 0 | I96: =H96/C96 -> 0 | J96: =[1]ввод!N64 -> 175 | K96: =J96/C96 -> 34.179688 | L96: =E96+G96+I96+K96 -> 251.17188
A97: 63 | B97: октябрьский | C97: 5.12 | D97: =[1]ввод!B65 -> 11 | E97: =D97/C97 -> 2.1484375 | F97: =[1]ввод!F65 -> 1851 | G97: =F97/C97 -> 361.52344 | H97: =[1]ввод!J65 -> 2 | I97: =H97/C97 -> 0.390625 | J97: =[1]ввод!N65 -> 305 | K97: =J97/C97 -> 59.570312 | L97: =E97+G97+I97+K97 -> 423.63281
A98: 64 | B98: октябрьский | C98: 5.12 | D98: =[1]ввод!B66 -> 17 | E98: =D98/C98 -> 3.3203125 | F98: =[1]ввод!F66 -> 2206 | G98: =F98/C98 -> 430.85938 | H98: =[1]ввод!J66 -> 2 | I98: =H98/C98 -> 0.390625 | J98: =[1]ввод!N66 -> 353 | K98: =J98/C98 -> 68.945312 | L98: =E98+G98+I98+K98 -> 503.51562
A99: 65 | B99: октябрьский | C99: 5.12 | D99: =[1]ввод!B67 -> 22 | E99: =D99/C99 -> 4.296875 | F99: =[1]ввод!F67 -> 1890 | G99: =F99/C99 -> 369.14062 | H99: =[1]ввод!J67 -> 0 | I99: =H99/C99 -> 0 | J99: =[1]ввод!N67 -> 458 | K99: =J99/C99 -> 89.453125 | L99: =E99+G99+I99+K99 -> 462.89062
A100: 66 | B100: октябрьский | C100: 5.12 | D100: =[1]ввод!B68 -> 6 | E100: =D100/C100 -> 1.171875 | F100: =[1]ввод!F68 -> 1604 | G100: =F100/C100 -> 313.28125 | H100: =[1]ввод!J68 -> 0 | I100: =H100/C100 -> 0 | J100: =[1]ввод!N68 -> 317 | K100: =J100/C100 -> 61.914062 | L100: =E100+G100+I100+K100 -> 376.36719
A101: 80 | B101: октябрьский | C101: 5.12 | D101: =[1]ввод!B82 -> 19 | E101: =D101/C101 -> 3.7109375 | F101: =[1]ввод!F82 -> 1649 | G101: =F101/C101 -> 322.07031 | H101: =[1]ввод!J82 -> 1 | I101: =H101/C101 -> 0.1953125 | J101: =[1]ввод!N82 -> 399 | K101: =J101/C101 -> 77.929688 | L101: =E101+G101+I101+K101 -> 403.90625
A102: 78 | B102: октябрьский | C102: 5.12 | D102: =[1]ввод!B85 -> 18 | E102: =D102/C102 -> 3.515625 | F102: =[1]ввод!F85 -> 1714 | G102: =F102/C102 -> 334.76562 | H102: =[1]ввод!J85 -> 0 | I102: =H102/C102 -> 0 | J102: =[1]ввод!N85 -> 216 | K102: =J102/C102 -> 42.1875 | L102: =E102+G102+I102+K102 -> 380.46875
A103: Итого по Октябрьскому району | C103: 5.12 | D103: =SUM(D95:D102) -> 116 | E103: =D103/C103/COUNT(C95:C102) -> 2.8320312 | F103: =SUM(F95:F102) -> 13271 | G103: =F103/C103/COUNT(C95:C102) -> 323.99902 | H103: =SUM(H95:H102) -> 5 | I103: =H103/C103/COUNT(C95:C102) -> 0.12207031 | J103: =SUM(J95:J102) -> 2450 | K103: =J103/C103/COUNT(C95:C102) -> 59.814453 | L103: =E103+G103+I103+K103 -> 386.76758
A104: 67 | B104: первомайский | C104: 5.12 | D104: =[1]ввод!B69 -> 10 | E104: =D104/C104 -> 1.953125 | F104: =[1]ввод!F69 -> 3472 | G104: =F104/C104 -> 678.125 | H104: =[1]ввод!J69 -> 1 | I104: =H104/C104 -> 0.1953125 | J104: =[1]ввод!N69 -> 214 | K104: =J104/C104 -> 41.796875 | L104: =E104+G104+I104+K104 -> 722.07031
...

Sheet окон
A1: Сведения по судебным участкам Кировской области
A2: о нагрузке по оконченным уголовным делам, гражданским (административным) делам, делам об административных правонарушениях и материалам за 6 месяцев 2026 г.
A3: № участ-ка | B3: Муниципальный район (округ)Кировской области/район г.Кирова | C3: коэф-фици-ент нагруз-ки | D3: окончено | V3: Остаток дел
D5: уголовные | F5: гражданские | H5: административные | J5: админ.правонарушения | L5: средне-месячная нагрузка по 1 инстанции | M5: материалы | Q5: общая среднемесячная нагрузка | R5: с нарушением срока,устан.ст. | V5: уголовных | W5: гражданских | X5: административных
D6: окончено | E6: на 1 судью в месяц | F6: окончено | G6: на 1 судью в месяц | H6: окончено | I6: на 1 судью в месяц | J6: окончено | K6: на 1 судью в месяц | M6: уголовные | N6: гражданские | O6: административные | P6: об административных правонарушениях
R7: 227, 233, 321 УПК | S7: ГПК | T7: КАС | U7: 29,6 КоАП и др актами
A10: 1 | B10: 2 | D10: 3 | E10: 4 | F10: 5 | G10: 6 | H10: 7 | I10: 8 | J10: 9 | K10: 10 | L10: 11 | M10: 12 | N10: 13 | O10: 14 | P10: 15 | Q10: 16 | R10: 17 | S10: 18 | T10: 19 | U10: 20 | V10: 21 | W10: 22 | X10: 23
A11: 5 | B11: верхнекамский | C11: 5.12 | D11: =[1]ввод!C7 -> 7 | E11: =D11/C11 -> 1.3671875 | F11: =[1]ввод!G7 -> 1145 | G11: =F11/C11 -> 223.63281 | H11: =[1]ввод!K7 -> 1 | I11: =H11/C11 -> 0.1953125 | J11: =[1]ввод!O7 -> 246 | K11: =J11/C11 -> 48.046875 | L11: =E11+G11+I11+K11 -> 273.24219 | M11: =[1]ввод!Q7 -> 8 | N11: =[1]ввод!R7 -> 326 | O11: =[1]ввод!S7 -> 1 | P11: =[1]ввод!T7 -> 20 | Q11: =L11+M11/C11+N11/C11+O11/C11+P11/C11 -> 342.57812 | R11: =[1]ввод!D7 -> 0 | S11: =[1]ввод!H7 -> 0 | T11: =[1]ввод!L7 -> 0 | U11: =[1]ввод!P7 -> 0 | V11: =[1]ввод!E7 -> 3 | W11: =[1]ввод!I7 -> 15 | X11: =[1]ввод!M7 -> 0
A12: 6 | B12: верхнекамский | C12: 5.12 | D12: =[1]ввод!C8 -> 3 | E12: =D12/C12 -> 0.5859375 | F12: =[1]ввод!G8 -> 504 | G12: =F12/C12 -> 98.4375 | H12: =[1]ввод!K8 -> 0 | I12: =H12/C12 -> 0 | J12: =[1]ввод!O8 -> 98 | K12: =J12/C12 -> 19.140625 | L12: =E12+G12+I12+K12 -> 118.16406 | M12: =[1]ввод!Q8 -> 3 | N12: =[1]ввод!R8 -> 615 | O12: =[1]ввод!S8 -> 0 | P12: =[1]ввод!T8 -> 7 | Q12: =L12+M12/C12+N12/C12+O12/C12+P12/C12 -> 240.23438 | R12: =[1]ввод!D8 -> 0 | S12: =[1]ввод!H8 -> 0 | T12: =[1]ввод!L8 -> 0 | U12: =[1]ввод!P8 -> 0 | V12: =[1]ввод!E8 -> 1 | W12: =[1]ввод!I8 -> 10 | X12: =[1]ввод!M8 -> 0
A13: Итого по Верхнекамскому судебному району | C13: 5.12 | D13: =D11+D12 -> 10 | E13: =D13/C13/COUNT(C11:C12) -> 0.9765625 | F13: =F11+F12 -> 1649 | G13: =F13/C13/COUNT(C11:C12) -> 161.03516 | H13: =H11+H12 -> 1 | I13: =H13/C13/COUNT(C11:C12) -> 0.09765625 | J13: =J11+J12 -> 344 | K13: =J13/C13/COUNT(C11:C12) -> 33.59375 | L13: =E13+G13+I13+K13 -> 195.70312 | M13: =M11+M12 -> 11 | N13: =N11+N12 -> 941 | O13: =O11+O12 -> 1 | P13: =P11+P12 -> 27 | Q13: =L13+M13/C13/COUNT(C11:C12)+N13/C13/COUNT(C11:C12)+O13/C13/COUNT(C11:C12)+P13/C13/COUNT(C11:C12) -> 291.40625 | R13: =R11+R12 -> 0 | S13: =S11+S12 -> 0 | T13: =T11+T12 -> 0 | U13: =U11+U12 -> 0 | V13: =V11+V12 -> 4 | W13: =W11+W12 -> 25 | X13: =X11+X12 -> 0
A14: 8 | B14: вятскополянский | C14: 5.12 | D14: =[1]ввод!C10 -> 11 | E14: =D14/C14 -> 2.1484375 | F14: =[1]ввод!G10 -> 1204 | G14: =F14/C14 -> 235.15625 | H14: =[1]ввод!K10 -> 0 | I14: =H14/C14 -> 0 | J14: =[1]ввод!O10 -> 303 | K14: =J14/C14 -> 59.179688 | L14: =E14+G14+I14+K14 -> 296.48438 | M14: =[1]ввод!Q10 -> 4 | N14: =[1]ввод!R10 -> 496 | O14: =[1]ввод!S10 -> 0 | P14: =[1]ввод!T10 -> 41 | Q14: =L14+M14/C14+N14/C14+O14/C14+P14/C14 -> 402.14844 | R14: =[1]ввод!D10 -> 0 | S14: =[1]ввод!H10 -> 0 | T14: =[1]ввод!L10 -> 0 | U14: =[1]ввод!P10 -> 0 | V14: =[1]ввод!E10 -> 4 | W14: =[1]ввод!I10 -> 13 | X14: =[1]ввод!M10 -> 0
A15: 10 | B15: вятскополянский | C15: 5.12 | D15: =[1]ввод!C12 -> 10 | E15: =D15/C15 -> 1.953125 | F15: =[1]ввод!G12 -> 1309 | G15: =F15/C15 -> 255.66406 | H15: =[1]ввод!K12 -> 1 | I15: =H15/C15 -> 0.1953125 | J15: =[1]ввод!O12 -> 221 | K15: =J15/C15 -> 43.164062 | L15: =E15+G15+I15+K15 -> 300.97656 | M15: =[1]ввод!Q12 -> 1 | N15: =[1]ввод!R12 -> 730 | O15: =[1]ввод!S12 -> 2 | P15: =[1]ввод!T12 -> 22 | Q15: =L15+M15/C15+N15/C15+O15/C15+P15/C15 -> 448.4375 | R15: =[1]ввод!D12 -> 0 | S15: =[1]ввод!H12 -> 0 | T15: =[1]ввод!L12 -> 0 | U15: =[1]ввод!P12 -> 0 | V15: =[1]ввод!E12 -> 5 | W15: =[1]ввод!I12 -> 18 | X15: =[1]ввод!M12 -> 0
A16: 73 | B16: вятскополянский | C16: 5.12 | D16: =[1]ввод!C75 -> 12 | E16: =D16/C16 -> 2.34375 | F16: =[1]ввод!G75 -> 1168 | G16: =F16/C16 -> 228.125 | H16: =[1]ввод!K75 -> 1 | I16: =H16/C16 -> 0.1953125 | J16: =[1]ввод!O75 -> 227 | K16: =J16/C16 -> 44.335938 | L16: =E16+G16+I16+K16 -> 275 | M16: =[1]ввод!Q75 -> 2 | N16: =[1]ввод!R75 -> 415 | O16: =[1]ввод!S75 -> 2 | P16: =[1]ввод!T75 -> 10 | Q16: =L16+M16/C16+N16/C16+O16/C16+P16/C16 -> 358.78906 | R16: =[1]ввод!D75 -> 0 | S16: =[1]ввод!H75 -> 0 | T16: =[1]ввод!L75 -> 0 | U16: =[1]ввод!P75 -> 0 | V16: =[1]ввод!E75 -> 3 | W16: =[1]ввод!I75 -> 10 | X16: =[1]ввод!M75 -> 0
A17: Итого по Вятскополянскому судебному району | C17: 5.12 | D17: =SUM(D14:D16) -> 33 | E17: =D17/C17/COUNT(C14:C16) -> 2.1484375 | F17: =SUM(F14:F16) -> 3681 | G17: =F17/C17/COUNT(C14:C16) -> 239.64844 | H17: =SUM(H14:H16) -> 2 | I17: =H17/C17/COUNT(C14:C16) -> 0.13020833 | J17: =SUM(J14:J16) -> 751 | K17: =J17/C17/COUNT(C14:C16) -> 48.893229 | L17: =E17+G17+I17+K17 -> 290.82031 | M17: =SUM(M14:M16) -> 7 | N17: =SUM(N14:N16) -> 1641 | O17: =SUM(O14:O16) -> 4 | P17: =SUM(P14:P16) -> 73 | Q17: =L17+M17/C17/COUNT(C14:C16)+N17/C17/COUNT(C14:C16)+O17/C17/COUNT(C14:C16)+P17/C17/COUNT(C14:C16) -> 403.125 | R17: =SUM(R14:R16) -> 0 | S17: =SUM(S14:S16) -> 0 | T17: =SUM(T14:T16) -> 0 | U17: =SUM(U14:U16) -> 0 | V17: =SUM(V14:V16) -> 12 | W17: =SUM(W14:W16) -> 41 | X17: =SUM(X14:X16) -> 0
A18: 12 | B18: зуевский | C18: 5.12 | D18: =[1]ввод!C14 -> 14 | E18: =D18/C18 -> 2.734375 | F18: =[1]ввод!G14 -> 1935 | G18: =F18/C18 -> 377.92969 | H18: =[1]ввод!K14 -> 0 | I18: =H18/C18 -> 0 | J18: =[1]ввод!O14 -> 431 | K18: =J18/C18 -> 84.179688 | L18: =E18+G18+I18+K18 -> 464.84375 | M18: =[1]ввод!Q14 -> 7 | N18: =[1]ввод!R14 -> 284 | O18: =[1]ввод!S14 -> 0 | P18: =[1]ввод!T14 -> 92 | Q18: =L18+M18/C18+N18/C18+O18/C18+P18/C18 -> 539.64844 | R18: =[1]ввод!D14 -> 0 | S18: =[1]ввод!H14 -> 0 | T18: =[1]ввод!L14 -> 0 | U18: =[1]ввод!P14 -> 0 | V18: =[1]ввод!E14 -> 4 | W18: =[1]ввод!I14 -> 18 | X18: =[1]ввод!M14 -> 0
A19: 47 | B19: фаленский | C19: 5.12 | D19: =[1]ввод!C49 -> 13 | E19: =D19/C19 -> 2.5390625 | F19: =[1]ввод!G49 -> 525 | G19: =F19/C19 -> 102.53906 | H19: =[1]ввод!K49 -> 0 | I19: =H19/C19 -> 0 | J19: =[1]ввод!O49 -> 159 | K19: =J19/C19 -> 31.054688 | L19: =E19+G19+I19+K19 -> 136.13281 | M19: =[1]ввод!Q49 -> 0 | N19: =[1]ввод!R49 -> 199 | O19: =[1]ввод!S49 -> 0 | P19: =[1]ввод!T49 -> 39 | Q19: =L19+M19/C19+N19/C19+O19/C19+P19/C19 -> 182.61719 | R19: =[1]ввод!D49 -> 0 | S19: =[1]ввод!H49 -> 0 | T19: =[1]ввод!L49 -> 0 | U19: =[1]ввод!P49 -> 0 | V19: =[1]ввод!E49 -> 1 | W19: =[1]ввод!I49 -> 1 | X19: =[1]ввод!M49 -> 0
A20: Итого по Зуевскому судебному району | C20: 5.12 | D20: =D18+D19 -> 27 | E20: =D20/C20/COUNT(C18:C19) -> 2.6367188 | F20: =F18+F19 -> 2460 | G20: =F20/C20/COUNT(C18:C19) -> 240.23438 | H20: =H18+H19 -> 0 | I20: =H20/C20/COUNT(C18:C19) -> 0 | J20: =J18+J19 -> 590 | K20: =J20/C20/COUNT(C18:C19) -> 57.617188 | L20: =E20+G20+I20+K20 -> 300.48828 | M20: =M18+M19 -> 7 | N20: =N18+N19 -> 483 | O20: =O18+O19 -> 0 | P20: =P18+P19 -> 131 | Q20: =L20+M20/C20/COUNT(C18:C19)+N20/C20/COUNT(C18:C19)+O20/C20/COUNT(C18:C19)+P20/C20/COUNT(C18:C19) -> 361.13281 | R20: =R18+R19 -> 0 | S20: =S18+S19 -> 0 | T20: =T18+T19 -> 0 | U20: =U18+U19 -> 0 | V20: =V18+V19 -> 5 | W20: =W18+W19 -> 19 | X20: =X18+X19 -> 0
A21: 15 | B21: кирово-чепецкий | C21: 5.12 | D21: =[1]ввод!C17 -> 4 | E21: =D21/C21 -> 0.78125 | F21: =[1]ввод!G17 -> 1668 | G21: =F21/C21 -> 325.78125 | H21: =[1]ввод!K17 -> 0 | I21: =H21/C21 -> 0 | J21: =[1]ввод!O17 -> 319 | K21: =J21/C21 -> 62.304688 | L21: =E21+G21+I21+K21 -> 388.86719 | M21: =[1]ввод!Q17 -> 8 | N21: =[1]ввод!R17 -> 406 | O21: =[1]ввод!S17 -> 0 | P21: =[1]ввод!T17 -> 30 | Q21: =L21+M21/C21+N21/C21+O21/C21+P21/C21 -> 475.58594 | R21: =[1]ввод!D17 -> 0 | S21: =[1]ввод!H17 -> 0 | T21: =[1]ввод!L17 -> 0 | U21: =[1]ввод!P17 -> 0 | V21: =[1]ввод!E17 -> 3 | W21: =[1]ввод!I17 -> 9 | X21: =[1]ввод!M17 -> 0
A22: 16 | B22: кирово-чепецкий | C22: 5.12 | D22: =[1]ввод!C18 -> 12 | E22: =D22/C22 -> 2.34375 | F22: =[1]ввод!G18 -> 1652 | G22: =F22/C22 -> 322.65625 | H22: =[1]ввод!K18 -> 2 | I22: =H22/C22 -> 0.390625 | J22: =[1]ввод!O18 -> 251 | K22: =J22/C22 -> 49.023438 | L22: =E22+G22+I22+K22 -> 374.41406 | M22: =[1]ввод!Q18 -> 3 | N22: =[1]ввод!R18 -> 181 | O22: =[1]ввод!S18 -> 0 | P22: =[1]ввод!T18 -> 13 | Q22: =L22+M22/C22+N22/C22+O22/C22+P22/C22 -> 412.89062 | R22: =[1]ввод!D18 -> 0 | S22: =[1]ввод!H18 -> 0 | T22: =[1]ввод!L18 -> 0 | U22: =[1]ввод!P18 -> 0 | V22: =[1]ввод!E18 -> 1 | W22: =[1]ввод!I18 -> 14 | X22: =[1]ввод!M18 -> 0
A23: 17 | B23: кирово-чепецкий | C23: 5.12 | D23: =[1]ввод!C19 -> 2 | E23: =D23/C23 -> 0.390625 | F23: =[1]ввод!G19 -> 1853 | G23: =F23/C23 -> 361.91406 | H23: =[1]ввод!K19 -> 0 | I23: =H23/C23 -> 0 | J23: =[1]ввод!O19 -> 237 | K23: =J23/C23 -> 46.289062 | L23: =E23+G23+I23+K23 -> 408.59375 | M23: =[1]ввод!Q19 -> 5 | N23: =[1]ввод!R19 -> 496 | O23: =[1]ввод!S19 -> 0 | P23: =[1]ввод!T19 -> 9 | Q23: =L23+M23/C23+N23/C23+O23/C23+P23/C23 -> 508.20312 | R23: =[1]ввод!D19 -> 0 | S23: =[1]ввод!H19 -> 0 | T23: =[1]ввод!L19 -> 0 | U23: =[1]ввод!P19 -> 0 | V23: =[1]ввод!E19 -> 2 | W23: =[1]ввод!I19 -> 24 | X23: =[1]ввод!M19 -> 0
A24: 18 | B24: кирово-чепецкий | C24: 5.12 | D24: =[1]ввод!C20 -> 5 | E24: =D24/C24 -> 0.9765625 | F24: =[1]ввод!G20 -> 1456 | G24: =F24/C24 -> 284.375 | H24: =[1]ввод!K20 -> 0 | I24: =H24/C24 -> 0 | J24: =[1]ввод!O20 -> 475 | K24: =J24/C24 -> 92.773438 | L24: =E24+G24+I24+K24 -> 378.125 | M24: =[1]ввод!Q20 -> 5 | N24: =[1]ввод!R20 -> 418 | O24: =[1]ввод!S20 -> 0 | P24: =[1]ввод!T20 -> 18 | Q24: =L24+M24/C24+N24/C24+O24/C24+P24/C24 -> 464.25781 | R24: =[1]ввод!D20 -> 0 | S24: =[1]ввод!H20 -> 0 | T24: =[1]ввод!L20 -> 0 | U24: =[1]ввод!P20 -> 0 | V24: =[1]ввод!E20 -> 3 | W24: =[1]ввод!I20 -> 35 | X24: =[1]ввод!M20 -> 0
A25: 74 | B25: кирово-чепецкий | C25: 5.12 | D25: =[1]ввод!C76 -> 15 | E25: =D25/C25 -> 2.9296875 | F25: =[1]ввод!G76 -> 1390 | G25: =F25/C25 -> 271.48438 | H25: =[1]ввод!K76 -> 1 | I25: =H25/C25 -> 0.1953125 | J25: =[1]ввод!O76 -> 276 | K25: =J25/C25 -> 53.90625 | L25: =E25+G25+I25+K25 -> 328.51562 | M25: =[1]ввод!Q76 -> 14 | N25: =[1]ввод!R76 -> 456 | O25: =[1]ввод!S76 -> 1 | P25: =[1]ввод!T76 -> 28 | Q25: =L25+M25/C25+N25/C25+O25/C25+P25/C25 -> 425.97656 | R25: =[1]ввод!D76 -> 0 | S25: =[1]ввод!H76 -> 0 | T25: =[1]ввод!L76 -> 0 | U25: =[1]ввод!P76 -> 0 | V25: =[1]ввод!E76 -> 4 | W25: =[1]ввод!I76 -> 13 | X25: =[1]ввод!M76 -> 0
A26: Итого по Кирово-Чепецкому судебный району | C26: 5.12 | D26: =D23+D24+D22+D21+D25 -> 38 | E26: =D26/C26/COUNT(C21:C25) -> 1.484375 | F26: =F21+F22+F23+F24+F25 -> 8019 | G26: =F26/C26/COUNT(C21:C25) -> 313.24219 | H26: =H21+H22+H23+H24+H25 -> 3 | I26: =H26/C26/COUNT(C21:C25) -> 0.1171875 | J26: =J23+J24+J22+J21+J25 -> 1558 | K26: =J26/C26/COUNT(C21:C25) -> 60.859375 | L26: =E26+G26+I26+K26 -> 375.70312 | M26: =M23+M24+M22+M21+M25 -> 35 | N26: =N23+N24+N22+N21+N25 -> 1957 | O26: =O23+O24+O22+O21+O25 -> 1 | P26: =P23+P24+P22+P21+P25 -> 98 | Q26: =L26+M26/C26/COUNT(C21:C25)+N26/C26/COUNT(C21:C25)+O26/C26/COUNT(C21:C25)+P26/C26/COUNT(C21:C25) -> 457.38281 | R26: =R21+R22+R23+R24+R25 -> 0 | S26: =S21+S22+S23+S24+S25 -> 0 | T26: =T21+T22+T23+T24+T25 -> 0 | U26: =U21+U22+U23+U24+U25 -> 0 | V26: =V21+V22+V23+V24+V25 -> 13 | W26: =W23+W24+W22+W21+W25 -> 95 | X26: =X21+X22+X23+X24+X25 -> 0
A27: 19 | B27: котельничский | C27: 5.12 | D27: =[1]ввод!C21 -> 3 | E27: =D27/C27 -> 0.5859375 | F27: =[1]ввод!G21 -> 796 | G27: =F27/C27 -> 155.46875 | H27: =[1]ввод!K21 -> 0 | I27: =H27/C27 -> 0 | J27: =[1]ввод!O21 -> 141 | K27: =J27/C27 -> 27.539062 | L27: =E27+G27+I27+K27 -> 183.59375 | M27: =[1]ввод!Q21 -> 2 | N27: =[1]ввод!R21 -> 814 | O27: =[1]ввод!S21 -> 1 | P27: =[1]ввод!T21 -> 76 | Q27: =L27+M27/C27+N27/C27+O27/C27+P27/C27 -> 358.00781 | R27: =[1]ввод!D21 -> 0 | S27: =[1]ввод!H21 -> 0 | T27: =[1]ввод!L21 -> 0 | U27: =[1]ввод!P21 -> 0 | V27: =[1]ввод!E21 -> 3 | W27: =[1]ввод!I21 -> 5 | X27: =[1]ввод!M21 -> 0
A28: 20 | B28: котельничский | C28: 5.12 | D28: =[1]ввод!C22 -> 11 | E28: =D28/C28 -> 2.1484375 | F28: =[1]ввод!G22 -> 622 | G28: =F28/C28 -> 121.48438 | H28: =[1]ввод!K22 -> 1 | I28: =H28/C28 -> 0.1953125 | J28: =[1]ввод!O22 -> 149 | K28: =J28/C28 -> 29.101562 | L28: =E28+G28+I28+K28 -> 152.92969 | M28: =[1]ввод!Q22 -> 1 | N28: =[1]ввод!R22 -> 1028 | O28: =[1]ввод!S22 -> 0 | P28: =[1]ввод!T22 -> 27 | Q28: =L28+M28/C28+N28/C28+O28/C28+P28/C28 -> 359.17969 | R28: =[1]ввод!D22 -> 0 | S28: =[1]ввод!H22 -> 0 | T28: =[1]ввод!L22 -> 0 | U28: =[1]ввод!P22 -> 0 | V28: =[1]ввод!E22 -> 2 | W28: =[1]ввод!I22 -> 9 | X28: =[1]ввод!M22 -> 0
A29: 75 | B29: котельничский | C29: 5.12 | D29: =[1]ввод!C77 -> 8 | E29: =D29/C29 -> 1.5625 | F29: =[1]ввод!G77 -> 956 | G29: =F29/C29 -> 186.71875 | H29: =[1]ввод!K77 -> 0 | I29: =H29/C29 -> 0 | J29: =[1]ввод!O77 -> 168 | K29: =J29/C29 -> 32.8125 | L29: =E29+G29+I29+K29 -> 221.09375 | M29: =[1]ввод!Q77 -> 6 | N29: =[1]ввод!R77 -> 616 | O29: =[1]ввод!S77 -> 1 | P29: =[1]ввод!T77 -> 31 | Q29: =L29+M29/C29+N29/C29+O29/C29+P29/C29 -> 348.82812 | R29: =[1]ввод!D77 -> 0 | S29: =[1]ввод!H77 -> 0 | T29: =[1]ввод!L77 -> 0 | U29: =[1]ввод!P77 -> 0 | V29: =[1]ввод!E77 -> 3 | W29: =[1]ввод!I77 -> 10 | X29: =[1]ввод!M77 -> 0
A30: 11 | B30: даровской | C30: 5.12 | D30: =[1]ввод!C13 -> 4 | E30: =D30/C30 -> 0.78125 | F30: =[1]ввод!G13 -> 479 | G30: =F30/C30 -> 93.554688 | H30: =[1]ввод!K13 -> 0 | I30: =H30/C30 -> 0 | J30: =[1]ввод!O13 -> 133 | K30: =J30/C30 -> 25.976562 | L30: =E30+G30+I30+K30 -> 120.3125 | M30: =[1]ввод!Q13 -> 3 | N30: =[1]ввод!R13 -> 265 | O30: =[1]ввод!S13 -> 2 | P30: =[1]ввод!T13 -> 5 | Q30: =L30+M30/C30+N30/C30+O30/C30+P30/C30 -> 174.02344 | R30: =[1]ввод!D13 -> 0 | S30: =[1]ввод!H13 -> 0 | T30: =[1]ввод!L13 -> 0 | U30: =[1]ввод!P13 -> 0 | V30: =[1]ввод!E13 -> 1 | W30: =[1]ввод!I13 -> 4 | X30: =[1]ввод!M13 -> 0
A31: 32 | B31: орловский | C31: 5.12 | D31: =[1]ввод!C34 -> 9 | E31: =D31/C31 -> 1.7578125 | F31: =[1]ввод!G34 -> 520 | G31: =F31/C31 -> 101.5625 | H31: =[1]ввод!K34 -> 1 | I31: =H31/C31 -> 0.1953125 | J31: =[1]ввод!O34 -> 160 | K31: =J31/C31 -> 31.25 | L31: =E31+G31+I31+K31 -> 134.76562 | M31: =[1]ввод!Q34 -> 1 | N31: =[1]ввод!R34 -> 442 | O31: =[1]ввод!S34 -> 0 | P31: =[1]ввод!T34 -> 79 | Q31: =L31+M31/C31+N31/C31+O31/C31+P31/C31 -> 236.71875 | R31: =[1]ввод!D34 -> 0 | S31: =[1]ввод!H34 -> 0 | T31: =[1]ввод!L34 -> 0 | U31: =[1]ввод!P34 -> 0 | V31: =[1]ввод!E34 -> 0 | W31: =[1]ввод!I34 -> 7 | X31: =[1]ввод!M34 -> 0
A32: Итого по Котельничскому судебному району | C32: 5.12 | D32: =SUM(D27:D31) -> 35 | E32: =D32/C32/COUNT(C27:C31) -> 1.3671875 | F32: =SUM(F27:F31) -> 3373 | G32: =F32/C32/COUNT(C27:C31) -> 131.75781 | H32: =SUM(H27:H31) -> 2 | I32: =H32/C32/COUNT(C27:C31) -> 0.078125 | J32: =SUM(J27:J31) -> 751 | K32: =J32/C32/COUNT(C27:C31) -> 29.335938 | L32: =E32+G32+I32+K32 -> 162.53906 | M32: =SUM(M27:M31) -> 13 | N32: =SUM(N27:N31) -> 3165 | O32: =SUM(O27:O31) -> 4 | P32: =SUM(P27:P31) -> 218 | Q32: =L32+M32/C32/COUNT(C27:C31)+N32/C32/COUNT(C27:C31)+O32/C32/COUNT(C27:C31)+P32/C32/COUNT(C27:C31) -> 295.35156 | R32: =SUM(R27:R31) -> 0 | S32: =SUM(S27:S31) -> 0 | T32: =SUM(T27:T31) -> 0 | U32: =SUM(U27:U31) -> 0 | V32: =SUM(V27:V31) -> 9 | W32: =SUM(W27:W31) -> 35 | X32: =SUM(X27:X31) -> 0
A33: 21 | B33: Куменский | C33: 5.12 | D33: =[1]ввод!C23 -> 11 | E33: =D33/C33 -> 2.1484375 | F33: =[1]ввод!G23 -> 1140 | G33: =F33/C33 -> 222.65625 | H33: =[1]ввод!K23 -> 0 | I33: =H33/C33 -> 0 | J33: =[1]ввод!O23 -> 193 | K33: =J33/C33 -> 37.695312 | L33: =E33+G33+I33+K33 -> 262.5 | M33: =[1]ввод!Q23 -> 5 | N33: =[1]ввод!R23 -> 319 | O33: =[1]ввод!S23 -> 0 | P33: =[1]ввод!T23 -> 41 | Q33: =L33+M33/C33+N33/C33+O33/C33+P33/C33 -> 333.78906 | R33: =[1]ввод!D23 -> 0 | S33: =[1]ввод!H23 -> 0 | T33: =[1]ввод!L23 -> 0 | U33: =[1]ввод!P23 -> 0 | V33: =[1]ввод!E23 -> 2 | W33: =[1]ввод!I23 -> 15 | X33: =[1]ввод!M23 -> 0
A34: 23 | B34: Лузский | C34: 5.12 | D34: =[1]ввод!C25 -> 10 | E34: =D34/C34 -> 1.953125 | F34: =[1]ввод!G25 -> 1151 | G34: =F34/C34 -> 224.80469 | H34: =[1]ввод!K25 -> 0 | I34: =H34/C34 -> 0 | J34: =[1]ввод!O25 -> 364 | K34: =J34/C34 -> 71.09375 | L34: =E34+G34+I34+K34 -> 297.85156 | M34: =[1]ввод!Q25 -> 0 | N34: =[1]ввод!R25 -> 522 | O34: =[1]ввод!S25 -> 0 | P34: =[1]ввод!T25 -> 44 | Q34: =L34+M34/C34+N34/C34+O34/C34+P34/C34 -> 408.39844 | R34: =[1]ввод!D25 -> 0 | S34: =[1]ввод!H25 -> 0 | T34: =[1]ввод!L25 -> 0 | U34: =[1]ввод!P25 -> 0 | V34: =[1]ввод!E25 -> 3 | W34: =[1]ввод!I25 -> 10 | X34: =[1]ввод!M25 -> 0
A35: 24 | B35: малмыжский | C35: 5.12 | D35: =[1]ввод!C26 -> 22 | E35: =D35/C35 -> 4.296875 | F35: =[1]ввод!G26 -> 1534 | G35: =F35/C35 -> 299.60938 | H35: =[1]ввод!K26 -> 0 | I35: =H35/C35 -> 0 | J35: =[1]ввод!O26 -> 287 | K35: =J35/C35 -> 56.054688 | L35: =E35+G35+I35+K35 -> 359.96094 | M35: =[1]ввод!Q26 -> 4 | N35: =[1]ввод!R26 -> 602 | O35: =[1]ввод!S26 -> 0 | P35: =[1]ввод!T26 -> 3 | Q35: =L35+M35/C35+N35/C35+O35/C35+P35/C35 -> 478.90625 | R35: =[1]ввод!D26 -> 0 | S35: =[1]ввод!H26 -> 0 | T35: =[1]ввод!L26 -> 0 | U35: =[1]ввод!P26 -> 0 | V35: =[1]ввод!E26 -> 6 | W35: =[1]ввод!I26 -> 15 | X35: =[1]ввод!M26 -> 0
A36: 14 | B36: кильмезский | C36: 5.12 | D36: =[1]ввод!C16 -> 18 | E36: =D36/C36 -> 3.515625 | F36: =[1]ввод!G16 -> 844 | G36: =F36/C36 -> 164.84375 | H36: =[1]ввод!K16 -> 0 | I36: =H36/C36 -> 0 | J36: =[1]ввод!O16 -> 132 | K36: =J36/C36 -> 25.78125 | L36: =E36+G36+I36+K36 -> 194.14062 | M36: =[1]ввод!Q16 -> 5 | N36: =[1]ввод!R16 -> 501 | O36: =[1]ввод!S16 -> 1 | P36: =[1]ввод!T16 -> 20 | Q36: =L36+M36/C36+N36/C36+O36/C36+P36/C36 -> 297.07031 | R36: =[1]ввод!D16 -> 0 | S36: =[1]ввод!H16 -> 0 | T36: =[1]ввод!L16 -> 0 | U36: =[1]ввод!P16 -> 0 | V36: =[1]ввод!E16 -> 6 | W36: =[1]ввод!I16 -> 8 | X36: =[1]ввод!M16 -> 0
A37: Итого по Малмыжскому судебному району | C37: 5.12 | D37: =D35+D36 -> 40 | E37: =D37/C37/COUNT(C35:C36) -> 3.90625 | F37: =F35+F36 -> 2378 | G37: =F37/C37/COUNT(C35:C36) -> 232.22656 | H37: =H35+H36 -> 0 | I37: =H37/C37/COUNT(C35:C36) -> 0 | J37: =J35+J36 -> 419 | K37: =J37/C37/COUNT(C35:C36) -> 40.917969 | L37: =E37+G37+I37+K37 -> 277.05078 | M37: =M35+M36 -> 9 | N37: =N35+N36 -> 1103 | O37: =O35+O36 -> 1 | P37: =P35+P36 -> 23 | Q37: =L37+M37/C37/COUNT(C35:C36)+N37/C37/COUNT(C35:C36)+O37/C37/COUNT(C35:C36)+P37/C37/COUNT(C35:C36) -> 387.98828 | R37: =R35+R36 -> 0 | S37: =S35+S36 -> 0 | T37: =T35+T36 -> 0 | U37: =U35+U36 -> 0 | V37: =V35+V36 -> 12 | W37: =W35+W36 -> 23 | X37: =X35+X36 -> 0
A38: 25 | B38: мурашинский | C38: 5.12 | D38: =[1]ввод!C27 -> 10 | E38: =D38/C38 -> 1.953125 | F38: =[1]ввод!G27 -> 755 | G38: =F38/C38 -> 147.46094 | H38: =[1]ввод!K27 -> 0 | I38: =H38/C38 -> 0 | J38: =[1]ввод!O27 -> 202 | K38: =J38/C38 -> 39.453125 | L38: =E38+G38+I38+K38 -> 188.86719 | M38: =[1]ввод!Q27 -> 1 | N38: =[1]ввод!R27 -> 378 | O38: =[1]ввод!S27 -> 0 | P38: =[1]ввод!T27 -> 17 | Q38: =L38+M38/C38+N38/C38+O38/C38+P38/C38 -> 266.21094 | R38: =[1]ввод!D27 -> 0 | S38: =[1]ввод!H27 -> 0 | T38: =[1]ввод!L27 -> 0 | U38: =[1]ввод!P27 -> 0 | V38: =[1]ввод!E27 -> 2 | W38: =[1]ввод!I27 -> 5 | X38: =[1]ввод!M27 -> 0
A39: 31 | B39: опаринский | C39: 5.12 | D39: =[1]ввод!C33 -> 7 | E39: =D39/C39 -> 1.3671875 | F39: =[1]ввод!G33 -> 580 | G39: =F39/C39 -> 113.28125 | H39: =[1]ввод!K33 -> 0 | I39: =H39/C39 -> 0 | J39: =[1]ввод!O33 -> 119 | K39: =J39/C39 -> 23.242188 | L39: =E39+G39+I39+K39 -> 137.89062 | M39: =[1]ввод!Q33 -> 2 | N39: =[1]ввод!R33 -> 246 | O39: =[1]ввод!S33 -> 1 | P39: =[1]ввод!T33 -> 15 | Q39: =L39+M39/C39+N39/C39+O39/C39+P39/C39 -> 189.45312 | R39: =[1]ввод!D33 -> 0 | S39: =[1]ввод!H33 -> 0 | T39: =[1]ввод!L33 -> 0 | U39: =[1]ввод!P33 -> 0 | V39: =[1]ввод!E33 -> 0 | W39: =[1]ввод!I33 -> 3 | X39: =[1]ввод!M33 -> 0
A40: Итого по Мурашинскому судебному району | C40: 5.12 | D40: =D38+D39 -> 17 | E40: =D40/C40/COUNT(C38:C39) -> 1.6601562 | F40: =F38+F39 -> 1335 | G40: =F40/C40/COUNT(C38:C39) -> 130.37109 | H40: =H38+H39 -> 0 | I40: =H40/C40/COUNT(C38:C39) -> 0 | J40: =J38+J39 -> 321 | K40: =J40/C40/COUNT(C38:C39) -> 31.347656 | L40: =E40+G40+I40+K40 -> 163.37891 | M40: =M38+M39 -> 3 | N40: =N38+N39 -> 624 | O40: =O38+O39 -> 1 | P40: =P38+P39 -> 32 | Q40: =L40+M40/C40/COUNT(C38:C39)+N40/C40/COUNT(C38:C39)+O40/C40/COUNT(C38:C39)+P40/C40/COUNT(C38:C39) -> 227.83203 | R40: =R38+R39 -> 0 | S40: =S38+S39 -> 0 | T40: =T38+T39 -> 0 | U40: =U38+U39 -> 0 | V40: =V38+V39 -> 2 | W40: =W38+W39 -> 8 | X40: =X38+X39 -> 0
A41: 27 | B41: немский | C41: 5.12 | D41: =[1]ввод!C29 -> 7 | E41: =D41/C41 -> 1.3671875 | F41: =[1]ввод!G29 -> 350 | G41: =F41/C41 -> 68.359375 | H41: =[1]ввод!K29 -> 1 | I41: =H41/C41 -> 0.1953125 | J41: =[1]ввод!O29 -> 108 | K41: =J41/C41 -> 21.09375 | L41: =E41+G41+I41+K41 -> 91.015625 | M41: =[1]ввод!Q29 -> 3 | N41: =[1]ввод!R29 -> 156 | O41: =[1]ввод!S29 -> 5 | P41: =[1]ввод!T29 -> 46 | Q41: =L41+M41/C41+N41/C41+O41/C41+P41/C41 -> 132.03125 | R41: =[1]ввод!D29 -> 0 | S41: =[1]ввод!H29 -> 0 | T41: =[1]ввод!L29 -> 0 | U41: =[1]ввод!P29 -> 0 | V41: =[1]ввод!E29 -> 2 | W41: =[1]ввод!I29 -> 4 | X41: =[1]ввод!M29 -> 0
A42: 28 | B42: нолинский | C42: 5.12 | D42: =[1]ввод!C30 -> 16 | E42: =D42/C42 -> 3.125 | F42: =[1]ввод!G30 -> 1193 | G42: =F42/C42 -> 233.00781 | H42: =[1]ввод!K30 -> 0 | I42: =H42/C42 -> 0 | J42: =[1]ввод!O30 -> 188 | K42: =J42/C42 -> 36.71875 | L42: =E42+G42+I42+K42 -> 272.85156 | M42: =[1]ввод!Q30 -> 7 | N42: =[1]ввод!R30 -> 369 | O42: =[1]ввод!S30 -> 0 | P42: =[1]ввод!T30 -> 42 | Q42: =L42+M42/C42+N42/C42+O42/C42+P42/C42 -> 354.49219 | R42: =[1]ввод!D30 -> 0 | S42: =[1]ввод!H30 -> 0 | T42: =[1]ввод!L30 -> 0 | U42: =[1]ввод!P30 -> 0 | V42: =[1]ввод!E30 -> 5 | W42: =[1]ввод!I30 -> 12 | X42: =[1]ввод!M30 -> 0
A43: 43 | B43: сунский | C43: 5.12 | D43: =[1]ввод!C45 -> 9 | E43: =D43/C43 -> 1.7578125 | F43: =[1]ввод!G45 -> 299 | G43: =F43/C43 -> 58.398438 | H43: =[1]ввод!K45 -> 0 | I43: =H43/C43 -> 0 | J43: =[1]ввод!O45 -> 152 | K43: =J43/C43 -> 29.6875 | L43: =E43+G43+I43+K43 -> 89.84375 | M43: =[1]ввод!Q45 -> 2 | N43: =[1]ввод!R45 -> 119 | O43: =[1]ввод!S45 -> 0 | P43: =[1]ввод!T45 -> 0 | Q43: =L43+M43/C43+N43/C43+O43/C43+P43/C43 -> 113.47656 | R43: =[1]ввод!D45 -> 0 | S43: =[1]ввод!H45 -> 0 | T43: =[1]ввод!L45 -> 0 | U43: =[1]ввод!P45 -> 0 | V43: =[1]ввод!E45 -> 2 | W43: =[1]ввод!I45 -> 3 | X43: =[1]ввод!M45 -> 0
A44: Итого по Нолинскому судебному району | C44: 5.12 | D44: =SUM(D41:D43) -> 32 | E44: =D44/C44/COUNT(C41:C43) -> 2.0833333 | F44: =SUM(F41:F43) -> 1842 | G44: =F44/C44/COUNT(C41:C43) -> 119.92188 | H44: =SUM(H41:H43) -> 1 | I44: =H44/C44/COUNT(C41:C43) -> 0.065104167 | J44: =SUM(J41:J43) -> 448 | K44: =J44/C44/COUNT(C41:C43) -> 29.166667 | L44: =E44+G44+I44+K44 -> 151.23698 | M44: =SUM(M41:M43) -> 12 | N44: =SUM(N41:N43) -> 644 | O44: =SUM(O41:O43) -> 5 | P44: =SUM(P41:P43) -> 88 | Q44: =L44+M44/C44/COUNT(C41:C43)+N44/C44/COUNT(C41:C43)+O44/C44/COUNT(C41:C43)+P44/C44/COUNT(C41:C43) -> 200 | R44: =SUM(R41:R43) -> 0 | S44: =SUM(S41:S43) -> 0 | T44: =SUM(T41:T43) -> 0 | U44: =SUM(U41:U43) -> 0 | V44: =SUM(V41:V43) -> 9 | W44: =SUM(W41:W43) -> 19 | X44: =SUM(X41:X43) -> 0
A45: 29 | B45: омутнинский | C45: 5.12 | D45: =[1]ввод!C31 -> 5 | E45: =D45/C45 -> 0.9765625 | F45: =[1]ввод!G31 -> 750 | G45: =F45/C45 -> 146.48438 | H45: =[1]ввод!K31 -> 2 | I45: =H45/C45 -> 0.390625 | J45: =[1]ввод!O31 -> 214 | K45: =J45/C45 -> 41.796875 | L45: =E45+G45+I45+K45 -> 189.64844 | M45: =[1]ввод!Q31 -> 0 | N45: =[1]ввод!R31 -> 212 | O45: =[1]ввод!S31 -> 0 | P45: =[1]ввод!T31 -> 23 | Q45: =L45+M45/C45+N45/C45+O45/C45+P45/C45 -> 235.54688 | R45: =[1]ввод!D31 -> 0 | S45: =[1]ввод!H31 -> 0 | T45: =[1]ввод!L31 -> 0 | U45: =[1]ввод!P31 -> 0 | V45: =[1]ввод!E31 -> 0 | W45: =[1]ввод!I31 -> 6 | X45: =[1]ввод!M31 -> 0
A46: 30 | B46: омутнинский | C46: 5.12 | D46: =[1]ввод!C32 -> 8 | E46: =D46/C46 -> 1.5625 | F46: =[1]ввод!G32 -> 817 | G46: =F46/C46 -> 159.57031 | H46: =[1]ввод!K32 -> 0 | I46: =H46/C46 -> 0 | J46: =[1]ввод!O32 -> 240 | K46: =J46/C46 -> 46.875 | L46: =E46+G46+I46+K46 -> 208.00781 | M46: =[1]ввод!Q32 -> 5 | N46: =[1]ввод!R32 -> 283 | O46: =[1]ввод!S32 -> 0 | P46: =[1]ввод!T32 -> 30 | Q46: =L46+M46/C46+N46/C46+O46/C46+P46/C46 -> 270.11719 | R46: =[1]ввод!D32 -> 0 | S46: =[1]ввод!H32 -> 0 | T46: =[1]ввод!L32 -> 0 | U46: =[1]ввод!P32 -> 0 | V46: =[1]ввод!E32 -> 0 | W46: =[1]ввод!I32 -> 4 | X46: =[1]ввод!M32 -> 0
A47: 76 | B47: омутнинский | C47: 5.12 | D47: =[1]ввод!C78 -> 14 | E47: =D47/C47 -> 2.734375 | F47: =[1]ввод!G78 -> 875 | G47: =F47/C47 -> 170.89844 | H47: =[1]ввод!K78 -> 0 | I47: =H47/C47 -> 0 | J47: =[1]ввод!O78 -> 170 | K47: =J47/C47 -> 33.203125 | L47: =E47+G47+I47+K47 -> 206.83594 | M47: =[1]ввод!Q78 -> 4 | N47: =[1]ввод!R78 -> 399 | O47: =[1]ввод!S78 -> 0 | P47: =[1]ввод!T78 -> 14 | Q47: =L47+M47/C47+N47/C47+O47/C47+P47/C47 -> 288.28125 | R47: =[1]ввод!D78 -> 0 | S47: =[1]ввод!H78 -> 0 | T47: =[1]ввод!L78 -> 0 | U47: =[1]ввод!P78 -> 0 | V47: =[1]ввод!E78 -> 1 | W47: =[1]ввод!I78 -> 13 | X47: =[1]ввод!M78 -> 0
A48: 2 | B48: афанасьевский | C48: 5.12 | D48: =[1]ввод!C4 -> 3 | E48: =D48/C48 -> 0.5859375 | F48: =[1]ввод!G4 -> 516 | G48: =F48/C48 -> 100.78125 | H48: =[1]ввод!K4 -> 1 | I48: =H48/C48 -> 0.1953125 | J48: =[1]ввод!O4 -> 141 | K48: =J48/C48 -> 27.539062 | L48: =E48+G48+I48+K48 -> 129.10156 | M48: =[1]ввод!Q4 -> 1 | N48: =[1]ввод!R4 -> 171 | O48: =[1]ввод!S4 -> 0 | P48: =[1]ввод!T4 -> 8 | Q48: =L48+M48/C48+N48/C48+O48/C48+P48/C48 -> 164.25781 | R48: =[1]ввод!D4 -> 0 | S48: =[1]ввод!H4 -> 0 | T48: =[1]ввод!L4 -> 0 | U48: =[1]ввод!P4 -> 0 | V48: =[1]ввод!E4 -> 0 | W48: =[1]ввод!I4 -> 3 | X48: =[1]ввод!M4 -> 0
A49: Итого по Омутнинскому судебному району | C49: 5.12 | D49: =SUM(D45:D48) -> 30 | E49: =D49/C49/COUNT(C45:C48) -> 1.4648438 | F49: =SUM(F45:F48) -> 2958 | G49: =F49/C49/COUNT(C45:C48) -> 144.43359 | H49: =SUM(H45:H48) -> 3 | I49: =H49/C49/COUNT(C45:C48) -> 0.14648438 | J49: =SUM(J45:J48) -> 765 | K49: =J49/C49/COUNT(C45:C48) -> 37.353516 | L49: =E49+G49+I49+K49 -> 183.39844 | M49: =SUM(M45:M48) -> 10 | N49: =SUM(N45:N48) -> 1065 | O49: =SUM(O45:O48) -> 0 | P49: =SUM(P45:P48) -> 75 | Q49: =L49+M49/C49/COUNT(C45:C48)+N49/C49/COUNT(C45:C48)+O49/C49/COUNT(C45:C48)+P49/C49/COUNT(C45:C48) -> 239.55078 | R49: =SUM(R45:R48) -> 0 | S49: =SUM(S45:S48) -> 0 | T49: =SUM(T45:T48) -> 0 | U49: =SUM(U45:U48) -> 0 | V49: =SUM(V45:V48) -> 1 | W49: =SUM(W45:W48) -> 26 | X49: =SUM(X45:X48) -> 0
A50: 33 | B50: Оричевский | C50: 5.12 | D50: =[1]ввод!C35 -> 25 | E50: =D50/C50 -> 4.8828125 | F50: =[1]ввод!G35 -> 1688 | G50: =F50/C50 -> 329.6875 | H50: =[1]ввод!K35 -> 0 | I50: =H50/C50 -> 0 | J50: =[1]ввод!O35 -> 393 | K50: =J50/C50 -> 76.757812 | L50: =E50+G50+I50+K50 -> 411.32812 | M50: =[1]ввод!Q35 -> 8 | N50: =[1]ввод!R35 -> 657 | O50: =[1]ввод!S35 -> 0 | P50: =[1]ввод!T35 -> 25 | Q50: =L50+M50/C50+N50/C50+O50/C50+P50/C50 -> 546.09375 | R50: =[1]ввод!D35 -> 0 | S50: =[1]ввод!H35 -> 0 | T50: =[1]ввод!L35 -> 0 | U50: =[1]ввод!P35 -> 0 | V50: =[1]ввод!E35 -> 6 | W50: =[1]ввод!I35 -> 25 | X50: =[1]ввод!M35 -> 0
A51: 35 | B51: Подосиновский | C51: 5.12 | D51: =[1]ввод!C37 -> 11 | E51: =D51/C51 -> 2.1484375 | F51: =[1]ввод!G37 -> 945 | G51: =F51/C51 -> 184.57031 | H51: =[1]ввод!K37 -> 1 | I51: =H51/C51 -> 0.1953125 | J51: =[1]ввод!O37 -> 281 | K51: =J51/C51 -> 54.882812 | L51: =E51+G51+I51+K51 -> 241.79688 | M51: =[1]ввод!Q37 -> 3 | N51: =[1]ввод!R37 -> 439 | O51: =[1]ввод!S37 -> 0 | P51: =[1]ввод!T37 -> 39 | Q51: =L51+M51/C51+N51/C51+O51/C51+P51/C51 -> 335.74219 | R51: =[1]ввод!D37 -> 0 | S51: =[1]ввод!H37 -> 0 | T51: =[1]ввод!L37 -> 0 | U51: =[1]ввод!P37 -> 0 | V51: =[1]ввод!E37 -> 2 | W51: =[1]ввод!I37 -> 2 | X51: =[1]ввод!M37 -> 0
A52: 36 | B52: санчурский | C52: 5.12 | D52: =[1]ввод!C38 -> 4 | E52: =D52/C52 -> 0.78125 | F52: =[1]ввод!G38 -> 437 | G52: =F52/C52 -> 85.351562 | H52: =[1]ввод!K38 -> 1 | I52: =H52/C52 -> 0.1953125 | J52: =[1]ввод!O38 -> 135 | K52: =J52/C52 -> 26.367188 | L52: =E52+G52+I52+K52 -> 112.69531 | M52: =[1]ввод!Q38 -> 0 | N52: =[1]ввод!R38 -> 447 | O52: =[1]ввод!S38 -> 1 | P52: =[1]ввод!T38 -> 5 | Q52: =L52+M52/C52+N52/C52+O52/C52+P52/C52 -> 201.17188 | R52: =[1]ввод!D38 -> 0 | S52: =[1]ввод!H38 -> 0 | T52: =[1]ввод!L38 -> 0 | U52: =[1]ввод!P38 -> 0 | V52: =[1]ввод!E38 -> 0 | W52: =[1]ввод!I38 -> 2 | X52: =[1]ввод!M38 -> 0
A53: 13 | B53: кикнурский | C53: 5.12 | D53: =[1]ввод!C15 -> 4 | E53: =D53/C53 -> 0.78125 | F53: =[1]ввод!G15 -> 350 | G53: =F53/C53 -> 68.359375 | H53: =[1]ввод!K15 -> 1 | I53: =H53/C53 -> 0.1953125 | J53: =[1]ввод!O15 -> 83 | K53: =J53/C53 -> 16.210938 | L53: =E53+G53+I53+K53 -> 85.546875 | M53: =[1]ввод!Q15 -> 2 | N53: =[1]ввод!R15 -> 176 | O53: =[1]ввод!S15 -> 0 | P53: =[1]ввод!T15 -> 18 | Q53: =L53+M53/C53+N53/C53+O53/C53+P53/C53 -> 123.82812 | R53: =[1]ввод!D15 -> 0 | S53: =[1]ввод!H15 -> 0 | T53: =[1]ввод!L15 -> 0 | U53: =[1]ввод!P15 -> 0 | V53: =[1]ввод!E15 -> 0 | W53: =[1]ввод!I15 -> 3 | X53: =[1]ввод!M15 -> 0
A54: Итого по Санчурскому судебному району | C54: 5.12 | D54: =D52+D53 -> 8 | E54: =D54/C54/COUNT(C52:C53) -> 0.78125 | F54: =F52+F53 -> 787 | G54: =F54/C54/COUNT(C52:C53) -> 76.855469 | H54: =H52+H53 -> 2 | I54: =H54/C54/COUNT(C52:C53) -> 0.1953125 | J54: =J52+J53 -> 218 | K54: =J54/C54/COUNT(C52:C53) -> 21.289062 | L54: =E54+G54+I54+K54 -> 99.121094 | M54: =M52+M53 -> 2 | N54: =N52+N53 -> 623 | O54: =O52+O53 -> 1 | P54: =P52+P53 -> 23 | Q54: =L54+M54/C54/COUNT(C52:C53)+N54/C54/COUNT(C52:C53)+O54/C54/COUNT(C52:C53)+P54/C54/COUNT(C52:C53) -> 162.5 | R54: =R52+R53 -> 0 | S54: =S52+S53 -> 0 | T54: =T52+T53 -> 0 | U54: =U52+U53 -> 0 | V54: =V52+V53 -> 0 | W54: =W52+W53 -> 5 | X54: =X52+X53 -> 0
A55: 38 | B55: слободской | C55: 5.12 | D55: =[1]ввод!C40 -> 10 | E55: =D55/C55 -> 1.953125 | F55: =[1]ввод!G40 -> 799 | G55: =F55/C55 -> 156.05469 | H55: =[1]ввод!K40 -> 0 | I55: =H55/C55 -> 0 | J55: =[1]ввод!O40 -> 193 | K55: =J55/C55 -> 37.695312 | L55: =E55+G55+I55+K55 -> 195.70312 | M55: =[1]ввод!Q40 -> 5 | N55: =[1]ввод!R40 -> 478 | O55: =[1]ввод!S40 -> 1 | P55: =[1]ввод!T40 -> 4 | Q55: =L55+M55/C55+N55/C55+O55/C55+P55/C55 -> 291.01562 | R55: =[1]ввод!D40 -> 0 | S55: =[1]ввод!H40 -> 0 | T55: =[1]ввод!L40 -> 0 | U55: =[1]ввод!P40 -> 0 | V55: =[1]ввод!E40 -> 2 | W55: =[1]ввод!I40 -> 8 | X55: =[1]ввод!M40 -> 0
A56: 39 | B56: слободской | C56: 5.12 | D56: =[1]ввод!C41 -> 16 | E56: =D56/C56 -> 3.125 | F56: =[1]ввод!G41 -> 1185 | G56: =F56/C56 -> 231.44531 | H56: =[1]ввод!K41 -> 0 | I56: =H56/C56 -> 0 | J56: =[1]ввод!O41 -> 163 | K56: =J56/C56 -> 31.835938 | L56: =E56+G56+I56+K56 -> 266.40625 | M56: =[1]ввод!Q41 -> 5 | N56: =[1]ввод!R41 -> 750 | O56: =[1]ввод!S41 -> 0 | P56: =[1]ввод!T41 -> 17 | Q56: =L56+M56/C56+N56/C56+O56/C56+P56/C56 -> 417.1875 | R56: =[1]ввод!D41 -> 0 | S56: =[1]ввод!H41 -> 0 | T56: =[1]ввод!L41 -> 0 | U56: =[1]ввод!P41 -> 0 | V56: =[1]ввод!E41 -> 1 | W56: =[1]ввод!I41 -> 3 | X56: =[1]ввод!M41 -> 0
A57: 40 | B57: слободской | C57: 5.12 | D57: =[1]ввод!C42 -> 12 | E57: =D57/C57 -> 2.34375 | F57: =[1]ввод!G42 -> 1273 | G57: =F57/C57 -> 248.63281 | H57: =[1]ввод!K42 -> 4 | I57: =H57/C57 -> 0.78125 | J57: =[1]ввод!O42 -> 310 | K57: =J57/C57 -> 60.546875 | L57: =E57+G57+I57+K57 -> 312.30469 | M57: =[1]ввод!Q42 -> 7 | N57: =[1]ввод!R42 -> 548 | O57: =[1]ввод!S42 -> 3 | P57: =[1]ввод!T42 -> 26 | Q57: =L57+M57/C57+N57/C57+O57/C57+P57/C57 -> 426.36719 | R57: =[1]ввод!D42 -> 0 | S57: =[1]ввод!H42 -> 0 | T57: =[1]ввод!L42 -> 0 | U57: =[1]ввод!P42 -> 0 | V57: =[1]ввод!E42 -> 1 | W57: =[1]ввод!I42 -> 14 | X57: =[1]ввод!M42 -> 0
A58: 77 | B58: слободской | C58: 5.12 | D58: =[1]ввод!C79 -> 4 | E58: =D58/C58 -> 0.78125 | F58: =[1]ввод!G79 -> 896 | G58: =F58/C58 -> 175 | H58: =[1]ввод!K79 -> 0 | I58: =H58/C58 -> 0 | J58: =[1]ввод!O79 -> 215 | K58: =J58/C58 -> 41.992188 | L58: =E58+G58+I58+K58 -> 217.77344 | M58: =[1]ввод!Q79 -> 1 | N58: =[1]ввод!R79 -> 498 | O58: =[1]ввод!S79 -> 0 | P58: =[1]ввод!T79 -> 17 | Q58: =L58+M58/C58+N58/C58+O58/C58+P58/C58 -> 318.55469 | R58: =[1]ввод!D79 -> 0 | S58: =[1]ввод!H79 -> 0 | T58: =[1]ввод!L79 -> 0 | U58: =[1]ввод!P79 -> 0 | V58: =[1]ввод!E79 -> 1 | W58: =[1]ввод!I79 -> 10 | X58: =[1]ввод!M79 -> 0
A59: 3 | B59: белохолуницкий | C59: 5.12 | D59: =[1]ввод!C5 -> 3 | E59: =D59/C59 -> 0.5859375 | F59: =[1]ввод!G5 -> 1017 | G59: =F59/C59 -> 198.63281 | H59: =[1]ввод!K5 -> 0 | I59: =H59/C59 -> 0 | J59: =[1]ввод!O5 -> 206 | K59: =J59/C59 -> 40.234375 | L59: =E59+G59+I59+K59 -> 239.45312 | M59: =[1]ввод!Q5 -> 1 | N59: =[1]ввод!R5 -> 449 | O59: =[1]ввод!S5 -> 0 | P59: =[1]ввод!T5 -> 6 | Q59: =L59+M59/C59+N59/C59+O59/C59+P59/C59 -> 328.51562 | R59: =[1]ввод!D5 -> 0 | S59: =[1]ввод!H5 -> 0 | T59: =[1]ввод!L5 -> 0 | U59: =[1]ввод!P5 -> 0 | V59: =[1]ввод!E5 -> 1 | W59: =[1]ввод!I5 -> 12 | X59: =[1]ввод!M5 -> 0
A60: 26 | B60: нагорский | C60: 5.12 | D60: =[1]ввод!C28 -> 5 | E60: =D60/C60 -> 0.9765625 | F60: =[1]ввод!G28 -> 351 | G60: =F60/C60 -> 68.554688 | H60: =[1]ввод!K28 -> 0 | I60: =H60/C60 -> 0 | J60: =[1]ввод!O28 -> 105 | K60: =J60/C60 -> 20.507812 | L60: =E60+G60+I60+K60 -> 90.039062 | M60: =[1]ввод!Q28 -> 0 | N60: =[1]ввод!R28 -> 173 | O60: =[1]ввод!S28 -> 0 | P60: =[1]ввод!T28 -> 18 | Q60: =L60+M60/C60+N60/C60+O60/C60+P60/C60 -> 127.34375 | R60: =[1]ввод!D28 -> 0 | S60: =[1]ввод!H28 -> 0 | T60: =[1]ввод!L28 -> 0 | U60: =[1]ввод!P28 -> 0 | V60: =[1]ввод!E28 -> 0 | W60: =[1]ввод!I28 -> 4 | X60: =[1]ввод!M28 -> 0
A61: Итого по Слободскому судебному району | C61: 5.12 | D61: =SUM(D55:D60) -> 50 | E61: =D61/C61/COUNT(C55:C60) -> 1.6276042 | F61: =SUM(F55:F60) -> 5521 | G61: =F61/C61/COUNT(C55:C60) -> 179.72005 | H61: =SUM(H55:H60) -> 4 | I61: =H61/C61/COUNT(C55:C60) -> 0.13020833 | J61: =SUM(J55:J60) -> 1192 | K61: =J61/C61/COUNT(C55:C60) -> 38.802083 | L61: =E61+G61+I61+K61 -> 220.27995 | M61: =SUM(M55:M60) -> 19 | N61: =SUM(N55:N60) -> 2896 | O61: =SUM(O55:O60) -> 4 | P61: =SUM(P55:P60) -> 88 | Q61: =L61+M61/C61/COUNT(C55:C60)+N61/C61/COUNT(C55:C60)+O61/C61/COUNT(C55:C60)+P61/C61/COUNT(C55:C60) -> 318.16406 | R61: =SUM(R55:R60) -> 0 | S61: =SUM(S55:S60) -> 0 | T61: =SUM(T55:T60) -> 0 | U61: =SUM(U55:U60) -> 0 | V61: =SUM(V55:V60) -> 6 | W61: =SUM(W55:W60) -> 51 | X61: =SUM(X55:X60) -> 0
A62: 41 | B62: советский | C62: 5.12 | D62: =[1]ввод!C43 -> 25 | E62: =D62/C62 -> 4.8828125 | F62: =[1]ввод!G43 -> 1132 | G62: =F62/C62 -> 221.09375 | H62: =[1]ввод!K43 -> 0 | I62: =H62/C62 -> 0 | J62: =[1]ввод!O43 -> 433 | K62: =J62/C62 -> 84.570312 | L62: =E62+G62+I62+K62 -> 310.54688 | M62: =[1]ввод!Q43 -> 3 | N62: =[1]ввод!R43 -> 483 | O62: =[1]ввод!S43 -> 0 | P62: =[1]ввод!T43 -> 40 | Q62: =L62+M62/C62+N62/C62+O62/C62+P62/C62 -> 413.28125 | R62: =[1]ввод!D43 -> 0 | S62: =[1]ввод!H43 -> 0 | T62: =[1]ввод!L43 -> 0 | U62: =[1]ввод!P43 -> 0 | V62: =[1]ввод!E43 -> 7 | W62: =[1]ввод!I43 -> 15 | X62: =[1]ввод!M43 -> 0
A63: 7 | B63: верхошижемский | C63: 5.12 | D63: =[1]ввод!C9 -> 6 | E63: =D63/C63 -> 1.171875 | F63: =[1]ввод!G9 -> 451 | G63: =F63/C63 -> 88.085938 | H63: =[1]ввод!K9 -> 0 | I63: =H63/C63 -> 0 | J63: =[1]ввод!O9 -> 116 | K63: =J63/C63 -> 22.65625 | L63: =E63+G63+I63+K63 -> 111.91406 | M63: =[1]ввод!Q9 -> 3 | N63: =[1]ввод!R9 -> 655 | O63: =[1]ввод!S9 -> 0 | P63: =[1]ввод!T9 -> 8 | Q63: =L63+M63/C63+N63/C63+O63/C63+P63/C63 -> 241.99219 | R63: =[1]ввод!D9 -> 0 | S63: =[1]ввод!H9 -> 0 | T63: =[1]ввод!L9 -> 0 | U63: =[1]ввод!P9 -> 0 | V63: =[1]ввод!E9 -> 1 | W63: =[1]ввод!I9 -> 8 | X63: =[1]ввод!M9 -> 0
A64: 22 | B64: лебяжский | C64: 5.12 | D64: =[1]ввод!C24 -> 8 | E64: =D64/C64 -> 1.5625 | F64: =[1]ввод!G24 -> 333 | G64: =F64/C64 -> 65.039062 | H64: =[1]ввод!K24 -> 0 | I64: =H64/C64 -> 0 | J64: =[1]ввод!O24 -> 82 | K64: =J64/C64 -> 16.015625 | L64: =E64+G64+I64+K64 -> 82.617188 | M64: =[1]ввод!Q24 -> 3 | N64: =[1]ввод!R24 -> 144 | O64: =[1]ввод!S24 -> 1 | P64: =[1]ввод!T24 -> 4 | Q64: =L64+M64/C64+N64/C64+O64/C64+P64/C64 -> 112.30469 | R64: =[1]ввод!D24 -> 0 | S64: =[1]ввод!H24 -> 0 | T64: =[1]ввод!L24 -> 0 | U64: =[1]ввод!P24 -> 0 | V64: =[1]ввод!E24 -> 4 | W64: =[1]ввод!I24 -> 3 | X64: =[1]ввод!M24 -> 0
A65: 34 | B65: пижанский | C65: 5.12 | D65: =[1]ввод!C36 -> 13 | E65: =D65/C65 -> 2.5390625 | F65: =[1]ввод!G36 -> 451 | G65: =F65/C65 -> 88.085938 | H65: =[1]ввод!K36 -> 0 | I65: =H65/C65 -> 0 | J65: =[1]ввод!O36 -> 107 | K65: =J65/C65 -> 20.898438 | L65: =E65+G65+I65+K65 -> 111.52344 | M65: =[1]ввод!Q36 -> 3 | N65: =[1]ввод!R36 -> 206 | O65: =[1]ввод!S36 -> 0 | P65: =[1]ввод!T36 -> 3 | Q65: =L65+M65/C65+N65/C65+O65/C65+P65/C65 -> 152.92969 | R65: =[1]ввод!D36 -> 0 | S65: =[1]ввод!H36 -> 0 | T65: =[1]ввод!L36 -> 0 | U65: =[1]ввод!P36 -> 0 | V65: =[1]ввод!E36 -> 1 | W65: =[1]ввод!I36 -> 1 | X65: =[1]ввод!M36 -> 0
A66: Итого по Советскому судебному району | C66: 5.12 | D66: =SUM(D62:D65) -> 52 | E66: =D66/C66/COUNT(C62:C65) -> 2.5390625 | F66: =SUM(F62:F65) -> 2367 | G66: =F66/C66/COUNT(C62:C65) -> 115.57617 | H66: =SUM(H62:H65) -> 0 | I66: =H66/C66/COUNT(C62:C65) -> 0 | J66: =SUM(J62:J65) -> 738 | K66: =J66/C66/COUNT(C62:C65) -> 36.035156 | L66: =E66+G66+I66+K66 -> 154.15039 | M66: =SUM(M62:M65) -> 12 | N66: =SUM(N62:N65) -> 1488 | O66: =SUM(O62:O65) -> 1 | P66: =SUM(P62:P65) -> 55 | Q66: =L66+M66/C66/COUNT(C62:C65)+N66/C66/COUNT(C62:C65)+O66/C66/COUNT(C62:C65)+P66/C66/COUNT(C62:C65) -> 230.12695 | R66: =SUM(R62:R65) -> 0 | S66: =SUM(S62:S65) -> 0 | T66: =SUM(T62:T65) -> 0 | U66: =SUM(U62:U65) -> 0 | V66: =SUM(V62:V65) -> 13 | W66: =SUM(W62:W65) -> 27 | X66: =SUM(X62:X65) -> 0
A67: 45 | B67: унинский | C67: 5.12 | D67: =[1]ввод!C47 -> 5 | E67: =D67/C67 -> 0.9765625 | F67: =[1]ввод!G47 -> 388 | G67: =F67/C67 -> 75.78125 | H67: =[1]ввод!K47 -> 0 | I67: =H67/C67 -> 0 | J67: =[1]ввод!O47 -> 96 | K67: =J67/C67 -> 18.75 | L67: =E67+G67+I67+K67 -> 95.507812 | M67: =[1]ввод!Q47 -> 4 | N67: =[1]ввод!R47 -> 237 | O67: =[1]ввод!S47 -> 1 | P67: =[1]ввод!T47 -> 18 | Q67: =L67+M67/C67+N67/C67+O67/C67+P67/C67 -> 146.28906 | R67: =[1]ввод!D47 -> 0 | S67: =[1]ввод!H47 -> 0 | T67: =[1]ввод!L47 -> 0 | U67: =[1]ввод!P47 -> 0 | V67: =[1]ввод!E47 -> 0 | W67: =[1]ввод!I47 -> 3 | X67: =[1]ввод!M47 -> 0
A68: 4 | B68: богородский | C68: 5.12 | D68: =[1]ввод!C6 -> 5 | E68: =D68/C68 -> 0.9765625 | F68: =[1]ввод!G6 -> 320 | G68: =F68/C68 -> 62.5 | H68: =[1]ввод!K6 -> 0 | I68: =H68/C68 -> 0 | J68: =[1]ввод!O6 -> 80 | K68: =J68/C68 -> 15.625 | L68: =E68+G68+I68+K68 -> 79.101562 | M68: =[1]ввод!Q6 -> 4 | N68: =[1]ввод!R6 -> 132 | O68: =[1]ввод!S6 -> 0 | P68: =[1]ввод!T6 -> 18 | Q68: =L68+M68/C68+N68/C68+O68/C68+P68/C68 -> 109.17969 | R68: =[1]ввод!D6 -> 0 | S68: =[1]ввод!H6 -> 0 | T68: =[1]ввод!L6 -> 0 | U68: =[1]ввод!P6 -> 0 | V68: =[1]ввод!E6 -> 1 | W68: =[1]ввод!I6 -> 3 | X68: =[1]ввод!M6 -> 0
A69: Итого по Унинскому судебному району | C69: 5.12 | D69: =D67+D68 -> 10 | E69: =D69/C69/COUNT(C67:C68) -> 0.9765625 | F69: =F67+F68 -> 708 | G69: =F69/C69/COUNT(C67:C68) -> 69.140625 | H69: =H67+H68 -> 0 | I69: =H69/C69/COUNT(C67:C68) -> 0 | J69: =J67+J68 -> 176 | K69: =J69/C69/COUNT(C67:C68) -> 17.1875 | L69: =E69+G69+I69+K69 -> 87.304688 | M69: =M67+M68 -> 8 | N69: =N67+N68 -> 369 | O69: =O67+O68 -> 1 | P69: =P67+P68 -> 36 | Q69: =L69+M69/C69/COUNT(C67:C68)+N69/C69/COUNT(C67:C68)+P69/C69/COUNT(C67:C68)+P69/C69/COUNT(C67:C68) -> 131.15234 | R69: =R67+R68 -> 0 | S69: =S67+S68 -> 0 | T69: =T67+T68 -> 0 | U69: =U67+U68 -> 0 | V69: =V67+V68 -> 1 | W69: =W67+W68 -> 6 | X69: =X67+X68 -> 0
A70: 46 | B70: уржумский | C70: 5.12 | D70: =[1]ввод!C48 -> 18 | E70: =D70/C70 -> 3.515625 | F70: =[1]ввод!G48 -> 1429 | G70: =F70/C70 -> 279.10156 | H70: =[1]ввод!K48 -> 0 | I70: =H70/C70 -> 0 | J70: =[1]ввод!O48 -> 315 | K70: =J70/C70 -> 61.523438 | L70: =E70+G70+I70+K70 -> 344.14062 | M70: =[1]ввод!Q48 -> 2 | N70: =[1]ввод!R48 -> 719 | O70: =[1]ввод!S48 -> 0 | P70: =[1]ввод!T48 -> 11 | Q70: =L70+M70/C70+N70/C70+O70/C70+P70/C70 -> 487.10938 | R70: =[1]ввод!D48 -> 0 | S70: =[1]ввод!H48 -> 0 | T70: =[1]ввод!L48 -> 0 | U70: =[1]ввод!P48 -> 0 | V70: =[1]ввод!E48 -> 2 | W70: =[1]ввод!I48 -> 21 | X70: =[1]ввод!M48 -> 0
A71: 48 | B71: шабалинский | C71: 5.12 | D71: =[1]ввод!C50 -> 6 | E71: =D71/C71 -> 1.171875 | F71: =[1]ввод!G50 -> 447 | G71: =F71/C71 -> 87.304688 | H71: =[1]ввод!K50 -> 0 | I71: =H71/C71 -> 0 | J71: =[1]ввод!O50 -> 100 | K71: =J71/C71 -> 19.53125 | L71: =E71+G71+I71+K71 -> 108.00781 | M71: =[1]ввод!Q50 -> 0 | N71: =[1]ввод!R50 -> 212 | O71: =[1]ввод!S50 -> 3 | P71: =[1]ввод!T50 -> 16 | Q71: =L71+M71/C71+N71/C71+O71/C71+P71/C71 -> 153.125 | R71: =[1]ввод!D50 -> 0 | S71: =[1]ввод!H50 -> 0 | T71: =[1]ввод!L50 -> 0 | U71: =[1]ввод!P50 -> 0 | V71: =[1]ввод!E50 -> 2 | W71: =[1]ввод!I50 -> 2 | X71: =[1]ввод!M50 -> 0
A72: 37 | B72: свечинский | C72: 5.12 | D72: =[1]ввод!C39 -> 1 | E72: =D72/C72 -> 0.1953125 | F72: =[1]ввод!G39 -> 386 | G72: =F72/C72 -> 75.390625 | H72: =[1]ввод!K39 -> 0 | I72: =H72/C72 -> 0 | J72: =[1]ввод!O39 -> 80 | K72: =J72/C72 -> 15.625 | L72: =E72+G72+I72+K72 -> 91.210938 | M72: =[1]ввод!Q39 -> 1 | N72: =[1]ввод!R39 -> 275 | O72: =[1]ввод!S39 -> 1 | P72: =[1]ввод!T39 -> 4 | Q72: =L72+M72/C72+N72/C72+O72/C72+P72/C72 -> 146.09375 | R72: =[1]ввод!D39 -> 0 | S72: =[1]ввод!H39 -> 0 | T72: =[1]ввод!L39 -> 0 | U72: =[1]ввод!P39 -> 0 | V72: =[1]ввод!E39 -> 0 | W72: =[1]ввод!I39 -> 2 | X72: =[1]ввод!M39 -> 0
A73: Итого по Шабалинскому судебному району | C73: 5.12 | D73: =D71+D72 -> 7 | E73: =D73/C73/COUNT(C71:C72) -> 0.68359375 | F73: =F71+F72 -> 833 | G73: =F73/C73/COUNT(C71:C72) -> 81.347656 | H73: =H71+H72 -> 0 | I73: =H73/C73/COUNT(C71:C72) -> 0 | J73: =J71+J72 -> 180 | K73: =J73/C73/COUNT(C71:C72) -> 17.578125 | L73: =E73+G73+I73+K73 -> 99.609375 | M73: =M71+M72 -> 1 | N73: =N71+N72 -> 487 | O73: =O71+O72 -> 4 | P73: =P71+P72 -> 20 | Q73: =L73+M73/C73/COUNT(C71:C72)+N73/C73/COUNT(C71:C72)+O73/C73/COUNT(C71:C72)+P73/C73/COUNT(C71:C72) -> 149.60938 | R73: =R71+R72 -> 0 | S73: =S71+S72 -> 0 | T73: =T71+T72 -> 0 | U73: =U71+U72 -> 0 | V73: =V71+V72 -> 2 | W73: =W71+W72 -> 4 | X73: =X71+X72 -> 0
A74: 49 | B74: юрьянский | C74: 5.12 | D74: =[1]ввод!C51 -> 4 | E74: =D74/C74 -> 0.78125 | F74: =[1]ввод!G51 -> 870 | G74: =F74/C74 -> 169.92188 | H74: =[1]ввод!K51 -> 0 | I74: =H74/C74 -> 0 | J74: =[1]ввод!O51 -> 151 | K74: =J74/C74 -> 29.492188 | L74: =E74+G74+I74+K74 -> 200.19531 | M74: =[1]ввод!Q51 -> 1 | N74: =[1]ввод!R51 -> 274 | O74: =[1]ввод!S51 -> 0 | P74: =[1]ввод!T51 -> 6 | Q74: =L74+M74/C74+N74/C74+O74/C74+P74/C74 -> 255.07812 | R74: =[1]ввод!D51 -> 0 | S74: =[1]ввод!H51 -> 0 | T74: =[1]ввод!L51 -> 0 | U74: 0 | V74: =[1]ввод!E51 -> 2 | W74: =[1]ввод!I51 -> 4 | X74: =[1]ввод!M51 -> 0
A75: 50 | B75: юрьянский | C75: 5.12 | D75: =[1]ввод!C52 -> 12 | E75: =D75/C75 -> 2.34375 | F75: =[1]ввод!G52 -> 958 | G75: =F75/C75 -> 187.10938 | H75: =[1]ввод!K52 -> 0 | I75: =H75/C75 -> 0 | J75: =[1]ввод!O52 -> 262 | K75: =J75/C75 -> 51.171875 | L75: =E75+G75+I75+K75 -> 240.625 | M75: =[1]ввод!Q52 -> 4 | N75: =[1]ввод!R52 -> 301 | O75: =[1]ввод!S52 -> 0 | P75: =[1]ввод!T52 -> 5 | Q75: =L75+M75/C75+N75/C75+O75/C75+P75/C75 -> 301.17188 | R75: =[1]ввод!D52 -> 0 | S75: =[1]ввод!H52 -> 0 | T75: =[1]ввод!L52 -> 0 | U75: =[1]ввод!P52 -> 0 | V75: =[1]ввод!E52 -> 1 | W75: =[1]ввод!I52 -> 6 | X75: =[1]ввод!M52 -> 0
A76: Итого по Юрьянскому судебному району | C76: 5.12 | D76: =D74+D75 -> 16 | E76: =D76/C76/COUNT(C74:C75) -> 1.5625 | F76: =F74+F75 -> 1828 | G76: =F76/C76/COUNT(C74:C75) -> 178.51562 | H76: =H74+H75 -> 0 | I76: =H76/C76/COUNT(C74:C75) -> 0 | J76: =J74+J75 -> 413 | K76: =J76/C76/COUNT(C74:C75) -> 40.332031 | L76: =E76+G76+I76+K76 -> 220.41016 | M76: =M74+M75 -> 5 | N76: =N74+N75 -> 575 | O76: =O74+O75 -> 0 | P76: =P74+P75 -> 11 | Q76: =L76+M76/C76/COUNT(C74:C75)+N76/C76/COUNT(C74:C75)+O76/C76/COUNT(C74:C75)+P76/C76/COUNT(C74:C75) -> 278.125 | R76: =R74+R75 -> 0 | S76: =S74+S75 -> 0 | T76: =T74+T75 -> 0 | U76: 0 | V76: =V74+V75 -> 3 | W76: =W74+W75 -> 10 | X76: =X74+X75 -> 0
A77: 51 | B77: яранский | C77: 5.12 | D77: =[1]ввод!C53 -> 13 | E77: =D77/C77 -> 2.5390625 | F77: =[1]ввод!G53 -> 1168 | G77: =F77/C77 -> 228.125 | H77: =[1]ввод!K53 -> 2 | I77: =H77/C77 -> 0.390625 | J77: =[1]ввод!O53 -> 234 | K77: =J77/C77 -> 45.703125 | L77: =E77+G77+I77+K77 -> 276.75781 | M77: =[1]ввод!Q53 -> 13 | N77: =[1]ввод!R53 -> 520 | O77: =[1]ввод!S53 -> 2 | P77: =[1]ввод!T53 -> 46 | Q77: =L77+M77/C77+N77/C77+O77/C77+P77/C77 -> 390.23438 | R77: =[1]ввод!D53 -> 0 | S77: =[1]ввод!H53 -> 0 | T77: =[1]ввод!L53 -> 0 | U77: =[1]ввод!P53 -> 0 | V77: =[1]ввод!E53 -> 5 | W77: =[1]ввод!I53 -> 20 | X77: =[1]ввод!M53 -> 0
A78: 1 | B78: арбажский | C78: 5.12 | D78: =[1]ввод!C3 -> 2 | E78: =D78/C78 -> 0.390625 | F78: =[1]ввод!G3 -> 289 | G78: =F78/C78 -> 56.445312 | H78: =[1]ввод!K3 -> 0 | I78: =H78/C78 -> 0 | J78: =[1]ввод!O3 -> 102 | K78: =J78/C78 -> 19.921875 | L78: =E78+G78+I78+K78 -> 76.757812 | M78: =[1]ввод!Q3 -> 1 | N78: =[1]ввод!R3 -> 381 | O78: =[1]ввод!S3 -> 0 | P78: =[1]ввод!T3 -> 0 | Q78: =L78+M78/C78+N78/C78+O78/C78+P78/C78 -> 151.36719 | R78: =[1]ввод!D3 -> 0 | S78: =[1]ввод!H3 -> 0 | T78: =[1]ввод!L3 -> 0 | U78: =[1]ввод!P3 -> 0 | V78: =[1]ввод!E3 -> 0 | W78: =[1]ввод!I3 -> 7 | X78: =[1]ввод!M3 -> 0
A79: 44 | B79: тужинский | C79: 5.12 | D79: =[1]ввод!C46 -> 2 | E79: =D79/C79 -> 0.390625 | F79: =[1]ввод!G46 -> 237 | G79: =F79/C79 -> 46.289062 | H79: =[1]ввод!K46 -> 0 | I79: =H79/C79 -> 0 | J79: =[1]ввод!O46 -> 94 | K79: =J79/C79 -> 18.359375 | L79: =E79+G79+I79+K79 -> 65.039062 | M79: =[1]ввод!Q46 -> 6 | N79: =[1]ввод!R46 -> 272 | O79: =[1]ввод!S46 -> 1 | P79: =[1]ввод!T46 -> 5 | Q79: =L79+M79/C79+N79/C79+O79/C79+P79/C79 -> 120.50781 | R79: =[1]ввод!D46 -> 0 | S79: =[1]ввод!H46 -> 0 | T79: =[1]ввод!L46 -> 0 | U79: =[1]ввод!P46 -> 0 | V79: =[1]ввод!E46 -> 3 | W79: =[1]ввод!I46 -> 4 | X79: =[1]ввод!M46 -> 0
A80: Итого по Яранскому судебному району | C80: 5.12 | D80: =SUM(D77:D79) -> 17 | E80: =D80/C80/COUNT(C77:C79) -> 1.1067708 | F80: =SUM(F77:F79) -> 1694 | G80: =F80/C80/COUNT(C77:C79) -> 110.28646 | H80: =SUM(H77:H79) -> 2 | I80: =H80/C80/COUNT(C77:C79) -> 0.13020833 | J80: =SUM(J77:J79) -> 430 | K80: =J80/C80/COUNT(C77:C79) -> 27.994792 | L80: =E80+G80+I80+K80 -> 139.51823 | M80: =SUM(M77:M79) -> 20 | N80: =SUM(N77:N79) -> 1173 | O80: =SUM(O77:O79) -> 3 | P80: =SUM(P77:P79) -> 51 | Q80: =L80+M80/C80/COUNT(C77:C79)+N80/C80/COUNT(C77:C79)+O80/C80/COUNT(C77:C79)+P80/C80/COUNT(C77:C79) -> 220.70312 | R80: =SUM(R77:R79) -> 0 | S80: =SUM(S77:S79) -> 0 | T80: =SUM(T77:T79) -> 0 | U80: =SUM(U77:U79) -> 0 | V80: =SUM(V77:V79) -> 8 | W80: =SUM(W77:W79) -> 31 | X80: =SUM(X77:X79) -> 0
A81: 52 | B81: ленинский | C81: 5.12 | D81: =[1]ввод!C54 -> 2 | E81: =D81/C81 -> 0.390625 | F81: =[1]ввод!G54 -> 2061 | G81: =F81/C81 -> 402.53906 | H81: =[1]ввод!K54 -> 3 | I81: =H81/C81 -> 0.5859375 | J81: =[1]ввод!O54 -> 290 | K81: =J81/C81 -> 56.640625 | L81: =E81+G81+I81+K81 -> 460.15625 | M81: =[1]ввод!Q54 -> 3 | N81: =[1]ввод!R54 -> 999 | O81: =[1]ввод!S54 -> 5 | P81: =[1]ввод!T54 -> 29 | Q81: =L81+M81/C81+N81/C81+O81/C81+P81/C81 -> 662.5 | R81: =[1]ввод!D54 -> 0 | S81: =[1]ввод!H54 -> 0 | T81: =[1]ввод!L54 -> 0 | U81: =[1]ввод!P54 -> 0 | V81: =[1]ввод!E54 -> 1 | W81: =[1]ввод!I54 -> 22 | X81: =[1]ввод!M54 -> 0
A82: 53 | B82: ленинский | C82: 5.12 | D82: =[1]ввод!C55 -> 16 | E82: =D82/C82 -> 3.125 | F82: =[1]ввод!G55 -> 1797 | G82: =F82/C82 -> 350.97656 | H82: =[1]ввод!K55 -> 0 | I82: =H82/C82 -> 0 | J82: =[1]ввод!O55 -> 538 | K82: =J82/C82 -> 105.07812 | L82: =E82+G82+I82+K82 -> 459.17969 | M82: =[1]ввод!Q55 -> 2 | N82: =[1]ввод!R55 -> 1593 | O82: =[1]ввод!S55 -> 0 | P82: =[1]ввод!T55 -> 36 | Q82: =L82+M82/C82+N82/C82+O82/C82+P82/C82 -> 777.73438 | R82: =[1]ввод!D55 -> 0 | S82: =[1]ввод!H55 -> 0 | T82: =[1]ввод!L55 -> 0 | U82: =[1]ввод!P55 -> 0 | V82: =[1]ввод!E55 -> 7 | W82: =[1]ввод!I55 -> 25 | X82: =[1]ввод!M55 -> 0
A83: 54 | B83: ленинский | C83: 5.12 | D83: =[1]ввод!C56 -> 13 | E83: =D83/C83 -> 2.5390625 | F83: =[1]ввод!G56 -> 1697 | G83: =F83/C83 -> 331.44531 | H83: =[1]ввод!K56 -> 0 | I83: =H83/C83 -> 0 | J83: =[1]ввод!O56 -> 507 | K83: =J83/C83 -> 99.023438 | L83: =E83+G83+I83+K83 -> 433.00781 | M83: =[1]ввод!Q56 -> 2 | N83: =[1]ввод!R56 -> 1210 | O83: =[1]ввод!S56 -> 0 | P83: =[1]ввод!T56 -> 33 | Q83: =L83+M83/C83+N83/C83+O83/C83+P83/C83 -> 676.17188 | R83: =[1]ввод!D56 -> 0 | S83: =[1]ввод!H56 -> 0 | T83: =[1]ввод!L56 -> 0 | U83: =[1]ввод!P56 -> 0 | V83: =[1]ввод!E56 -> 1 | W83: =[1]ввод!I56 -> 13 | X83: =[1]ввод!M56 -> 0
A84: 55 | B84: ленинский | C84: 5.12 | D84: =[1]ввод!C57 -> 14 | E84: =D84/C84 -> 2.734375 | F84: =[1]ввод!G57 -> 1804 | G84: =F84/C84 -> 352.34375 | H84: =[1]ввод!K57 -> 1 | I84: =H84/C84 -> 0.1953125 | J84: =[1]ввод!O57 -> 478 | K84: =J84/C84 -> 93.359375 | L84: =E84+G84+I84+K84 -> 448.63281 | M84: =[1]ввод!Q57 -> 6 | N84: =[1]ввод!R57 -> 1205 | O84: =[1]ввод!S57 -> 9 | P84: =[1]ввод!T57 -> 16 | Q84: =L84+M84/C84+N84/C84+O84/C84+P84/C84 -> 690.03906 | R84: =[1]ввод!D57 -> 0 | S84: =[1]ввод!H57 -> 0 | T84: =[1]ввод!L57 -> 0 | U84: =[1]ввод!P57 -> 0 | V84: =[1]ввод!E57 -> 6 | W84: =[1]ввод!I57 -> 36 | X84: =[1]ввод!M57 -> 0
A85: 56 | B85: ленинский | C85: 5.12 | D85: =[1]ввод!C58 -> 10 | E85: =D85/C85 -> 1.953125 | F85: =[1]ввод!G58 -> 1433 | G85: =F85/C85 -> 279.88281 | H85: =[1]ввод!K58 -> 2 | I85: =H85/C85 -> 0.390625 | J85: =[1]ввод!O58 -> 226 | K85: =J85/C85 -> 44.140625 | L85: =E85+G85+I85+K85 -> 326.36719 | M85: =[1]ввод!Q58 -> 6 | N85: =[1]ввод!R58 -> 1115 | O85: =[1]ввод!S58 -> 2 | P85: =[1]ввод!T58 -> 4 | Q85: =L85+M85/C85+N85/C85+O85/C85+P85/C85 -> 546.48438 | R85: =[1]ввод!D58 -> 0 | S85: =[1]ввод!H58 -> 0 | T85: =[1]ввод!L58 -> 0 | U85: =[1]ввод!P58 -> 0 | V85: =[1]ввод!E58 -> 5 | W85: =[1]ввод!I58 -> 12 | X85: =[1]ввод!M58 -> 0
A86: 57 | B86: ленинский | C86: 5.12 | D86: =[1]ввод!C59 -> 11 | E86: =D86/C86 -> 2.1484375 | F86: =[1]ввод!G59 -> 1629 | G86: =F86/C86 -> 318.16406 | H86: =[1]ввод!K59 -> 3 | I86: =H86/C86 -> 0.5859375 | J86: =[1]ввод!O59 -> 376 | K86: =J86/C86 -> 73.4375 | L86: =E86+G86+I86+K86 -> 394.33594 | M86: =[1]ввод!Q59 -> 7 | N86: =[1]ввод!R59 -> 1779 | O86: =[1]ввод!S59 -> 8 | P86: =[1]ввод!T59 -> 7 | Q86: =L86+M86/C86+N86/C86+O86/C86+P86/C86 -> 746.09375 | R86: =[1]ввод!D59 -> 0 | S86: =[1]ввод!H59 -> 0 | T86: =[1]ввод!L59 -> 0 | U86: =[1]ввод!P59 -> 0 | V86: =[1]ввод!E59 -> 2 | W86: =[1]ввод!I59 -> 22 | X86: =[1]ввод!M59 -> 0
A87: 58 | B87: ленинский | C87: 5.12 | D87: =[1]ввод!C60 -> 21 | E87: =D87/C87 -> 4.1015625 | F87: =[1]ввод!G60 -> 1944 | G87: =F87/C87 -> 379.6875 | H87: =[1]ввод!K60 -> 2 | I87: =H87/C87 -> 0.390625 | J87: =[1]ввод!O60 -> 418 | K87: =J87/C87 -> 81.640625 | L87: =E87+G87+I87+K87 -> 465.82031 | M87: =[1]ввод!Q60 -> 3 | N87: =[1]ввод!R60 -> 785 | O87: =[1]ввод!S60 -> 2 | P87: =[1]ввод!T60 -> 14 | Q87: =L87+M87/C87+N87/C87+O87/C87+P87/C87 -> 622.85156 | R87: =[1]ввод!D60 -> 0 | S87: =[1]ввод!H60 -> 0 | T87: =[1]ввод!L60 -> 0 | U87: =[1]ввод!P60 -> 0 | V87: =[1]ввод!E60 -> 4 | W87: =[1]ввод!I60 -> 28 | X87: =[1]ввод!M60 -> 0
A88: 70 | B88: ленинский | C88: 5.12 | D88: =[1]ввод!C72 -> 28 | E88: =D88/C88 -> 5.46875 | F88: =[1]ввод!G72 -> 1985 | G88: =F88/C88 -> 387.69531 | H88: =[1]ввод!K72 -> 2 | I88: =H88/C88 -> 0.390625 | J88: =[1]ввод!O72 -> 444 | K88: =J88/C88 -> 86.71875 | L88: =E88+G88+I88+K88 -> 480.27344 | M88: =[1]ввод!Q72 -> 13 | N88: =[1]ввод!R72 -> 5512 | O88: =[1]ввод!S72 -> 0 | P88: =[1]ввод!T72 -> 208 | Q88: =L88+M88/C88+N88/C88+O88/C88+P88/C88 -> 1600 | R88: =[1]ввод!D72 -> 0 | S88: =[1]ввод!H72 -> 0 | T88: =[1]ввод!L72 -> 0 | U88: =[1]ввод!P72 -> 0 | V88: =[1]ввод!E72 -> 4 | W88: =[1]ввод!I72 -> 16 | X88: =[1]ввод!M72 -> 0
A89: 79 | B89: ленинский | C89: 5.12 | D89: =[1]ввод!C81 -> 13 | E89: =D89/C89 -> 2.5390625 | F89: =[1]ввод!G81 -> 1338 | G89: =F89/C89 -> 261.32812 | H89: =[1]ввод!K81 -> 6 | I89: =H89/C89 -> 1.171875 | J89: =[1]ввод!O81 -> 434 | K89: =J89/C89 -> 84.765625 | L89: =E89+G89+I89+K89 -> 349.80469 | M89: =[1]ввод!Q81 -> 7 | N89: =[1]ввод!R81 -> 1252 | O89: =[1]ввод!S81 -> 2 | P89: =[1]ввод!T81 -> 23 | Q89: =L89+M89/C89+N89/C89+O89/C89+P89/C89 -> 600.58594 | R89: =[1]ввод!D81 -> 0 | S89: =[1]ввод!H81 -> 0 | T89: =[1]ввод!L81 -> 0 | U89: =[1]ввод!P81 -> 0 | V89: =[1]ввод!E81 -> 3 | W89: =[1]ввод!I81 -> 19 | X89: =[1]ввод!M81 -> 0
A90: 42 | B90: ленинский | C90: 5.12 | D90: =[1]ввод!C83 -> 16 | E90: =D90/C90 -> 3.125 | F90: =[1]ввод!G83 -> 2736 | G90: =F90/C90 -> 534.375 | H90: =[1]ввод!K83 -> 0 | I90: =H90/C90 -> 0 | J90: =[1]ввод!O83 -> 593 | K90: =J90/C90 -> 115.82031 | L90: =E90+G90+I90+K90 -> 653.32031 | M90: =[1]ввод!Q83 -> 5 | N90: =[1]ввод!R83 -> 839 | O90: =[1]ввод!S83 -> 2 | P90: =[1]ввод!T83 -> 1 | Q90: =L90+M90/C90+N90/C90+O90/C90+P90/C90 -> 818.75 | R90: =[1]ввод!D83 -> 0 | S90: =[1]ввод!H83 -> 0 | T90: =[1]ввод!L83 -> 0 | U90: =[1]ввод!P83 -> 0 | V90: =[1]ввод!E83 -> 2 | W90: =[1]ввод!I83 -> 31 | X90: =[1]ввод!M83 -> 0
A91: Итого по Ленинскому судебному району | C91: 5.12 | D91: =SUM(D81:D90) -> 144 | E91: =D91/C91/COUNT(C81:C90) -> 2.8125 | F91: =SUM(F81:F90) -> 18424 | G91: =F91/C91/COUNT(C81:C90) -> 359.84375 | H91: =SUM(H81:H90) -> 19 | I91: =H91/C91/COUNT(C81:C90) -> 0.37109375 | J91: =SUM(J81:J90) -> 4304 | K91: =J91/C91/COUNT(C81:C90) -> 84.0625 | L91: =E91+G91+I91+K91 -> 447.08984 | M91: =SUM(M81:M90) -> 54 | N91: =SUM(N81:N90) -> 16289 | O91: =SUM(O81:O90) -> 30 | P91: =SUM(P81:P90) -> 371 | Q91: =L91+M91/C91/COUNT(C81:C90)+N91/C91/COUNT(C81:C90)+O91/C91/COUNT(C81:C90)+P91/C91/COUNT(C81:C90) -> 774.12109 | R91: =SUM(R81:R90) -> 0 | S91: =SUM(S81:S90) -> 0 | T91: =SUM(T81:T90) -> 0 | U91: =SUM(U81:U90) -> 0 | V91: =SUM(V81:V90) -> 35 | W91: =SUM(W81:W90) -> 224 | X91: =SUM(X81:X90) -> 0
A92: 59 | B92: нововятский | C92: 5.12 | D92: =[1]ввод!C61 -> 11 | E92: =D92/C92 -> 2.1484375 | F92: =[1]ввод!G61 -> 1964 | G92: =F92/C92 -> 383.59375 | H92: =[1]ввод!K61 -> 1 | I92: =H92/C92 -> 0.1953125 | J92: =[1]ввод!O61 -> 607 | K92: =J92/C92 -> 118.55469 | L92: =E92+G92+I92+K92 -> 504.49219 | M92: =[1]ввод!Q61 -> 3 | N92: =[1]ввод!R61 -> 731 | O92: =[1]ввод!S61 -> 1 | P92: =[1]ввод!T61 -> 37 | Q92: =L92+M92/C92+N92/C92+O92/C92+P92/C92 -> 655.27344 | R92: =[1]ввод!D61 -> 0 | S92: =[1]ввод!H61 -> 0 | T92: =[1]ввод!L61 -> 0 | U92: =[1]ввод!P61 -> 0 | V92: =[1]ввод!E61 -> 3 | W92: =[1]ввод!I61 -> 15 | X92: =[1]ввод!M61 -> 0
A93: 60 | B93: нововятский | C93: 5.12 | D93: =[1]ввод!C62 -> 14 | E93: =D93/C93 -> 2.734375 | F93: =[1]ввод!G62 -> 1958 | G93: =F93/C93 -> 382.42188 | H93: =[1]ввод!K62 -> 1 | I93: =H93/C93 -> 0.1953125 | J93: =[1]ввод!O62 -> 422 | K93: =J93/C93 -> 82.421875 | L93: =E93+G93+I93+K93 -> 467.77344 | M93: =[1]ввод!Q62 -> 2 | N93: =[1]ввод!R62 -> 843 | O93: =[1]ввод!S62 -> 0 | P93: =[1]ввод!T62 -> 22 | Q93: =L93+M93/C93+N93/C93+O93/C93+P93/C93 -> 637.10938 | R93: =[1]ввод!D62 -> 0 | S93: =[1]ввод!H62 -> 0 | T93: =[1]ввод!L62 -> 0 | U93: =[1]ввод!P62 -> 0 | V93: =[1]ввод!E62 -> 11 | W93: =[1]ввод!I62 -> 14 | X93: =[1]ввод!M62 -> 0
A94: Итого по Нововятскому судебному району | C94: 5.12 | D94: =D92+D93 -> 25 | E94: =D94/C94/COUNT(C92:C93) -> 2.4414062 | F94: =F92+F93 -> 3922 | G94: =F94/C94/COUNT(C92:C93) -> 383.00781 | H94: =H92+H93 -> 2 | I94: =H94/C94/COUNT(C92:C93) -> 0.1953125 | J94: =J92+J93 -> 1029 | K94: =J94/C94/COUNT(C92:C93) -> 100.48828 | L94: =E94+G94+I94+K94 -> 486.13281 | M94: =M92+M93 -> 5 | N94: =N92+N93 -> 1574 | O94: =O92+O93 -> 1 | P94: =P92+P93 -> 59 | Q94: =L94+M94/C94/COUNT(C92:C93)+N94/C94/COUNT(C92:C93)+O94/C94/COUNT(C92:C93)+P94/C94/COUNT(C92:C93) -> 646.19141 | R94: =R92+R93 -> 0 | S94: =S92+S93 -> 0 | T94: =T92+T93 -> 0 | U94: =U92+U93 -> 0 | V94: =V92+V93 -> 14 | W94: =W92+W93 -> 29 | X94: =X92+X93 -> 0
A95: 61 | B95: октябрьский | C95: 5.12 | D95: =[1]ввод!C63 -> 5 | E95: =D95/C95 -> 0.9765625 | F95: =[1]ввод!G63 -> 1249 | G95: =F95/C95 -> 243.94531 | H95: =[1]ввод!K63 -> 0 | I95: =H95/C95 -> 0 | J95: =[1]ввод!O63 -> 209 | K95: =J95/C95 -> 40.820312 | L95: =E95+G95+I95+K95 -> 285.74219 | M95: =[1]ввод!Q63 -> 1 | N95: =[1]ввод!R63 -> 782 | O95: =[1]ввод!S63 -> 2 | P95: =[1]ввод!T63 -> 32 | Q95: =L95+M95/C95+N95/C95+O95/C95+P95/C95 -> 445.3125 | R95: =[1]ввод!D63 -> 0 | S95: =[1]ввод!H63 -> 0 | T95: =[1]ввод!L63 -> 0 | U95: =[1]ввод!P63 -> 0 | V95: =[1]ввод!E63 -> 7 | W95: =[1]ввод!I63 -> 10 | X95: =[1]ввод!M63 -> 0
A96: 62 | B96: октябрьский | C96: 5.12 | D96: =[1]ввод!C64 -> 18 | E96: =D96/C96 -> 3.515625 | F96: =[1]ввод!G64 -> 1114 | G96: =F96/C96 -> 217.57812 | H96: =[1]ввод!K64 -> 0 | I96: =H96/C96 -> 0 | J96: =[1]ввод!O64 -> 186 | K96: =J96/C96 -> 36.328125 | L96: =E96+G96+I96+K96 -> 257.42188 | M96: =[1]ввод!Q64 -> 2 | N96: =[1]ввод!R64 -> 1212 | O96: =[1]ввод!S64 -> 0 | P96: =[1]ввод!T64 -> 41 | Q96: =L96+M96/C96+N96/C96+O96/C96+P96/C96 -> 502.53906 | R96: =[1]ввод!D64 -> 0 | S96: =[1]ввод!H64 -> 0 | T96: =[1]ввод!L64 -> 0 | U96: =[1]ввод!P64 -> 0 | V96: =[1]ввод!E64 -> 3 | W96: =[1]ввод!I64 -> 0 | X96: =[1]ввод!M64 -> 0
A97: 63 | B97: октябрьский | C97: 5.12 | D97: =[1]ввод!C65 -> 12 | E97: =D97/C97 -> 2.34375 | F97: =[1]ввод!G65 -> 1850 | G97: =F97/C97 -> 361.32812 | H97: =[1]ввод!K65 -> 2 | I97: =H97/C97 -> 0.390625 | J97: =[1]ввод!O65 -> 294 | K97: =J97/C97 -> 57.421875 | L97: =E97+G97+I97+K97 -> 421.48438 | M97: =[1]ввод!Q65 -> 5 | N97: =[1]ввод!R65 -> 1015 | O97: =[1]ввод!S65 -> 5 | P97: =[1]ввод!T65 -> 38 | Q97: =L97+M97/C97+N97/C97+O97/C97+P97/C97 -> 629.10156 | R97: =[1]ввод!D65 -> 0 | S97: =[1]ввод!H65 -> 0 | T97: =[1]ввод!L65 -> 0 | U97: =[1]ввод!P65 -> 0 | V97: =[1]ввод!E65 -> 5 | W97: =[1]ввод!I65 -> 22 | X97: =[1]ввод!M65 -> 0
A98: 64 | B98: октябрьский | C98: 5.12 | D98: =[1]ввод!C66 -> 13 | E98: =D98/C98 -> 2.5390625 | F98: =[1]ввод!G66 -> 2207 | G98: =F98/C98 -> 431.05469 | H98: =[1]ввод!K66 -> 2 | I98: =H98/C98 -> 0.390625 | J98: =[1]ввод!O66 -> 356 | K98: =J98/C98 -> 69.53125 | L98: =E98+G98+I98+K98 -> 503.51562 | M98: =[1]ввод!Q66 -> 5 | N98: =[1]ввод!R66 -> 1147 | O98: =[1]ввод!S66 -> 2 | P98: =[1]ввод!T66 -> 38 | Q98: =L98+M98/C98+N98/C98+O98/C98+P98/C98 -> 736.32812 | R98: =[1]ввод!D66 -> 0 | S98: =[1]ввод!H66 -> 0 | T98: =[1]ввод!L66 -> 0 | U98: =[1]ввод!P66 -> 0 | V98: =[1]ввод!E66 -> 7 | W98: =[1]ввод!I66 -> 18 | X98: =[1]ввод!M66 -> 0
A99: 65 | B99: октябрьский | C99: 5.12 | D99: =[1]ввод!C67 -> 20 | E99: =D99/C99 -> 3.90625 | F99: =[1]ввод!G67 -> 1910 | G99: =F99/C99 -> 373.04688 | H99: =[1]ввод!K67 -> 0 | I99: =H99/C99 -> 0 | J99: =[1]ввод!O67 -> 478 | K99: =J99/C99 -> 93.359375 | L99: =E99+G99+I99+K99 -> 470.3125 | M99: =[1]ввод!Q67 -> 3 | N99: =[1]ввод!R67 -> 1272 | O99: =[1]ввод!S67 -> 2 | P99: =[1]ввод!T67 -> 44 | Q99: =L99+M99/C99+N99/C99+O99/C99+P99/C99 -> 728.32031 | R99: =[1]ввод!D67 -> 0 | S99: =[1]ввод!H67 -> 0 | T99: =[1]ввод!L67 -> 0 | U99: =[1]ввод!P67 -> 0 | V99: =[1]ввод!E67 -> 7 | W99: =[1]ввод!I67 -> 12 | X99: =[1]ввод!M67 -> 0
A100: 66 | B100: октябрьский | C100: 5.12 | D100: =[1]ввод!C68 -> 11 | E100: =D100/C100 -> 2.1484375 | F100: =[1]ввод!G68 -> 1606 | G100: =F100/C100 -> 313.67188 | H100: =[1]ввод!K68 -> 0 | I100: =H100/C100 -> 0 | J100: =[1]ввод!O68 -> 370 | K100: =J100/C100 -> 72.265625 | L100: =E100+G100+I100+K100 -> 388.08594 | M100: =[1]ввод!Q68 -> 5 | N100: =[1]ввод!R68 -> 1041 | O100: =[1]ввод!S68 -> 0 | P100: =[1]ввод!T68 -> 29 | Q100: =L100+M100/C100+N100/C100+O100/C100+P100/C100 -> 598.04688 | R100: =[1]ввод!D68 -> 0 | S100: =[1]ввод!H68 -> 0 | T100: =[1]ввод!L68 -> 0 | U100: =[1]ввод!P68 -> 0 | V100: =[1]ввод!E68 -> 2 | W100: =[1]ввод!I68 -> 18 | X100: =[1]ввод!M68 -> 0
A101: 80 | B101: октябрьский | C101: 5.12 | D101: =[1]ввод!C82 -> 12 | E101: =D101/C101 -> 2.34375 | F101: =[1]ввод!G82 -> 1663 | G101: =F101/C101 -> 324.80469 | H101: =[1]ввод!K82 -> 1 | I101: =H101/C101 -> 0.1953125 | J101: =[1]ввод!O82 -> 399 | K101: =J101/C101 -> 77.929688 | L101: =E101+G101+I101+K101 -> 405.27344 | M101: =[1]ввод!Q82 -> 1 | N101: =[1]ввод!R82 -> 1157 | O101: =[1]ввод!S82 -> 1 | P101: =[1]ввод!T82 -> 34 | Q101: =L101+M101/C101+N101/C101+O101/C101+P101/C101 -> 638.28125 | R101: =[1]ввод!D82 -> 0 | S101: =[1]ввод!H82 -> 0 | T101: =[1]ввод!L82 -> 0 | U101: =[1]ввод!P82 -> 0 | V101: =[1]ввод!E82 -> 7 | W101: =[1]ввод!I82 -> 14 | X101: =[1]ввод!M82 -> 0
A102: 78 | B102: октябрьский | C102: 5.12 | D102: =[1]ввод!C85 -> 10 | E102: =D102/C102 -> 1.953125 | F102: =[1]ввод!G85 -> 1693 | G102: =F102/C102 -> 330.66406 | H102: =[1]ввод!K85 -> 0 | I102: =H102/C102 -> 0 | J102: =[1]ввод!O85 -> 187 | K102: =J102/C102 -> 36.523438 | L102: =E102+G102+I102+K102 -> 369.14062 | M102: =[1]ввод!Q85 -> 1 | N102: =[1]ввод!R85 -> 287 | O102: =[1]ввод!S85 -> 0 | P102: =[1]ввод!T85 -> 0 | Q102: =L102+M102/C102+N102/C102+O102/C102+P102/C102 -> 425.39062 | R102: =[1]ввод!D85 -> 0 | S102: =[1]ввод!H85 -> 0 | T102: =[1]ввод!L85 -> 0 | U102: =[1]ввод!P85 -> 0 | V102: =[1]ввод!E85 -> 8 | W102: =[1]ввод!I85 -> 21 | X102: =[1]ввод!M85 -> 0
A103: Итого по Октябрьскому судебному району | C103: 5.12 | D103: =SUM(D95:D102) -> 101 | E103: =D103/C103/(COUNT(C95:C102)) -> 2.4658203 | F103: =SUM(F95:F102) -> 13292 | G103: =F103/C103/COUNT(C95:C102) -> 324.51172 | H103: =SUM(H95:H102) -> 5 | I103: =H103/C103/COUNT(C95:C102) -> 0.12207031 | J103: =SUM(J95:J102) -> 2479 | K103: =J103/C103/(COUNT(G95:G102)) -> 60.522461 | L103: =E103+G103+I103+K103 -> 387.62207 | M103: =SUM(M95:M102) -> 23 | N103: =SUM(N95:N102) -> 7913 | O103: =SUM(O95:O102) -> 12 | P103: =SUM(P95:P102) -> 256 | Q103: =L103+M103/C103/COUNT(C95:C102)+N103/C103/COUNT(C95:C102)+O103/C103/COUNT(C95:C102)+P103/C103/COUNT(C95:C102) -> 587.91504 | R103: =SUM(R95:R102) -> 0 | S103: =SUM(S95:S102) -> 0 | T103: =SUM(T95:T102) -> 0 | U103: =SUM(U95:U102) -> 0 | V103: =SUM(V95:V102) -> 46 | W103: =SUM(W95:W102) -> 115 | X103: =SUM(X95:X102) -> 0
...

Sheet окон без судприказов
A1: Сведения по судебным участкам Кировской области
A2: о нагрузке по оконченным уголовным делам, гражданским (административным) делам (без судебных приказов), делам об административных правонарушениях и материалам за 6 месяцев 2026 г.
A3: № участ-ка | B3: Муниципальный район (округ)Кировской области/район г.Кирова | C3: коэф-фици-ент нагруз-ки | D3: окончено | V3: Остаток дел
D5: уголовные | F5: гражданские | H5: административные | J5: админ.правонарушения | L5: средне-месячная нагрузка по 1 инстанции | M5: материалы | Q5: общая среднемесячная нагрузка | R5: с нарушением срока,устан.ст. | V5: уголовных | W5: гражданских | X5: административных
D6: окончено | E6: на 1 судью в месяц | F6: окончено | G6: на 1 судью в месяц | H6: окончено | I6: на 1 судью в месяц | J6: окончено | K6: на 1 судью в месяц | M6: уголовные | N6: гражданские | O6: административные | P6: об административных правонарушениях
R7: 227, 233, 321 УПК | S7: ГПК | T7: КАС | U7: 29,6 КоАП и др актами
A10: 1 | B10: 2 | D10: 3 | E10: 4 | F10: 5 | G10: 6 | H10: 7 | I10: 8 | J10: 9 | K10: 10 | L10: 11 | M10: 12 | N10: 13 | O10: 14 | P10: 15 | Q10: 16 | R10: 17 | S10: 18 | T10: 19 | U10: 20 | V10: 21 | W10: 22 | X10: 23
A11: 5 | B11: верхнекамский | C11: 5.12 | D11: =[2]ввод!C7 -> 7 | E11: =D11/C11 -> 1.3671875 | F11: =[2]ввод!G7 -> 60 | G11: =F11/C11 -> 11.71875 | H11: =[2]ввод!K7 -> 0 | I11: =H11/C11 -> 0 | J11: =[2]ввод!O7 -> 246 | K11: =J11/C11 -> 48.046875 | L11: =E11+G11+I11+K11 -> 61.132812 | M11: =[2]ввод!Q7 -> 8 | N11: =[2]ввод!R7 -> 326 | O11: =[2]ввод!S7 -> 1 | P11: =[2]ввод!T7 -> 20 | Q11: =L11+M11/C11+N11/C11+O11/C11+P11/C11 -> 130.46875 | R11: =[2]ввод!D7 -> 0 | S11: =[2]ввод!H7 -> 0 | T11: =[2]ввод!L7 -> 0 | U11: =[2]ввод!P7 -> 0 | V11: =[2]ввод!E7 -> 3 | W11: =[2]ввод!I7 -> 15 | X11: =[2]ввод!M7 -> 0
A12: 6 | B12: верхнекамский | C12: 5.12 | D12: =[2]ввод!C8 -> 3 | E12: =D12/C12 -> 0.5859375 | F12: =[2]ввод!G8 -> 48 | G12: =F12/C12 -> 9.375 | H12: =[2]ввод!K8 -> 0 | I12: =H12/C12 -> 0 | J12: =[2]ввод!O8 -> 98 | K12: =J12/C12 -> 19.140625 | L12: =E12+G12+I12+K12 -> 29.101562 | M12: =[2]ввод!Q8 -> 3 | N12: =[2]ввод!R8 -> 615 | O12: =[2]ввод!S8 -> 0 | P12: =[2]ввод!T8 -> 7 | Q12: =L12+M12/C12+N12/C12+O12/C12+P12/C12 -> 151.17188 | R12: =[2]ввод!D8 -> 0 | S12: =[2]ввод!H8 -> 0 | T12: =[2]ввод!L8 -> 0 | U12: =[2]ввод!P8 -> 0 | V12: =[2]ввод!E8 -> 1 | W12: =[2]ввод!I8 -> 10 | X12: =[2]ввод!M8 -> 0
A13: Итого по Верхнекамскому судебному району | C13: 5.12 | D13: =D11+D12 -> 10 | E13: =D13/C13/COUNT(C11:C12) -> 0.9765625 | F13: =F11+F12 -> 108 | G13: =F13/C13/COUNT(C11:C12) -> 10.546875 | H13: =H11+H12 -> 0 | I13: =H13/C13/COUNT(C11:C12) -> 0 | J13: =J11+J12 -> 344 | K13: =J13/C13/COUNT(C11:C12) -> 33.59375 | L13: =E13+G13+I13+K13 -> 45.117188 | M13: =M11+M12 -> 11 | N13: =N11+N12 -> 941 | O13: =O11+O12 -> 1 | P13: =P11+P12 -> 27 | Q13: =L13+M13/C13/COUNT(C11:C12)+N13/C13/COUNT(C11:C12)+O13/C13/COUNT(C11:C12)+P13/C13/COUNT(C11:C12) -> 140.82031 | R13: =R11+R12 -> 0 | S13: =S11+S12 -> 0 | T13: =T11+T12 -> 0 | U13: =U11+U12 -> 0 | V13: =V11+V12 -> 4 | W13: =W11+W12 -> 25 | X13: =X11+X12 -> 0
A14: 8 | B14: вятскополянский | C14: 5.12 | D14: =[2]ввод!C10 -> 11 | E14: =D14/C14 -> 2.1484375 | F14: =[2]ввод!G10 -> 53 | G14: =F14/C14 -> 10.351562 | H14: =[2]ввод!K10 -> 0 | I14: =H14/C14 -> 0 | J14: =[2]ввод!O10 -> 303 | K14: =J14/C14 -> 59.179688 | L14: =E14+G14+I14+K14 -> 71.679688 | M14: =[2]ввод!Q10 -> 4 | N14: =[2]ввод!R10 -> 496 | O14: =[2]ввод!S10 -> 0 | P14: =[2]ввод!T10 -> 41 | Q14: =L14+M14/C14+N14/C14+O14/C14+P14/C14 -> 177.34375 | R14: =[2]ввод!D10 -> 0 | S14: =[2]ввод!H10 -> 0 | T14: =[2]ввод!L10 -> 0 | U14: =[2]ввод!P10 -> 0 | V14: =[2]ввод!E10 -> 4 | W14: =[2]ввод!I10 -> 13 | X14: =[2]ввод!M10 -> 0
A15: 10 | B15: вятскополянский | C15: 5.12 | D15: =[2]ввод!C12 -> 10 | E15: =D15/C15 -> 1.953125 | F15: =[2]ввод!G12 -> 67 | G15: =F15/C15 -> 13.085938 | H15: =[2]ввод!K12 -> 0 | I15: =H15/C15 -> 0 | J15: =[2]ввод!O12 -> 221 | K15: =J15/C15 -> 43.164062 | L15: =E15+G15+I15+K15 -> 58.203125 | M15: =[2]ввод!Q12 -> 1 | N15: =[2]ввод!R12 -> 730 | O15: =[2]ввод!S12 -> 2 | P15: =[2]ввод!T12 -> 22 | Q15: =L15+M15/C15+N15/C15+O15/C15+P15/C15 -> 205.66406 | R15: =[2]ввод!D12 -> 0 | S15: =[2]ввод!H12 -> 0 | T15: =[2]ввод!L12 -> 0 | U15: =[2]ввод!P12 -> 0 | V15: =[2]ввод!E12 -> 5 | W15: =[2]ввод!I12 -> 18 | X15: =[2]ввод!M12 -> 0
A16: 73 | B16: вятскополянский | C16: 5.12 | D16: =[2]ввод!C75 -> 12 | E16: =D16/C16 -> 2.34375 | F16: =[2]ввод!G75 -> 60 | G16: =F16/C16 -> 11.71875 | H16: =[2]ввод!K75 -> 0 | I16: =H16/C16 -> 0 | J16: =[2]ввод!O75 -> 227 | K16: =J16/C16 -> 44.335938 | L16: =E16+G16+I16+K16 -> 58.398438 | M16: =[2]ввод!Q75 -> 2 | N16: =[2]ввод!R75 -> 415 | O16: =[2]ввод!S75 -> 2 | P16: =[2]ввод!T75 -> 10 | Q16: =L16+M16/C16+N16/C16+O16/C16+P16/C16 -> 142.1875 | R16: =[2]ввод!D75 -> 0 | S16: =[2]ввод!H75 -> 0 | T16: =[2]ввод!L75 -> 0 | U16: =[2]ввод!P75 -> 0 | V16: =[2]ввод!E75 -> 3 | W16: =[2]ввод!I75 -> 10 | X16: =[2]ввод!M75 -> 0
A17: Итого по Вятскополянскому судебному району | C17: 5.12 | D17: =SUM(D14:D16) -> 33 | E17: =D17/C17/COUNT(C14:C16) -> 2.1484375 | F17: =SUM(F14:F16) -> 180 | G17: =F17/C17/COUNT(C14:C16) -> 11.71875 | H17: =SUM(H14:H16) -> 0 | I17: =H17/C17/COUNT(C14:C16) -> 0 | J17: =SUM(J14:J16) -> 751 | K17: =J17/C17/COUNT(C14:C16) -> 48.893229 | L17: =E17+G17+I17+K17 -> 62.760417 | M17: =SUM(M14:M16) -> 7 | N17: =SUM(N14:N16) -> 1641 | O17: =SUM(O14:O16) -> 4 | P17: =SUM(P14:P16) -> 73 | Q17: =L17+M17/C17/COUNT(C14:C16)+N17/C17/COUNT(C14:C16)+O17/C17/COUNT(C14:C16)+P17/C17/COUNT(C14:C16) -> 175.0651 | R17: =SUM(R14:R16) -> 0 | S17: =SUM(S14:S16) -> 0 | T17: =SUM(T14:T16) -> 0 | U17: =SUM(U14:U16) -> 0 | V17: =SUM(V14:V16) -> 12 | W17: =SUM(W14:W16) -> 41 | X17: =SUM(X14:X16) -> 0
A18: 12 | B18: зуевский | C18: 5.12 | D18: =[2]ввод!C14 -> 14 | E18: =D18/C18 -> 2.734375 | F18: =[2]ввод!G14 -> 110 | G18: =F18/C18 -> 21.484375 | H18: =[2]ввод!K14 -> 0 | I18: =H18/C18 -> 0 | J18: =[2]ввод!O14 -> 431 | K18: =J18/C18 -> 84.179688 | L18: =E18+G18+I18+K18 -> 108.39844 | M18: =[2]ввод!Q14 -> 7 | N18: =[2]ввод!R14 -> 284 | O18: =[2]ввод!S14 -> 0 | P18: =[2]ввод!T14 -> 92 | Q18: =L18+M18/C18+N18/C18+O18/C18+P18/C18 -> 183.20312 | R18: =[2]ввод!D14 -> 0 | S18: =[2]ввод!H14 -> 0 | T18: =[2]ввод!L14 -> 0 | U18: =[2]ввод!P14 -> 0 | V18: =[2]ввод!E14 -> 4 | W18: =[2]ввод!I14 -> 18 | X18: =[2]ввод!M14 -> 0
A19: 47 | B19: фаленский | C19: 5.12 | D19: =[2]ввод!C49 -> 13 | E19: =D19/C19 -> 2.5390625 | F19: =[2]ввод!G49 -> 31 | G19: =F19/C19 -> 6.0546875 | H19: =[2]ввод!K49 -> 0 | I19: =H19/C19 -> 0 | J19: =[2]ввод!O49 -> 159 | K19: =J19/C19 -> 31.054688 | L19: =E19+G19+I19+K19 -> 39.648438 | M19: =[2]ввод!Q49 -> 0 | N19: =[2]ввод!R49 -> 199 | O19: =[2]ввод!S49 -> 0 | P19: =[2]ввод!T49 -> 39 | Q19: =L19+M19/C19+N19/C19+O19/C19+P19/C19 -> 86.132812 | R19: =[2]ввод!D49 -> 0 | S19: =[2]ввод!H49 -> 0 | T19: =[2]ввод!L49 -> 0 | U19: =[2]ввод!P49 -> 0 | V19: =[2]ввод!E49 -> 1 | W19: =[2]ввод!I49 -> 1 | X19: =[2]ввод!M49 -> 0
A20: Итого по Зуевскому судебному району | C20: 5.12 | D20: =D18+D19 -> 27 | E20: =D20/C20/COUNT(C18:C19) -> 2.6367188 | F20: =F18+F19 -> 141 | G20: =F20/C20/COUNT(C18:C19) -> 13.769531 | H20: =H18+H19 -> 0 | I20: =H20/C20/COUNT(C18:C19) -> 0 | J20: =J18+J19 -> 590 | K20: =J20/C20/COUNT(C18:C19) -> 57.617188 | L20: =E20+G20+I20+K20 -> 74.023438 | M20: =M18+M19 -> 7 | N20: =N18+N19 -> 483 | O20: =O18+O19 -> 0 | P20: =P18+P19 -> 131 | Q20: =L20+M20/C20/COUNT(C18:C19)+N20/C20/COUNT(C18:C19)+O20/C20/COUNT(C18:C19)+P20/C20/COUNT(C18:C19) -> 134.66797 | R20: =R18+R19 -> 0 | S20: =S18+S19 -> 0 | T20: =T18+T19 -> 0 | U20: =U18+U19 -> 0 | V20: =V18+V19 -> 5 | W20: =W18+W19 -> 19 | X20: =X18+X19 -> 0
A21: 15 | B21: кирово-чепецкий | C21: 5.12 | D21: =[2]ввод!C17 -> 4 | E21: =D21/C21 -> 0.78125 | F21: =[2]ввод!G17 -> 73 | G21: =F21/C21 -> 14.257812 | H21: =[2]ввод!K17 -> 0 | I21: =H21/C21 -> 0 | J21: =[2]ввод!O17 -> 319 | K21: =J21/C21 -> 62.304688 | L21: =E21+G21+I21+K21 -> 77.34375 | M21: =[2]ввод!Q17 -> 8 | N21: =[2]ввод!R17 -> 406 | O21: =[2]ввод!S17 -> 0 | P21: =[2]ввод!T17 -> 30 | Q21: =L21+M21/C21+N21/C21+O21/C21+P21/C21 -> 164.0625 | R21: =[2]ввод!D17 -> 0 | S21: =[2]ввод!H17 -> 0 | T21: =[2]ввод!L17 -> 0 | U21: =[2]ввод!P17 -> 0 | V21: =[2]ввод!E17 -> 3 | W21: =[2]ввод!I17 -> 9 | X21: =[2]ввод!M17 -> 0
A22: 16 | B22: кирово-чепецкий | C22: 5.12 | D22: =[2]ввод!C18 -> 12 | E22: =D22/C22 -> 2.34375 | F22: =[2]ввод!G18 -> 86 | G22: =F22/C22 -> 16.796875 | H22: =[2]ввод!K18 -> 0 | I22: =H22/C22 -> 0 | J22: =[2]ввод!O18 -> 251 | K22: =J22/C22 -> 49.023438 | L22: =E22+G22+I22+K22 -> 68.164062 | M22: =[2]ввод!Q18 -> 3 | N22: =[2]ввод!R18 -> 181 | O22: =[2]ввод!S18 -> 0 | P22: =[2]ввод!T18 -> 13 | Q22: =L22+M22/C22+N22/C22+O22/C22+P22/C22 -> 106.64062 | R22: =[2]ввод!D18 -> 0 | S22: =[2]ввод!H18 -> 0 | T22: =[2]ввод!L18 -> 0 | U22: =[2]ввод!P18 -> 0 | V22: =[2]ввод!E18 -> 1 | W22: =[2]ввод!I18 -> 14 | X22: =[2]ввод!M18 -> 0
A23: 17 | B23: кирово-чепецкий | C23: 5.12 | D23: =[2]ввод!C19 -> 2 | E23: =D23/C23 -> 0.390625 | F23: =[2]ввод!G19 -> 132 | G23: =F23/C23 -> 25.78125 | H23: =[2]ввод!K19 -> 0 | I23: =H23/C23 -> 0 | J23: =[2]ввод!O19 -> 237 | K23: =J23/C23 -> 46.289062 | L23: =E23+G23+I23+K23 -> 72.460938 | M23: =[2]ввод!Q19 -> 5 | N23: =[2]ввод!R19 -> 496 | O23: =[2]ввод!S19 -> 0 | P23: =[2]ввод!T19 -> 9 | Q23: =L23+M23/C23+N23/C23+O23/C23+P23/C23 -> 172.07031 | R23: =[2]ввод!D19 -> 0 | S23: =[2]ввод!H19 -> 0 | T23: =[2]ввод!L19 -> 0 | U23: =[2]ввод!P19 -> 0 | V23: =[2]ввод!E19 -> 2 | W23: =[2]ввод!I19 -> 24 | X23: =[2]ввод!M19 -> 0
A24: 18 | B24: кирово-чепецкий | C24: 5.12 | D24: =[2]ввод!C20 -> 5 | E24: =D24/C24 -> 0.9765625 | F24: =[2]ввод!G20 -> 100 | G24: =F24/C24 -> 19.53125 | H24: =[2]ввод!K20 -> 0 | I24: =H24/C24 -> 0 | J24: =[2]ввод!O20 -> 475 | K24: =J24/C24 -> 92.773438 | L24: =E24+G24+I24+K24 -> 113.28125 | M24: =[2]ввод!Q20 -> 5 | N24: =[2]ввод!R20 -> 418 | O24: =[2]ввод!S20 -> 0 | P24: =[2]ввод!T20 -> 18 | Q24: =L24+M24/C24+N24/C24+O24/C24+P24/C24 -> 199.41406 | R24: =[2]ввод!D20 -> 0 | S24: =[2]ввод!H20 -> 0 | T24: =[2]ввод!L20 -> 0 | U24: =[2]ввод!P20 -> 0 | V24: =[2]ввод!E20 -> 3 | W24: =[2]ввод!I20 -> 35 | X24: =[2]ввод!M20 -> 0
A25: 74 | B25: кирово-чепецкий | C25: 5.12 | D25: =[2]ввод!C76 -> 15 | E25: =D25/C25 -> 2.9296875 | F25: =[2]ввод!G76 -> 102 | G25: =F25/C25 -> 19.921875 | H25: =[2]ввод!K76 -> 0 | I25: =H25/C25 -> 0 | J25: =[2]ввод!O76 -> 276 | K25: =J25/C25 -> 53.90625 | L25: =E25+G25+I25+K25 -> 76.757812 | M25: =[2]ввод!Q76 -> 14 | N25: =[2]ввод!R76 -> 456 | O25: =[2]ввод!S76 -> 1 | P25: =[2]ввод!T76 -> 28 | Q25: =L25+M25/C25+N25/C25+O25/C25+P25/C25 -> 174.21875 | R25: =[2]ввод!D76 -> 0 | S25: =[2]ввод!H76 -> 0 | T25: =[2]ввод!L76 -> 0 | U25: =[2]ввод!P76 -> 0 | V25: =[2]ввод!E76 -> 4 | W25: =[2]ввод!I76 -> 13 | X25: =[2]ввод!M76 -> 0
A26: Итого по Кирово-Чепецкому судебный району | C26: 5.12 | D26: =D23+D24+D22+D21+D25 -> 38 | E26: =D26/C26/COUNT(C21:C25) -> 1.484375 | F26: =F21+F22+F23+F24+F25 -> 493 | G26: =F26/C26/COUNT(C21:C25) -> 19.257812 | H26: =H21+H22+H23+H24+H25 -> 0 | I26: =H26/C26/COUNT(C21:C25) -> 0 | J26: =J23+J24+J22+J21+J25 -> 1558 | K26: =J26/C26/COUNT(C21:C25) -> 60.859375 | L26: =E26+G26+I26+K26 -> 81.601562 | M26: =M23+M24+M22+M21+M25 -> 35 | N26: =N23+N24+N22+N21+N25 -> 1957 | O26: =O23+O24+O22+O21+O25 -> 1 | P26: =P23+P24+P22+P21+P25 -> 98 | Q26: =L26+M26/C26/COUNT(C21:C25)+N26/C26/COUNT(C21:C25)+O26/C26/COUNT(C21:C25)+P26/C26/COUNT(C21:C25) -> 163.28125 | R26: =R21+R22+R23+R24+R25 -> 0 | S26: =S21+S22+S23+S24+S25 -> 0 | T26: =T21+T22+T23+T24+T25 -> 0 | U26: =U21+U22+U23+U24+U25 -> 0 | V26: =V21+V22+V23+V24+V25 -> 13 | W26: =W23+W24+W22+W21+W25 -> 95 | X26: =X21+X22+X23+X24+X25 -> 0
A27: 19 | B27: котельничский | C27: 5.12 | D27: =[2]ввод!C21 -> 3 | E27: =D27/C27 -> 0.5859375 | F27: =[2]ввод!G21 -> 41 | G27: =F27/C27 -> 8.0078125 | H27: =[2]ввод!K21 -> 0 | I27: =H27/C27 -> 0 | J27: =[2]ввод!O21 -> 141 | K27: =J27/C27 -> 27.539062 | L27: =E27+G27+I27+K27 -> 36.132812 | M27: =[2]ввод!Q21 -> 2 | N27: =[2]ввод!R21 -> 814 | O27: =[2]ввод!S21 -> 1 | P27: =[2]ввод!T21 -> 76 | Q27: =L27+M27/C27+N27/C27+O27/C27+P27/C27 -> 210.54688 | R27: =[2]ввод!D21 -> 0 | S27: =[2]ввод!H21 -> 0 | T27: =[2]ввод!L21 -> 0 | U27: =[2]ввод!P21 -> 0 | V27: =[2]ввод!E21 -> 3 | W27: =[2]ввод!I21 -> 5 | X27: =[2]ввод!M21 -> 0
A28: 20 | B28: котельничский | C28: 5.12 | D28: =[2]ввод!C22 -> 11 | E28: =D28/C28 -> 2.1484375 | F28: =[2]ввод!G22 -> 45 | G28: =F28/C28 -> 8.7890625 | H28: =[2]ввод!K22 -> 0 | I28: =H28/C28 -> 0 | J28: =[2]ввод!O22 -> 149 | K28: =J28/C28 -> 29.101562 | L28: =E28+G28+I28+K28 -> 40.039062 | M28: =[2]ввод!Q22 -> 1 | N28: =[2]ввод!R22 -> 1028 | O28: =[2]ввод!S22 -> 0 | P28: =[2]ввод!T22 -> 27 | Q28: =L28+M28/C28+N28/C28+O28/C28+P28/C28 -> 246.28906 | R28: =[2]ввод!D22 -> 0 | S28: =[2]ввод!H22 -> 0 | T28: =[2]ввод!L22 -> 0 | U28: =[2]ввод!P22 -> 0 | V28: =[2]ввод!E22 -> 2 | W28: =[2]ввод!I22 -> 9 | X28: =[2]ввод!M22 -> 0
A29: 75 | B29: котельничский | C29: 5.12 | D29: =[2]ввод!C77 -> 8 | E29: =D29/C29 -> 1.5625 | F29: =[2]ввод!G77 -> 57 | G29: =F29/C29 -> 11.132812 | H29: =[2]ввод!K77 -> 0 | I29: =H29/C29 -> 0 | J29: =[2]ввод!O77 -> 168 | K29: =J29/C29 -> 32.8125 | L29: =E29+G29+I29+K29 -> 45.507812 | M29: =[2]ввод!Q77 -> 6 | N29: =[2]ввод!R77 -> 616 | O29: =[2]ввод!S77 -> 1 | P29: =[2]ввод!T77 -> 31 | Q29: =L29+M29/C29+N29/C29+O29/C29+P29/C29 -> 173.24219 | R29: =[2]ввод!D77 -> 0 | S29: =[2]ввод!H77 -> 0 | T29: =[2]ввод!L77 -> 0 | U29: =[2]ввод!P77 -> 0 | V29: =[2]ввод!E77 -> 3 | W29: =[2]ввод!I77 -> 10 | X29: =[2]ввод!M77 -> 0
A30: 11 | B30: даровской | C30: 5.12 | D30: =[2]ввод!C13 -> 4 | E30: =D30/C30 -> 0.78125 | F30: =[2]ввод!G13 -> 40 | G30: =F30/C30 -> 7.8125 | H30: =[2]ввод!K13 -> 0 | I30: =H30/C30 -> 0 | J30: =[2]ввод!O13 -> 133 | K30: =J30/C30 -> 25.976562 | L30: =E30+G30+I30+K30 -> 34.570312 | M30: =[2]ввод!Q13 -> 3 | N30: =[2]ввод!R13 -> 265 | O30: =[2]ввод!S13 -> 2 | P30: =[2]ввод!T13 -> 5 | Q30: =L30+M30/C30+N30/C30+O30/C30+P30/C30 -> 88.28125 | R30: =[2]ввод!D13 -> 0 | S30: =[2]ввод!H13 -> 0 | T30: =[2]ввод!L13 -> 0 | U30: =[2]ввод!P13 -> 0 | V30: =[2]ввод!E13 -> 1 | W30: =[2]ввод!I13 -> 4 | X30: =[2]ввод!M13 -> 0
A31: 32 | B31: орловский | C31: 5.12 | D31: =[2]ввод!C34 -> 9 | E31: =D31/C31 -> 1.7578125 | F31: =[2]ввод!G34 -> 34 | G31: =F31/C31 -> 6.640625 | H31: =[2]ввод!K34 -> 0 | I31: =H31/C31 -> 0 | J31: =[2]ввод!O34 -> 160 | K31: =J31/C31 -> 31.25 | L31: =E31+G31+I31+K31 -> 39.648438 | M31: =[2]ввод!Q34 -> 1 | N31: =[2]ввод!R34 -> 442 | O31: =[2]ввод!S34 -> 0 | P31: =[2]ввод!T34 -> 79 | Q31: =L31+M31/C31+N31/C31+O31/C31+P31/C31 -> 141.60156 | R31: =[2]ввод!D34 -> 0 | S31: =[2]ввод!H34 -> 0 | T31: =[2]ввод!L34 -> 0 | U31: =[2]ввод!P34 -> 0 | V31: =[2]ввод!E34 -> 0 | W31: =[2]ввод!I34 -> 7 | X31: =[2]ввод!M34 -> 0
A32: Итого по Котельничскому судебному району | C32: 5.12 | D32: =SUM(D27:D31) -> 35 | E32: =D32/C32/COUNT(C27:C31) -> 1.3671875 | F32: =SUM(F27:F31) -> 217 | G32: =F32/C32/COUNT(C27:C31) -> 8.4765625 | H32: =SUM(H27:H31) -> 0 | I32: =H32/C32/COUNT(C27:C31) -> 0 | J32: =SUM(J27:J31) -> 751 | K32: =J32/C32/COUNT(C27:C31) -> 29.335938 | L32: =E32+G32+I32+K32 -> 39.179688 | M32: =SUM(M27:M31) -> 13 | N32: =SUM(N27:N31) -> 3165 | O32: =SUM(O27:O31) -> 4 | P32: =SUM(P27:P31) -> 218 | Q32: =L32+M32/C32/COUNT(C27:C31)+N32/C32/COUNT(C27:C31)+O32/C32/COUNT(C27:C31)+P32/C32/COUNT(C27:C31) -> 171.99219 | R32: =SUM(R27:R31) -> 0 | S32: =SUM(S27:S31) -> 0 | T32: =SUM(T27:T31) -> 0 | U32: =SUM(U27:U31) -> 0 | V32: =SUM(V27:V31) -> 9 | W32: =SUM(W27:W31) -> 35 | X32: =SUM(X27:X31) -> 0
A33: 21 | B33: Куменский | C33: 5.12 | D33: =[2]ввод!C23 -> 11 | E33: =D33/C33 -> 2.1484375 | F33: =[2]ввод!G23 -> 84 | G33: =F33/C33 -> 16.40625 | H33: =[2]ввод!K23 -> 0 | I33: =H33/C33 -> 0 | J33: =[2]ввод!O23 -> 193 | K33: =J33/C33 -> 37.695312 | L33: =E33+G33+I33+K33 -> 56.25 | M33: =[2]ввод!Q23 -> 5 | N33: =[2]ввод!R23 -> 319 | O33: =[2]ввод!S23 -> 0 | P33: =[2]ввод!T23 -> 41 | Q33: =L33+M33/C33+N33/C33+O33/C33+P33/C33 -> 127.53906 | R33: =[2]ввод!D23 -> 0 | S33: =[2]ввод!H23 -> 0 | T33: =[2]ввод!L23 -> 0 | U33: =[2]ввод!P23 -> 0 | V33: =[2]ввод!E23 -> 2 | W33: =[2]ввод!I23 -> 15 | X33: =[2]ввод!M23 -> 0
A34: 23 | B34: Лузский | C34: 5.12 | D34: =[2]ввод!C25 -> 10 | E34: =D34/C34 -> 1.953125 | F34: =[2]ввод!G25 -> 52 | G34: =F34/C34 -> 10.15625 | H34: =[2]ввод!K25 -> 0 | I34: =H34/C34 -> 0 | J34: =[2]ввод!O25 -> 364 | K34: =J34/C34 -> 71.09375 | L34: =E34+G34+I34+K34 -> 83.203125 | M34: =[2]ввод!Q25 -> 0 | N34: =[2]ввод!R25 -> 522 | O34: =[2]ввод!S25 -> 0 | P34: =[2]ввод!T25 -> 44 | Q34: =L34+M34/C34+N34/C34+O34/C34+P34/C34 -> 193.75 | R34: =[2]ввод!D25 -> 0 | S34: =[2]ввод!H25 -> 0 | T34: =[2]ввод!L25 -> 0 | U34: =[2]ввод!P25 -> 0 | V34: =[2]ввод!E25 -> 3 | W34: =[2]ввод!I25 -> 10 | X34: =[2]ввод!M25 -> 0
A35: 24 | B35: малмыжский | C35: 5.12 | D35: =[2]ввод!C26 -> 22 | E35: =D35/C35 -> 4.296875 | F35: =[2]ввод!G26 -> 40 | G35: =F35/C35 -> 7.8125 | H35: =[2]ввод!K26 -> 0 | I35: =H35/C35 -> 0 | J35: =[2]ввод!O26 -> 287 | K35: =J35/C35 -> 56.054688 | L35: =E35+G35+I35+K35 -> 68.164062 | M35: =[2]ввод!Q26 -> 4 | N35: =[2]ввод!R26 -> 602 | O35: =[2]ввод!S26 -> 0 | P35: =[2]ввод!T26 -> 3 | Q35: =L35+M35/C35+N35/C35+O35/C35+P35/C35 -> 187.10938 | R35: =[2]ввод!D26 -> 0 | S35: =[2]ввод!H26 -> 0 | T35: =[2]ввод!L26 -> 0 | U35: =[2]ввод!P26 -> 0 | V35: =[2]ввод!E26 -> 6 | W35: =[2]ввод!I26 -> 15 | X35: =[2]ввод!M26 -> 0
A36: 14 | B36: кильмезский | C36: 5.12 | D36: =[2]ввод!C16 -> 18 | E36: =D36/C36 -> 3.515625 | F36: =[2]ввод!G16 -> 38 | G36: =F36/C36 -> 7.421875 | H36: =[2]ввод!K16 -> 0 | I36: =H36/C36 -> 0 | J36: =[2]ввод!O16 -> 132 | K36: =J36/C36 -> 25.78125 | L36: =E36+G36+I36+K36 -> 36.71875 | M36: =[2]ввод!Q16 -> 5 | N36: =[2]ввод!R16 -> 501 | O36: =[2]ввод!S16 -> 1 | P36: =[2]ввод!T16 -> 20 | Q36: =L36+M36/C36+N36/C36+O36/C36+P36/C36 -> 139.64844 | R36: =[2]ввод!D16 -> 0 | S36: =[2]ввод!H16 -> 0 | T36: =[2]ввод!L16 -> 0 | U36: =[2]ввод!P16 -> 0 | V36: =[2]ввод!E16 -> 6 | W36: =[2]ввод!I16 -> 8 | X36: =[2]ввод!M16 -> 0
A37: Итого по Малмыжскому судебному району | C37: 5.12 | D37: =D35+D36 -> 40 | E37: =D37/C37/COUNT(C35:C36) -> 3.90625 | F37: =F35+F36 -> 78 | G37: =F37/C37/COUNT(C35:C36) -> 7.6171875 | H37: =H35+H36 -> 0 | I37: =H37/C37/COUNT(C35:C36) -> 0 | J37: =J35+J36 -> 419 | K37: =J37/C37/COUNT(C35:C36) -> 40.917969 | L37: =E37+G37+I37+K37 -> 52.441406 | M37: =M35+M36 -> 9 | N37: =N35+N36 -> 1103 | O37: =O35+O36 -> 1 | P37: =P35+P36 -> 23 | Q37: =L37+M37/C37/COUNT(C35:C36)+N37/C37/COUNT(C35:C36)+O37/C37/COUNT(C35:C36)+P37/C37/COUNT(C35:C36) -> 163.37891 | R37: =R35+R36 -> 0 | S37: =S35+S36 -> 0 | T37: =T35+T36 -> 0 | U37: =U35+U36 -> 0 | V37: =V35+V36 -> 12 | W37: =W35+W36 -> 23 | X37: =X35+X36 -> 0
A38: 25 | B38: мурашинский | C38: 5.12 | D38: =[2]ввод!C27 -> 10 | E38: =D38/C38 -> 1.953125 | F38: =[2]ввод!G27 -> 33 | G38: =F38/C38 -> 6.4453125 | H38: =[2]ввод!K27 -> 0 | I38: =H38/C38 -> 0 | J38: =[2]ввод!O27 -> 202 | K38: =J38/C38 -> 39.453125 | L38: =E38+G38+I38+K38 -> 47.851562 | M38: =[2]ввод!Q27 -> 1 | N38: =[2]ввод!R27 -> 378 | O38: =[2]ввод!S27 -> 0 | P38: =[2]ввод!T27 -> 17 | Q38: =L38+M38/C38+N38/C38+O38/C38+P38/C38 -> 125.19531 | R38: =[2]ввод!D27 -> 0 | S38: =[2]ввод!H27 -> 0 | T38: =[2]ввод!L27 -> 0 | U38: =[2]ввод!P27 -> 0 | V38: =[2]ввод!E27 -> 2 | W38: =[2]ввод!I27 -> 5 | X38: =[2]ввод!M27 -> 0
A39: 31 | B39: опаринский | C39: 5.12 | D39: =[2]ввод!C33 -> 7 | E39: =D39/C39 -> 1.3671875 | F39: =[2]ввод!G33 -> 22 | G39: =F39/C39 -> 4.296875 | H39: =[2]ввод!K33 -> 0 | I39: =H39/C39 -> 0 | J39: =[2]ввод!O33 -> 119 | K39: =J39/C39 -> 23.242188 | L39: =E39+G39+I39+K39 -> 28.90625 | M39: =[2]ввод!Q33 -> 2 | N39: =[2]ввод!R33 -> 246 | O39: =[2]ввод!S33 -> 1 | P39: =[2]ввод!T33 -> 15 | Q39: =L39+M39/C39+N39/C39+O39/C39+P39/C39 -> 80.46875 | R39: =[2]ввод!D33 -> 0 | S39: =[2]ввод!H33 -> 0 | T39: =[2]ввод!L33 -> 0 | U39: =[2]ввод!P33 -> 0 | V39: =[2]ввод!E33 -> 0 | W39: =[2]ввод!I33 -> 3 | X39: =[2]ввод!M33 -> 0
A40: Итого по Мурашинскому судебному району | C40: 5.12 | D40: =D38+D39 -> 17 | E40: =D40/C40/COUNT(C38:C39) -> 1.6601562 | F40: =F38+F39 -> 55 | G40: =F40/C40/COUNT(C38:C39) -> 5.3710938 | H40: =H38+H39 -> 0 | I40: =H40/C40/COUNT(C38:C39) -> 0 | J40: =J38+J39 -> 321 | K40: =J40/C40/COUNT(C38:C39) -> 31.347656 | L40: =E40+G40+I40+K40 -> 38.378906 | M40: =M38+M39 -> 3 | N40: =N38+N39 -> 624 | O40: =O38+O39 -> 1 | P40: =P38+P39 -> 32 | Q40: =L40+M40/C40/COUNT(C38:C39)+N40/C40/COUNT(C38:C39)+O40/C40/COUNT(C38:C39)+P40/C40/COUNT(C38:C39) -> 102.83203 | R40: =R38+R39 -> 0 | S40: =S38+S39 -> 0 | T40: =T38+T39 -> 0 | U40: =U38+U39 -> 0 | V40: =V38+V39 -> 2 | W40: =W38+W39 -> 8 | X40: =X38+X39 -> 0
A41: 27 | B41: немский | C41: 5.12 | D41: =[2]ввод!C29 -> 7 | E41: =D41/C41 -> 1.3671875 | F41: =[2]ввод!G29 -> 22 | G41: =F41/C41 -> 4.296875 | H41: =[2]ввод!K29 -> 0 | I41: =H41/C41 -> 0 | J41: =[2]ввод!O29 -> 108 | K41: =J41/C41 -> 21.09375 | L41: =E41+G41+I41+K41 -> 26.757812 | M41: =[2]ввод!Q29 -> 3 | N41: =[2]ввод!R29 -> 156 | O41: =[2]ввод!S29 -> 5 | P41: =[2]ввод!T29 -> 46 | Q41: =L41+M41/C41+N41/C41+O41/C41+P41/C41 -> 67.773438 | R41: =[2]ввод!D29 -> 0 | S41: =[2]ввод!H29 -> 0 | T41: =[2]ввод!L29 -> 0 | U41: =[2]ввод!P29 -> 0 | V41: =[2]ввод!E29 -> 2 | W41: =[2]ввод!I29 -> 4 | X41: =[2]ввод!M29 -> 0
A42: 28 | B42: нолинский | C42: 5.12 | D42: =[2]ввод!C30 -> 16 | E42: =D42/C42 -> 3.125 | F42: =[2]ввод!G30 -> 62 | G42: =F42/C42 -> 12.109375 | H42: =[2]ввод!K30 -> 0 | I42: =H42/C42 -> 0 | J42: =[2]ввод!O30 -> 188 | K42: =J42/C42 -> 36.71875 | L42: =E42+G42+I42+K42 -> 51.953125 | M42: =[2]ввод!Q30 -> 7 | N42: =[2]ввод!R30 -> 369 | O42: =[2]ввод!S30 -> 0 | P42: =[2]ввод!T30 -> 42 | Q42: =L42+M42/C42+N42/C42+O42/C42+P42/C42 -> 133.59375 | R42: =[2]ввод!D30 -> 0 | S42: =[2]ввод!H30 -> 0 | T42: =[2]ввод!L30 -> 0 | U42: =[2]ввод!P30 -> 0 | V42: =[2]ввод!E30 -> 5 | W42: =[2]ввод!I30 -> 12 | X42: =[2]ввод!M30 -> 0
A43: 43 | B43: сунский | C43: 5.12 | D43: =[2]ввод!C45 -> 9 | E43: =D43/C43 -> 1.7578125 | F43: =[2]ввод!G45 -> 11 | G43: =F43/C43 -> 2.1484375 | H43: =[2]ввод!K45 -> 0 | I43: =H43/C43 -> 0 | J43: =[2]ввод!O45 -> 152 | K43: =J43/C43 -> 29.6875 | L43: =E43+G43+I43+K43 -> 33.59375 | M43: =[2]ввод!Q45 -> 2 | N43: =[2]ввод!R45 -> 119 | O43: =[2]ввод!S45 -> 0 | P43: =[2]ввод!T45 -> 0 | Q43: =L43+M43/C43+N43/C43+O43/C43+P43/C43 -> 57.226562 | R43: =[2]ввод!D45 -> 0 | S43: =[2]ввод!H45 -> 0 | T43: =[2]ввод!L45 -> 0 | U43: =[2]ввод!P45 -> 0 | V43: =[2]ввод!E45 -> 2 | W43: =[2]ввод!I45 -> 3 | X43: =[2]ввод!M45 -> 0
A44: Итого по Нолинскому судебному району | C44: 5.12 | D44: =SUM(D41:D43) -> 32 | E44: =D44/C44/COUNT(C41:C43) -> 2.0833333 | F44: =SUM(F41:F43) -> 95 | G44: =F44/C44/COUNT(C41:C43) -> 6.1848958 | H44: =SUM(H41:H43) -> 0 | I44: =H44/C44/COUNT(C41:C43) -> 0 | J44: =SUM(J41:J43) -> 448 | K44: =J44/C44/COUNT(C41:C43) -> 29.166667 | L44: =E44+G44+I44+K44 -> 37.434896 | M44: =SUM(M41:M43) -> 12 | N44: =SUM(N41:N43) -> 644 | O44: =SUM(O41:O43) -> 5 | P44: =SUM(P41:P43) -> 88 | Q44: =L44+M44/C44/COUNT(C41:C43)+N44/C44/COUNT(C41:C43)+O44/C44/COUNT(C41:C43)+P44/C44/COUNT(C41:C43) -> 86.197917 | R44: =SUM(R41:R43) -> 0 | S44: =SUM(S41:S43) -> 0 | T44: =SUM(T41:T43) -> 0 | U44: =SUM(U41:U43) -> 0 | V44: =SUM(V41:V43) -> 9 | W44: =SUM(W41:W43) -> 19 | X44: =SUM(X41:X43) -> 0
A45: 29 | B45: омутнинский | C45: 5.12 | D45: =[2]ввод!C31 -> 5 | E45: =D45/C45 -> 0.9765625 | F45: =[2]ввод!G31 -> 43 | G45: =F45/C45 -> 8.3984375 | H45: =[2]ввод!K31 -> 0 | I45: =H45/C45 -> 0 | J45: =[2]ввод!O31 -> 214 | K45: =J45/C45 -> 41.796875 | L45: =E45+G45+I45+K45 -> 51.171875 | M45: =[2]ввод!Q31 -> 0 | N45: =[2]ввод!R31 -> 212 | O45: =[2]ввод!S31 -> 0 | P45: =[2]ввод!T31 -> 23 | Q45: =L45+M45/C45+N45/C45+O45/C45+P45/C45 -> 97.070312 | R45: =[2]ввод!D31 -> 0 | S45: =[2]ввод!H31 -> 0 | T45: =[2]ввод!L31 -> 0 | U45: =[2]ввод!P31 -> 0 | V45: =[2]ввод!E31 -> 0 | W45: =[2]ввод!I31 -> 6 | X45: =[2]ввод!M31 -> 0
A46: 30 | B46: омутнинский | C46: 5.12 | D46: =[2]ввод!C32 -> 8 | E46: =D46/C46 -> 1.5625 | F46: =[2]ввод!G32 -> 57 | G46: =F46/C46 -> 11.132812 | H46: =[2]ввод!K32 -> 0 | I46: =H46/C46 -> 0 | J46: =[2]ввод!O32 -> 240 | K46: =J46/C46 -> 46.875 | L46: =E46+G46+I46+K46 -> 59.570312 | M46: =[2]ввод!Q32 -> 5 | N46: =[2]ввод!R32 -> 283 | O46: =[2]ввод!S32 -> 0 | P46: =[2]ввод!T32 -> 30 | Q46: =L46+M46/C46+N46/C46+O46/C46+P46/C46 -> 121.67969 | R46: =[2]ввод!D32 -> 0 | S46: =[2]ввод!H32 -> 0 | T46: =[2]ввод!L32 -> 0 | U46: =[2]ввод!P32 -> 0 | V46: =[2]ввод!E32 -> 0 | W46: =[2]ввод!I32 -> 4 | X46: =[2]ввод!M32 -> 0
A47: 76 | B47: омутнинский | C47: 5.12 | D47: =[2]ввод!C78 -> 14 | E47: =D47/C47 -> 2.734375 | F47: =[2]ввод!G78 -> 55 | G47: =F47/C47 -> 10.742188 | H47: =[2]ввод!K78 -> 0 | I47: =H47/C47 -> 0 | J47: =[2]ввод!O78 -> 170 | K47: =J47/C47 -> 33.203125 | L47: =E47+G47+I47+K47 -> 46.679688 | M47: =[2]ввод!Q78 -> 4 | N47: =[2]ввод!R78 -> 399 | O47: =[2]ввод!S78 -> 0 | P47: =[2]ввод!T78 -> 14 | Q47: =L47+M47/C47+N47/C47+O47/C47+P47/C47 -> 128.125 | R47: =[2]ввод!D78 -> 0 | S47: =[2]ввод!H78 -> 0 | T47: =[2]ввод!L78 -> 0 | U47: =[2]ввод!P78 -> 0 | V47: =[2]ввод!E78 -> 1 | W47: =[2]ввод!I78 -> 13 | X47: =[2]ввод!M78 -> 0
A48: 2 | B48: афанасьевский | C48: 5.12 | D48: =[2]ввод!C4 -> 3 | E48: =D48/C48 -> 0.5859375 | F48: =[2]ввод!G4 -> 12 | G48: =F48/C48 -> 2.34375 | H48: =[2]ввод!K4 -> 0 | I48: =H48/C48 -> 0 | J48: =[2]ввод!O4 -> 141 | K48: =J48/C48 -> 27.539062 | L48: =E48+G48+I48+K48 -> 30.46875 | M48: =[2]ввод!Q4 -> 1 | N48: =[2]ввод!R4 -> 171 | O48: =[2]ввод!S4 -> 0 | P48: =[2]ввод!T4 -> 8 | Q48: =L48+M48/C48+N48/C48+O48/C48+P48/C48 -> 65.625 | R48: =[2]ввод!D4 -> 0 | S48: =[2]ввод!H4 -> 0 | T48: =[2]ввод!L4 -> 0 | U48: =[2]ввод!P4 -> 0 | V48: =[2]ввод!E4 -> 0 | W48: =[2]ввод!I4 -> 3 | X48: =[2]ввод!M4 -> 0
A49: Итого по Омутнинскому судебному району | C49: 5.12 | D49: =SUM(D45:D48) -> 30 | E49: =D49/C49/COUNT(C45:C48) -> 1.4648438 | F49: =SUM(F45:F48) -> 167 | G49: =F49/C49/COUNT(C45:C48) -> 8.1542969 | H49: =SUM(H45:H48) -> 0 | I49: =H49/C49/COUNT(C45:C48) -> 0 | J49: =SUM(J45:J48) -> 765 | K49: =J49/C49/COUNT(C45:C48) -> 37.353516 | L49: =E49+G49+I49+K49 -> 46.972656 | M49: =SUM(M45:M48) -> 10 | N49: =SUM(N45:N48) -> 1065 | O49: =SUM(O45:O48) -> 0 | P49: =SUM(P45:P48) -> 75 | Q49: =L49+M49/C49/COUNT(C45:C48)+N49/C49/COUNT(C45:C48)+O49/C49/COUNT(C45:C48)+P49/C49/COUNT(C45:C48) -> 103.125 | R49: =SUM(R45:R48) -> 0 | S49: =SUM(S45:S48) -> 0 | T49: =SUM(T45:T48) -> 0 | U49: =SUM(U45:U48) -> 0 | V49: =SUM(V45:V48) -> 1 | W49: =SUM(W45:W48) -> 26 | X49: =SUM(X45:X48) -> 0
A50: 33 | B50: Оричевский | C50: 5.12 | D50: =[2]ввод!C35 -> 25 | E50: =D50/C50 -> 4.8828125 | F50: =[2]ввод!G35 -> 100 | G50: =F50/C50 -> 19.53125 | H50: =[2]ввод!K35 -> 0 | I50: =H50/C50 -> 0 | J50: =[2]ввод!O35 -> 393 | K50: =J50/C50 -> 76.757812 | L50: =E50+G50+I50+K50 -> 101.17188 | M50: =[2]ввод!Q35 -> 8 | N50: =[2]ввод!R35 -> 657 | O50: =[2]ввод!S35 -> 0 | P50: =[2]ввод!T35 -> 25 | Q50: =L50+M50/C50+N50/C50+O50/C50+P50/C50 -> 235.9375 | R50: =[2]ввод!D35 -> 0 | S50: =[2]ввод!H35 -> 0 | T50: =[2]ввод!L35 -> 0 | U50: =[2]ввод!P35 -> 0 | V50: =[2]ввод!E35 -> 6 | W50: =[2]ввод!I35 -> 25 | X50: =[2]ввод!M35 -> 0
A51: 35 | B51: Подосиновский | C51: 5.12 | D51: =[2]ввод!C37 -> 11 | E51: =D51/C51 -> 2.1484375 | F51: =[2]ввод!G37 -> 48 | G51: =F51/C51 -> 9.375 | H51: =[2]ввод!K37 -> 0 | I51: =H51/C51 -> 0 | J51: =[2]ввод!O37 -> 281 | K51: =J51/C51 -> 54.882812 | L51: =E51+G51+I51+K51 -> 66.40625 | M51: =[2]ввод!Q37 -> 3 | N51: =[2]ввод!R37 -> 439 | O51: =[2]ввод!S37 -> 0 | P51: =[2]ввод!T37 -> 39 | Q51: =L51+M51/C51+N51/C51+O51/C51+P51/C51 -> 160.35156 | R51: =[2]ввод!D37 -> 0 | S51: =[2]ввод!H37 -> 0 | T51: =[2]ввод!L37 -> 0 | U51: =[2]ввод!P37 -> 0 | V51: =[2]ввод!E37 -> 2 | W51: =[2]ввод!I37 -> 2 | X51: =[2]ввод!M37 -> 0
A52: 36 | B52: санчурский | C52: 5.12 | D52: =[2]ввод!C38 -> 4 | E52: =D52/C52 -> 0.78125 | F52: =[2]ввод!G38 -> 18 | G52: =F52/C52 -> 3.515625 | H52: =[2]ввод!K38 -> 0 | I52: =H52/C52 -> 0 | J52: =[2]ввод!O38 -> 135 | K52: =J52/C52 -> 26.367188 | L52: =E52+G52+I52+K52 -> 30.664062 | M52: =[2]ввод!Q38 -> 0 | N52: =[2]ввод!R38 -> 447 | O52: =[2]ввод!S38 -> 1 | P52: =[2]ввод!T38 -> 5 | Q52: =L52+M52/C52+N52/C52+O52/C52+P52/C52 -> 119.14062 | R52: =[2]ввод!D38 -> 0 | S52: =[2]ввод!H38 -> 0 | T52: =[2]ввод!L38 -> 0 | U52: =[2]ввод!P38 -> 0 | V52: =[2]ввод!E38 -> 0 | W52: =[2]ввод!I38 -> 2 | X52: =[2]ввод!M38 -> 0
A53: 13 | B53: кикнурский | C53: 5.12 | D53: =[2]ввод!C15 -> 4 | E53: =D53/C53 -> 0.78125 | F53: =[2]ввод!G15 -> 11 | G53: =F53/C53 -> 2.1484375 | H53: =[2]ввод!K15 -> 0 | I53: =H53/C53 -> 0 | J53: =[2]ввод!O15 -> 83 | K53: =J53/C53 -> 16.210938 | L53: =E53+G53+I53+K53 -> 19.140625 | M53: =[2]ввод!Q15 -> 2 | N53: =[2]ввод!R15 -> 176 | O53: =[2]ввод!S15 -> 0 | P53: =[2]ввод!T15 -> 18 | Q53: =L53+M53/C53+N53/C53+O53/C53+P53/C53 -> 57.421875 | R53: =[2]ввод!D15 -> 0 | S53: =[2]ввод!H15 -> 0 | T53: =[2]ввод!L15 -> 0 | U53: =[2]ввод!P15 -> 0 | V53: =[2]ввод!E15 -> 0 | W53: =[2]ввод!I15 -> 3 | X53: =[2]ввод!M15 -> 0
A54: Итого по Санчурскому судебному району | C54: 5.12 | D54: =D52+D53 -> 8 | E54: =D54/C54/COUNT(C52:C53) -> 0.78125 | F54: =F52+F53 -> 29 | G54: =F54/C54/COUNT(C52:C53) -> 2.8320312 | H54: =H52+H53 -> 0 | I54: =H54/C54/COUNT(C52:C53) -> 0 | J54: =J52+J53 -> 218 | K54: =J54/C54/COUNT(C52:C53) -> 21.289062 | L54: =E54+G54+I54+K54 -> 24.902344 | M54: =M52+M53 -> 2 | N54: =N52+N53 -> 623 | O54: =O52+O53 -> 1 | P54: =P52+P53 -> 23 | Q54: =L54+M54/C54/COUNT(C52:C53)+N54/C54/COUNT(C52:C53)+O54/C54/COUNT(C52:C53)+P54/C54/COUNT(C52:C53) -> 88.28125 | R54: =R52+R53 -> 0 | S54: =S52+S53 -> 0 | T54: =T52+T53 -> 0 | U54: =U52+U53 -> 0 | V54: =V52+V53 -> 0 | W54: =W52+W53 -> 5 | X54: =X52+X53 -> 0
A55: 38 | B55: слободской | C55: 5.12 | D55: =[2]ввод!C40 -> 10 | E55: =D55/C55 -> 1.953125 | F55: =[2]ввод!G40 -> 66 | G55: =F55/C55 -> 12.890625 | H55: =[2]ввод!K40 -> 0 | I55: =H55/C55 -> 0 | J55: =[2]ввод!O40 -> 193 | K55: =J55/C55 -> 37.695312 | L55: =E55+G55+I55+K55 -> 52.539062 | M55: =[2]ввод!Q40 -> 5 | N55: =[2]ввод!R40 -> 478 | O55: =[2]ввод!S40 -> 1 | P55: =[2]ввод!T40 -> 4 | Q55: =L55+M55/C55+N55/C55+O55/C55+P55/C55 -> 147.85156 | R55: =[2]ввод!D40 -> 0 | S55: =[2]ввод!H40 -> 0 | T55: =[2]ввод!L40 -> 0 | U55: =[2]ввод!P40 -> 0 | V55: =[2]ввод!E40 -> 2 | W55: =[2]ввод!I40 -> 8 | X55: =[2]ввод!M40 -> 0
A56: 39 | B56: слободской | C56: 5.12 | D56: =[2]ввод!C41 -> 16 | E56: =D56/C56 -> 3.125 | F56: =[2]ввод!G41 -> 74 | G56: =F56/C56 -> 14.453125 | H56: =[2]ввод!K41 -> 0 | I56: =H56/C56 -> 0 | J56: =[2]ввод!O41 -> 163 | K56: =J56/C56 -> 31.835938 | L56: =E56+G56+I56+K56 -> 49.414062 | M56: =[2]ввод!Q41 -> 5 | N56: =[2]ввод!R41 -> 750 | O56: =[2]ввод!S41 -> 0 | P56: =[2]ввод!T41 -> 17 | Q56: =L56+M56/C56+N56/C56+O56/C56+P56/C56 -> 200.19531 | R56: =[2]ввод!D41 -> 0 | S56: =[2]ввод!H41 -> 0 | T56: =[2]ввод!L41 -> 0 | U56: =[2]ввод!P41 -> 0 | V56: =[2]ввод!E41 -> 1 | W56: =[2]ввод!I41 -> 3 | X56: =[2]ввод!M41 -> 0
A57: 40 | B57: слободской | C57: 5.12 | D57: =[2]ввод!C42 -> 12 | E57: =D57/C57 -> 2.34375 | F57: =[2]ввод!G42 -> 110 | G57: =F57/C57 -> 21.484375 | H57: =[2]ввод!K42 -> 0 | I57: =H57/C57 -> 0 | J57: =[2]ввод!O42 -> 310 | K57: =J57/C57 -> 60.546875 | L57: =E57+G57+I57+K57 -> 84.375 | M57: =[2]ввод!Q42 -> 7 | N57: =[2]ввод!R42 -> 548 | O57: =[2]ввод!S42 -> 3 | P57: =[2]ввод!T42 -> 26 | Q57: =L57+M57/C57+N57/C57+O57/C57+P57/C57 -> 198.4375 | R57: =[2]ввод!D42 -> 0 | S57: =[2]ввод!H42 -> 0 | T57: =[2]ввод!L42 -> 0 | U57: =[2]ввод!P42 -> 0 | V57: =[2]ввод!E42 -> 1 | W57: =[2]ввод!I42 -> 14 | X57: =[2]ввод!M42 -> 0
A58: 77 | B58: слободской | C58: 5.12 | D58: =[2]ввод!C79 -> 4 | E58: =D58/C58 -> 0.78125 | F58: =[2]ввод!G79 -> 58 | G58: =F58/C58 -> 11.328125 | H58: =[2]ввод!K79 -> 0 | I58: =H58/C58 -> 0 | J58: =[2]ввод!O79 -> 215 | K58: =J58/C58 -> 41.992188 | L58: =E58+G58+I58+K58 -> 54.101562 | M58: =[2]ввод!Q79 -> 1 | N58: =[2]ввод!R79 -> 498 | O58: =[2]ввод!S79 -> 0 | P58: =[2]ввод!T79 -> 17 | Q58: =L58+M58/C58+N58/C58+O58/C58+P58/C58 -> 154.88281 | R58: =[2]ввод!D79 -> 0 | S58: =[2]ввод!H79 -> 0 | T58: =[2]ввод!L79 -> 0 | U58: =[2]ввод!P79 -> 0 | V58: =[2]ввод!E79 -> 1 | W58: =[2]ввод!I79 -> 10 | X58: =[2]ввод!M79 -> 0
A59: 3 | B59: белохолуницкий | C59: 5.12 | D59: =[2]ввод!C5 -> 3 | E59: =D59/C59 -> 0.5859375 | F59: =[2]ввод!G5 -> 62 | G59: =F59/C59 -> 12.109375 | H59: =[2]ввод!K5 -> 0 | I59: =H59/C59 -> 0 | J59: =[2]ввод!O5 -> 206 | K59: =J59/C59 -> 40.234375 | L59: =E59+G59+I59+K59 -> 52.929688 | M59: =[2]ввод!Q5 -> 1 | N59: =[2]ввод!R5 -> 449 | O59: =[2]ввод!S5 -> 0 | P59: =[2]ввод!T5 -> 6 | Q59: =L59+M59/C59+N59/C59+O59/C59+P59/C59 -> 141.99219 | R59: =[2]ввод!D5 -> 0 | S59: =[2]ввод!H5 -> 0 | T59: =[2]ввод!L5 -> 0 | U59: =[2]ввод!P5 -> 0 | V59: =[2]ввод!E5 -> 1 | W59: =[2]ввод!I5 -> 12 | X59: =[2]ввод!M5 -> 0
A60: 26 | B60: нагорский | C60: 5.12 | D60: =[2]ввод!C28 -> 5 | E60: =D60/C60 -> 0.9765625 | F60: =[2]ввод!G28 -> 15 | G60: =F60/C60 -> 2.9296875 | H60: =[2]ввод!K28 -> 0 | I60: =H60/C60 -> 0 | J60: =[2]ввод!O28 -> 105 | K60: =J60/C60 -> 20.507812 | L60: =E60+G60+I60+K60 -> 24.414062 | M60: =[2]ввод!Q28 -> 0 | N60: =[2]ввод!R28 -> 173 | O60: =[2]ввод!S28 -> 0 | P60: =[2]ввод!T28 -> 18 | Q60: =L60+M60/C60+N60/C60+O60/C60+P60/C60 -> 61.71875 | R60: =[2]ввод!D28 -> 0 | S60: =[2]ввод!H28 -> 0 | T60: =[2]ввод!L28 -> 0 | U60: =[2]ввод!P28 -> 0 | V60: =[2]ввод!E28 -> 0 | W60: =[2]ввод!I28 -> 4 | X60: =[2]ввод!M28 -> 0
A61: Итого по Слободскому судебному району | C61: 5.12 | D61: =SUM(D55:D60) -> 50 | E61: =D61/C61/COUNT(C55:C60) -> 1.6276042 | F61: =SUM(F55:F60) -> 385 | G61: =F61/C61/COUNT(C55:C60) -> 12.532552 | H61: =SUM(H55:H60) -> 0 | I61: =H61/C61/COUNT(C55:C60) -> 0 | J61: =SUM(J55:J60) -> 1192 | K61: =J61/C61/COUNT(C55:C60) -> 38.802083 | L61: =E61+G61+I61+K61 -> 52.96224 | M61: =SUM(M55:M60) -> 19 | N61: =SUM(N55:N60) -> 2896 | O61: =SUM(O55:O60) -> 4 | P61: =SUM(P55:P60) -> 88 | Q61: =L61+M61/C61/COUNT(C55:C60)+N61/C61/COUNT(C55:C60)+O61/C61/COUNT(C55:C60)+P61/C61/COUNT(C55:C60) -> 150.84635 | R61: =SUM(R55:R60) -> 0 | S61: =SUM(S55:S60) -> 0 | T61: =SUM(T55:T60) -> 0 | U61: =SUM(U55:U60) -> 0 | V61: =SUM(V55:V60) -> 6 | W61: =SUM(W55:W60) -> 51 | X61: =SUM(X55:X60) -> 0
A62: 41 | B62: советский | C62: 5.12 | D62: =[2]ввод!C43 -> 25 | E62: =D62/C62 -> 4.8828125 | F62: =[2]ввод!G43 -> 73 | G62: =F62/C62 -> 14.257812 | H62: =[2]ввод!K43 -> 0 | I62: =H62/C62 -> 0 | J62: =[2]ввод!O43 -> 433 | K62: =J62/C62 -> 84.570312 | L62: =E62+G62+I62+K62 -> 103.71094 | M62: =[2]ввод!Q43 -> 3 | N62: =[2]ввод!R43 -> 483 | O62: =[2]ввод!S43 -> 0 | P62: =[2]ввод!T43 -> 40 | Q62: =L62+M62/C62+N62/C62+O62/C62+P62/C62 -> 206.44531 | R62: =[2]ввод!D43 -> 0 | S62: =[2]ввод!H43 -> 0 | T62: =[2]ввод!L43 -> 0 | U62: =[2]ввод!P43 -> 0 | V62: =[2]ввод!E43 -> 7 | W62: =[2]ввод!I43 -> 15 | X62: =[2]ввод!M43 -> 0
A63: 7 | B63: верхошижемский | C63: 5.12 | D63: =[2]ввод!C9 -> 6 | E63: =D63/C63 -> 1.171875 | F63: =[2]ввод!G9 -> 30 | G63: =F63/C63 -> 5.859375 | H63: =[2]ввод!K9 -> 0 | I63: =H63/C63 -> 0 | J63: =[2]ввод!O9 -> 116 | K63: =J63/C63 -> 22.65625 | L63: =E63+G63+I63+K63 -> 29.6875 | M63: =[2]ввод!Q9 -> 3 | N63: =[2]ввод!R9 -> 655 | O63: =[2]ввод!S9 -> 0 | P63: =[2]ввод!T9 -> 8 | Q63: =L63+M63/C63+N63/C63+O63/C63+P63/C63 -> 159.76562 | R63: =[2]ввод!D9 -> 0 | S63: =[2]ввод!H9 -> 0 | T63: =[2]ввод!L9 -> 0 | U63: =[2]ввод!P9 -> 0 | V63: =[2]ввод!E9 -> 1 | W63: =[2]ввод!I9 -> 8 | X63: =[2]ввод!M9 -> 0
A64: 22 | B64: лебяжский | C64: 5.12 | D64: =[2]ввод!C24 -> 8 | E64: =D64/C64 -> 1.5625 | F64: =[2]ввод!G24 -> 17 | G64: =F64/C64 -> 3.3203125 | H64: =[2]ввод!K24 -> 0 | I64: =H64/C64 -> 0 | J64: =[2]ввод!O24 -> 82 | K64: =J64/C64 -> 16.015625 | L64: =E64+G64+I64+K64 -> 20.898438 | M64: =[2]ввод!Q24 -> 3 | N64: =[2]ввод!R24 -> 144 | O64: =[2]ввод!S24 -> 1 | P64: =[2]ввод!T24 -> 4 | Q64: =L64+M64/C64+N64/C64+O64/C64+P64/C64 -> 50.585938 | R64: =[2]ввод!D24 -> 0 | S64: =[2]ввод!H24 -> 0 | T64: =[2]ввод!L24 -> 0 | U64: =[2]ввод!P24 -> 0 | V64: =[2]ввод!E24 -> 4 | W64: =[2]ввод!I24 -> 3 | X64: =[2]ввод!M24 -> 0
A65: 34 | B65: пижанский | C65: 5.12 | D65: =[2]ввод!C36 -> 13 | E65: =D65/C65 -> 2.5390625 | F65: =[2]ввод!G36 -> 21 | G65: =F65/C65 -> 4.1015625 | H65: =[2]ввод!K36 -> 0 | I65: =H65/C65 -> 0 | J65: =[2]ввод!O36 -> 107 | K65: =J65/C65 -> 20.898438 | L65: =E65+G65+I65+K65 -> 27.539062 | M65: =[2]ввод!Q36 -> 3 | N65: =[2]ввод!R36 -> 206 | O65: =[2]ввод!S36 -> 0 | P65: =[2]ввод!T36 -> 3 | Q65: =L65+M65/C65+N65/C65+O65/C65+P65/C65 -> 68.945312 | R65: =[2]ввод!D36 -> 0 | S65: =[2]ввод!H36 -> 0 | T65: =[2]ввод!L36 -> 0 | U65: =[2]ввод!P36 -> 0 | V65: =[2]ввод!E36 -> 1 | W65: =[2]ввод!I36 -> 1 | X65: =[2]ввод!M36 -> 0
A66: Итого по Советскому судебному району | C66: 5.12 | D66: =SUM(D62:D65) -> 52 | E66: =D66/C66/COUNT(C62:C65) -> 2.5390625 | F66: =SUM(F62:F65) -> 141 | G66: =F66/C66/COUNT(C62:C65) -> 6.8847656 | H66: =SUM(H62:H65) -> 0 | I66: =H66/C66/COUNT(C62:C65) -> 0 | J66: =SUM(J62:J65) -> 738 | K66: =J66/C66/COUNT(C62:C65) -> 36.035156 | L66: =E66+G66+I66+K66 -> 45.458984 | M66: =SUM(M62:M65) -> 12 | N66: =SUM(N62:N65) -> 1488 | O66: =SUM(O62:O65) -> 1 | P66: =SUM(P62:P65) -> 55 | Q66: =L66+M66/C66/COUNT(C62:C65)+N66/C66/COUNT(C62:C65)+O66/C66/COUNT(C62:C65)+P66/C66/COUNT(C62:C65) -> 121.43555 | R66: =SUM(R62:R65) -> 0 | S66: =SUM(S62:S65) -> 0 | T66: =SUM(T62:T65) -> 0 | U66: =SUM(U62:U65) -> 0 | V66: =SUM(V62:V65) -> 13 | W66: =SUM(W62:W65) -> 27 | X66: =SUM(X62:X65) -> 0
A67: 45 | B67: унинский | C67: 5.12 | D67: =[2]ввод!C47 -> 5 | E67: =D67/C67 -> 0.9765625 | F67: =[2]ввод!G47 -> 24 | G67: =F67/C67 -> 4.6875 | H67: =[2]ввод!K47 -> 0 | I67: =H67/C67 -> 0 | J67: =[2]ввод!O47 -> 96 | K67: =J67/C67 -> 18.75 | L67: =E67+G67+I67+K67 -> 24.414062 | M67: =[2]ввод!Q47 -> 4 | N67: =[2]ввод!R47 -> 237 | O67: =[2]ввод!S47 -> 1 | P67: =[2]ввод!T47 -> 18 | Q67: =L67+M67/C67+N67/C67+O67/C67+P67/C67 -> 75.195312 | R67: =[2]ввод!D47 -> 0 | S67: =[2]ввод!H47 -> 0 | T67: =[2]ввод!L47 -> 0 | U67: =[2]ввод!P47 -> 0 | V67: =[2]ввод!E47 -> 0 | W67: =[2]ввод!I47 -> 3 | X67: =[2]ввод!M47 -> 0
A68: 4 | B68: богородский | C68: 5.12 | D68: =[2]ввод!C6 -> 5 | E68: =D68/C68 -> 0.9765625 | F68: =[2]ввод!G6 -> 9 | G68: =F68/C68 -> 1.7578125 | H68: =[2]ввод!K6 -> 0 | I68: =H68/C68 -> 0 | J68: =[2]ввод!O6 -> 80 | K68: =J68/C68 -> 15.625 | L68: =E68+G68+I68+K68 -> 18.359375 | M68: =[2]ввод!Q6 -> 4 | N68: =[2]ввод!R6 -> 132 | O68: =[2]ввод!S6 -> 0 | P68: =[2]ввод!T6 -> 18 | Q68: =L68+M68/C68+N68/C68+O68/C68+P68/C68 -> 48.4375 | R68: =[2]ввод!D6 -> 0 | S68: =[2]ввод!H6 -> 0 | T68: =[2]ввод!L6 -> 0 | U68: =[2]ввод!P6 -> 0 | V68: =[2]ввод!E6 -> 1 | W68: =[2]ввод!I6 -> 3 | X68: =[2]ввод!M6 -> 0
A69: Итого по Унинскому судебному району | C69: 5.12 | D69: =D67+D68 -> 10 | E69: =D69/C69/COUNT(C67:C68) -> 0.9765625 | F69: =F67+F68 -> 33 | G69: =F69/C69/COUNT(C67:C68) -> 3.2226562 | H69: =H67+H68 -> 0 | I69: =H69/C69/COUNT(C67:C68) -> 0 | J69: =J67+J68 -> 176 | K69: =J69/C69/COUNT(C67:C68) -> 17.1875 | L69: =E69+G69+I69+K69 -> 21.386719 | M69: =M67+M68 -> 8 | N69: =N67+N68 -> 369 | O69: =O67+O68 -> 1 | P69: =P67+P68 -> 36 | Q69: =L69+M69/C69/COUNT(C67:C68)+N69/C69/COUNT(C67:C68)+P69/C69/COUNT(C67:C68)+P69/C69/COUNT(C67:C68) -> 65.234375 | R69: =R67+R68 -> 0 | S69: =S67+S68 -> 0 | T69: =T67+T68 -> 0 | U69: =U67+U68 -> 0 | V69: =V67+V68 -> 1 | W69: =W67+W68 -> 6 | X69: =X67+X68 -> 0
A70: 46 | B70: уржумский | C70: 5.12 | D70: =[2]ввод!C48 -> 18 | E70: =D70/C70 -> 3.515625 | F70: =[2]ввод!G48 -> 65 | G70: =F70/C70 -> 12.695312 | H70: =[2]ввод!K48 -> 0 | I70: =H70/C70 -> 0 | J70: =[2]ввод!O48 -> 315 | K70: =J70/C70 -> 61.523438 | L70: =E70+G70+I70+K70 -> 77.734375 | M70: =[2]ввод!Q48 -> 2 | N70: =[2]ввод!R48 -> 719 | O70: =[2]ввод!S48 -> 0 | P70: =[2]ввод!T48 -> 11 | Q70: =L70+M70/C70+N70/C70+O70/C70+P70/C70 -> 220.70312 | R70: =[2]ввод!D48 -> 0 | S70: =[2]ввод!H48 -> 0 | T70: =[2]ввод!L48 -> 0 | U70: =[2]ввод!P48 -> 0 | V70: =[2]ввод!E48 -> 2 | W70: =[2]ввод!I48 -> 21 | X70: =[2]ввод!M48 -> 0
A71: 48 | B71: шабалинский | C71: 5.12 | D71: =[2]ввод!C50 -> 6 | E71: =D71/C71 -> 1.171875 | F71: =[2]ввод!G50 -> 23 | G71: =F71/C71 -> 4.4921875 | H71: =[2]ввод!K50 -> 0 | I71: =H71/C71 -> 0 | J71: =[2]ввод!O50 -> 100 | K71: =J71/C71 -> 19.53125 | L71: =E71+G71+I71+K71 -> 25.195312 | M71: =[2]ввод!Q50 -> 0 | N71: =[2]ввод!R50 -> 212 | O71: =[2]ввод!S50 -> 3 | P71: =[2]ввод!T50 -> 16 | Q71: =L71+M71/C71+N71/C71+O71/C71+P71/C71 -> 70.3125 | R71: =[2]ввод!D50 -> 0 | S71: =[2]ввод!H50 -> 0 | T71: =[2]ввод!L50 -> 0 | U71: =[2]ввод!P50 -> 0 | V71: =[2]ввод!E50 -> 2 | W71: =[2]ввод!I50 -> 2 | X71: =[2]ввод!M50 -> 0
A72: 37 | B72: свечинский | C72: 5.12 | D72: =[2]ввод!C39 -> 1 | E72: =D72/C72 -> 0.1953125 | F72: =[2]ввод!G39 -> 22 | G72: =F72/C72 -> 4.296875 | H72: =[2]ввод!K39 -> 0 | I72: =H72/C72 -> 0 | J72: =[2]ввод!O39 -> 80 | K72: =J72/C72 -> 15.625 | L72: =E72+G72+I72+K72 -> 20.117188 | M72: =[2]ввод!Q39 -> 1 | N72: =[2]ввод!R39 -> 275 | O72: =[2]ввод!S39 -> 1 | P72: =[2]ввод!T39 -> 4 | Q72: =L72+M72/C72+N72/C72+O72/C72+P72/C72 -> 75 | R72: =[2]ввод!D39 -> 0 | S72: =[2]ввод!H39 -> 0 | T72: =[2]ввод!L39 -> 0 | U72: =[2]ввод!P39 -> 0 | V72: =[2]ввод!E39 -> 0 | W72: =[2]ввод!I39 -> 2 | X72: =[2]ввод!M39 -> 0
A73: Итого по Шабалинскому судебному району | C73: 5.12 | D73: =D71+D72 -> 7 | E73: =D73/C73/COUNT(C71:C72) -> 0.68359375 | F73: =F71+F72 -> 45 | G73: =F73/C73/COUNT(C71:C72) -> 4.3945312 | H73: =H71+H72 -> 0 | I73: =H73/C73/COUNT(C71:C72) -> 0 | J73: =J71+J72 -> 180 | K73: =J73/C73/COUNT(C71:C72) -> 17.578125 | L73: =E73+G73+I73+K73 -> 22.65625 | M73: =M71+M72 -> 1 | N73: =N71+N72 -> 487 | O73: =O71+O72 -> 4 | P73: =P71+P72 -> 20 | Q73: =L73+M73/C73/COUNT(C71:C72)+N73/C73/COUNT(C71:C72)+O73/C73/COUNT(C71:C72)+P73/C73/COUNT(C71:C72) -> 72.65625 | R73: =R71+R72 -> 0 | S73: =S71+S72 -> 0 | T73: =T71+T72 -> 0 | U73: =U71+U72 -> 0 | V73: =V71+V72 -> 2 | W73: =W71+W72 -> 4 | X73: =X71+X72 -> 0
A74: 49 | B74: юрьянский | C74: 5.12 | D74: =[2]ввод!C51 -> 4 | E74: =D74/C74 -> 0.78125 | F74: =[2]ввод!G51 -> 50 | G74: =F74/C74 -> 9.765625 | H74: =[2]ввод!K51 -> 0 | I74: =H74/C74 -> 0 | J74: =[2]ввод!O51 -> 151 | K74: =J74/C74 -> 29.492188 | L74: =E74+G74+I74+K74 -> 40.039062 | M74: =[2]ввод!Q51 -> 1 | N74: =[2]ввод!R51 -> 274 | O74: =[2]ввод!S51 -> 0 | P74: =[2]ввод!T51 -> 6 | Q74: =L74+M74/C74+N74/C74+O74/C74+P74/C74 -> 94.921875 | R74: =[2]ввод!D51 -> 0 | S74: =[2]ввод!H51 -> 0 | T74: =[2]ввод!L51 -> 0 | U74: 0 | V74: =[2]ввод!E51 -> 2 | W74: =[2]ввод!I51 -> 4 | X74: =[2]ввод!M51 -> 0
A75: 50 | B75: юрьянский | C75: 5.12 | D75: =[2]ввод!C52 -> 12 | E75: =D75/C75 -> 2.34375 | F75: =[2]ввод!G52 -> 35 | G75: =F75/C75 -> 6.8359375 | H75: =[2]ввод!K52 -> 0 | I75: =H75/C75 -> 0 | J75: =[2]ввод!O52 -> 262 | K75: =J75/C75 -> 51.171875 | L75: =E75+G75+I75+K75 -> 60.351562 | M75: =[2]ввод!Q52 -> 4 | N75: =[2]ввод!R52 -> 301 | O75: =[2]ввод!S52 -> 0 | P75: =[2]ввод!T52 -> 5 | Q75: =L75+M75/C75+N75/C75+O75/C75+P75/C75 -> 120.89844 | R75: =[2]ввод!D52 -> 0 | S75: =[2]ввод!H52 -> 0 | T75: =[2]ввод!L52 -> 0 | U75: =[2]ввод!P52 -> 0 | V75: =[2]ввод!E52 -> 1 | W75: =[2]ввод!I52 -> 6 | X75: =[2]ввод!M52 -> 0
A76: Итого по Юрьянскому судебному району | C76: 5.12 | D76: =D74+D75 -> 16 | E76: =D76/C76/COUNT(C74:C75) -> 1.5625 | F76: =F74+F75 -> 85 | G76: =F76/C76/COUNT(C74:C75) -> 8.3007812 | H76: =H74+H75 -> 0 | I76: =H76/C76/COUNT(C74:C75) -> 0 | J76: =J74+J75 -> 413 | K76: =J76/C76/COUNT(C74:C75) -> 40.332031 | L76: =E76+G76+I76+K76 -> 50.195312 | M76: =M74+M75 -> 5 | N76: =N74+N75 -> 575 | O76: =O74+O75 -> 0 | P76: =P74+P75 -> 11 | Q76: =L76+M76/C76/COUNT(C74:C75)+N76/C76/COUNT(C74:C75)+O76/C76/COUNT(C74:C75)+P76/C76/COUNT(C74:C75) -> 107.91016 | R76: =R74+R75 -> 0 | S76: =S74+S75 -> 0 | T76: =T74+T75 -> 0 | U76: 0 | V76: =V74+V75 -> 3 | W76: =W74+W75 -> 10 | X76: =X74+X75 -> 0
A77: 51 | B77: яранский | C77: 5.12 | D77: =[2]ввод!C53 -> 13 | E77: =D77/C77 -> 2.5390625 | F77: =[2]ввод!G53 -> 64 | G77: =F77/C77 -> 12.5 | H77: =[2]ввод!K53 -> 0 | I77: =H77/C77 -> 0 | J77: =[2]ввод!O53 -> 234 | K77: =J77/C77 -> 45.703125 | L77: =E77+G77+I77+K77 -> 60.742188 | M77: =[2]ввод!Q53 -> 13 | N77: =[2]ввод!R53 -> 520 | O77: =[2]ввод!S53 -> 2 | P77: =[2]ввод!T53 -> 46 | Q77: =L77+M77/C77+N77/C77+O77/C77+P77/C77 -> 174.21875 | R77: =[2]ввод!D53 -> 0 | S77: =[2]ввод!H53 -> 0 | T77: =[2]ввод!L53 -> 0 | U77: =[2]ввод!P53 -> 0 | V77: =[2]ввод!E53 -> 5 | W77: =[2]ввод!I53 -> 20 | X77: =[2]ввод!M53 -> 0
A78: 1 | B78: арбажский | C78: 5.12 | D78: =[2]ввод!C3 -> 2 | E78: =D78/C78 -> 0.390625 | F78: =[2]ввод!G3 -> 15 | G78: =F78/C78 -> 2.9296875 | H78: =[2]ввод!K3 -> 0 | I78: =H78/C78 -> 0 | J78: =[2]ввод!O3 -> 102 | K78: =J78/C78 -> 19.921875 | L78: =E78+G78+I78+K78 -> 23.242188 | M78: =[2]ввод!Q3 -> 1 | N78: =[2]ввод!R3 -> 381 | O78: =[2]ввод!S3 -> 0 | P78: =[2]ввод!T3 -> 0 | Q78: =L78+M78/C78+N78/C78+O78/C78+P78/C78 -> 97.851562 | R78: =[2]ввод!D3 -> 0 | S78: =[2]ввод!H3 -> 0 | T78: =[2]ввод!L3 -> 0 | U78: =[2]ввод!P3 -> 0 | V78: =[2]ввод!E3 -> 0 | W78: =[2]ввод!I3 -> 7 | X78: =[2]ввод!M3 -> 0
A79: 44 | B79: тужинский | C79: 5.12 | D79: =[2]ввод!C46 -> 2 | E79: =D79/C79 -> 0.390625 | F79: =[2]ввод!G46 -> 5 | G79: =F79/C79 -> 0.9765625 | H79: =[2]ввод!K46 -> 0 | I79: =H79/C79 -> 0 | J79: =[2]ввод!O46 -> 94 | K79: =J79/C79 -> 18.359375 | L79: =E79+G79+I79+K79 -> 19.726562 | M79: =[2]ввод!Q46 -> 6 | N79: =[2]ввод!R46 -> 272 | O79: =[2]ввод!S46 -> 1 | P79: =[2]ввод!T46 -> 5 | Q79: =L79+M79/C79+N79/C79+O79/C79+P79/C79 -> 75.195312 | R79: =[2]ввод!D46 -> 0 | S79: =[2]ввод!H46 -> 0 | T79: =[2]ввод!L46 -> 0 | U79: =[2]ввод!P46 -> 0 | V79: =[2]ввод!E46 -> 3 | W79: =[2]ввод!I46 -> 4 | X79: =[2]ввод!M46 -> 0
A80: Итого по Яранскому судебному району | C80: 5.12 | D80: =SUM(D77:D79) -> 17 | E80: =D80/C80/COUNT(C77:C79) -> 1.1067708 | F80: =SUM(F77:F79) -> 84 | G80: =F80/C80/COUNT(C77:C79) -> 5.46875 | H80: =SUM(H77:H79) -> 0 | I80: =H80/C80/COUNT(C77:C79) -> 0 | J80: =SUM(J77:J79) -> 430 | K80: =J80/C80/COUNT(C77:C79) -> 27.994792 | L80: =E80+G80+I80+K80 -> 34.570312 | M80: =SUM(M77:M79) -> 20 | N80: =SUM(N77:N79) -> 1173 | O80: =SUM(O77:O79) -> 3 | P80: =SUM(P77:P79) -> 51 | Q80: =L80+M80/C80/COUNT(C77:C79)+N80/C80/COUNT(C77:C79)+O80/C80/COUNT(C77:C79)+P80/C80/COUNT(C77:C79) -> 115.75521 | R80: =SUM(R77:R79) -> 0 | S80: =SUM(S77:S79) -> 0 | T80: =SUM(T77:T79) -> 0 | U80: =SUM(U77:U79) -> 0 | V80: =SUM(V77:V79) -> 8 | W80: =SUM(W77:W79) -> 31 | X80: =SUM(X77:X79) -> 0
A81: 52 | B81: ленинский | C81: 5.12 | D81: =[2]ввод!C54 -> 2 | E81: =D81/C81 -> 0.390625 | F81: =[2]ввод!G54 -> 92 | G81: =F81/C81 -> 17.96875 | H81: =[2]ввод!K54 -> 0 | I81: =H81/C81 -> 0 | J81: =[2]ввод!O54 -> 290 | K81: =J81/C81 -> 56.640625 | L81: =E81+G81+I81+K81 -> 75 | M81: =[2]ввод!Q54 -> 3 | N81: =[2]ввод!R54 -> 999 | O81: =[2]ввод!S54 -> 5 | P81: =[2]ввод!T54 -> 29 | Q81: =L81+M81/C81+N81/C81+O81/C81+P81/C81 -> 277.34375 | R81: =[2]ввод!D54 -> 0 | S81: =[2]ввод!H54 -> 0 | T81: =[2]ввод!L54 -> 0 | U81: =[2]ввод!P54 -> 0 | V81: =[2]ввод!E54 -> 1 | W81: =[2]ввод!I54 -> 22 | X81: =[2]ввод!M54 -> 0
A82: 53 | B82: ленинский | C82: 5.12 | D82: =[2]ввод!C55 -> 16 | E82: =D82/C82 -> 3.125 | F82: =[2]ввод!G55 -> 159 | G82: =F82/C82 -> 31.054688 | H82: =[2]ввод!K55 -> 0 | I82: =H82/C82 -> 0 | J82: =[2]ввод!O55 -> 538 | K82: =J82/C82 -> 105.07812 | L82: =E82+G82+I82+K82 -> 139.25781 | M82: =[2]ввод!Q55 -> 2 | N82: =[2]ввод!R55 -> 1593 | O82: =[2]ввод!S55 -> 0 | P82: =[2]ввод!T55 -> 36 | Q82: =L82+M82/C82+N82/C82+O82/C82+P82/C82 -> 457.8125 | R82: =[2]ввод!D55 -> 0 | S82: =[2]ввод!H55 -> 0 | T82: =[2]ввод!L55 -> 0 | U82: =[2]ввод!P55 -> 0 | V82: =[2]ввод!E55 -> 7 | W82: =[2]ввод!I55 -> 25 | X82: =[2]ввод!M55 -> 0
A83: 54 | B83: ленинский | C83: 5.12 | D83: =[2]ввод!C56 -> 13 | E83: =D83/C83 -> 2.5390625 | F83: =[2]ввод!G56 -> 162 | G83: =F83/C83 -> 31.640625 | H83: =[2]ввод!K56 -> 0 | I83: =H83/C83 -> 0 | J83: =[2]ввод!O56 -> 507 | K83: =J83/C83 -> 99.023438 | L83: =E83+G83+I83+K83 -> 133.20312 | M83: =[2]ввод!Q56 -> 2 | N83: =[2]ввод!R56 -> 1210 | O83: =[2]ввод!S56 -> 0 | P83: =[2]ввод!T56 -> 33 | Q83: =L83+M83/C83+N83/C83+O83/C83+P83/C83 -> 376.36719 | R83: =[2]ввод!D56 -> 0 | S83: =[2]ввод!H56 -> 0 | T83: =[2]ввод!L56 -> 0 | U83: =[2]ввод!P56 -> 0 | V83: =[2]ввод!E56 -> 1 | W83: =[2]ввод!I56 -> 13 | X83: =[2]ввод!M56 -> 0
A84: 55 | B84: ленинский | C84: 5.12 | D84: =[2]ввод!C57 -> 14 | E84: =D84/C84 -> 2.734375 | F84: =[2]ввод!G57 -> 165 | G84: =F84/C84 -> 32.226562 | H84: =[2]ввод!K57 -> 0 | I84: =H84/C84 -> 0 | J84: =[2]ввод!O57 -> 478 | K84: =J84/C84 -> 93.359375 | L84: =E84+G84+I84+K84 -> 128.32031 | M84: =[2]ввод!Q57 -> 6 | N84: =[2]ввод!R57 -> 1205 | O84: =[2]ввод!S57 -> 9 | P84: =[2]ввод!T57 -> 16 | Q84: =L84+M84/C84+N84/C84+O84/C84+P84/C84 -> 369.72656 | R84: =[2]ввод!D57 -> 0 | S84: =[2]ввод!H57 -> 0 | T84: =[2]ввод!L57 -> 0 | U84: =[2]ввод!P57 -> 0 | V84: =[2]ввод!E57 -> 6 | W84: =[2]ввод!I57 -> 36 | X84: =[2]ввод!M57 -> 0
A85: 56 | B85: ленинский | C85: 5.12 | D85: =[2]ввод!C58 -> 10 | E85: =D85/C85 -> 1.953125 | F85: =[2]ввод!G58 -> 69 | G85: =F85/C85 -> 13.476562 | H85: =[2]ввод!K58 -> 0 | I85: =H85/C85 -> 0 | J85: =[2]ввод!O58 -> 226 | K85: =J85/C85 -> 44.140625 | L85: =E85+G85+I85+K85 -> 59.570312 | M85: =[2]ввод!Q58 -> 6 | N85: =[2]ввод!R58 -> 1115 | O85: =[2]ввод!S58 -> 2 | P85: =[2]ввод!T58 -> 4 | Q85: =L85+M85/C85+N85/C85+O85/C85+P85/C85 -> 279.6875 | R85: =[2]ввод!D58 -> 0 | S85: =[2]ввод!H58 -> 0 | T85: =[2]ввод!L58 -> 0 | U85: =[2]ввод!P58 -> 0 | V85: =[2]ввод!E58 -> 5 | W85: =[2]ввод!I58 -> 12 | X85: =[2]ввод!M58 -> 0
A86: 57 | B86: ленинский | C86: 5.12 | D86: =[2]ввод!C59 -> 11 | E86: =D86/C86 -> 2.1484375 | F86: =[2]ввод!G59 -> 175 | G86: =F86/C86 -> 34.179688 | H86: =[2]ввод!K59 -> 0 | I86: =H86/C86 -> 0 | J86: =[2]ввод!O59 -> 376 | K86: =J86/C86 -> 73.4375 | L86: =E86+G86+I86+K86 -> 109.76562 | M86: =[2]ввод!Q59 -> 7 | N86: =[2]ввод!R59 -> 1779 | O86: =[2]ввод!S59 -> 8 | P86: =[2]ввод!T59 -> 7 | Q86: =L86+M86/C86+N86/C86+O86/C86+P86/C86 -> 461.52344 | R86: =[2]ввод!D59 -> 0 | S86: =[2]ввод!H59 -> 0 | T86: =[2]ввод!L59 -> 0 | U86: =[2]ввод!P59 -> 0 | V86: =[2]ввод!E59 -> 2 | W86: =[2]ввод!I59 -> 22 | X86: =[2]ввод!M59 -> 0
A87: 58 | B87: ленинский | C87: 5.12 | D87: =[2]ввод!C60 -> 21 | E87: =D87/C87 -> 4.1015625 | F87: =[2]ввод!G60 -> 153 | G87: =F87/C87 -> 29.882812 | H87: =[2]ввод!K60 -> 0 | I87: =H87/C87 -> 0 | J87: =[2]ввод!O60 -> 418 | K87: =J87/C87 -> 81.640625 | L87: =E87+G87+I87+K87 -> 115.625 | M87: =[2]ввод!Q60 -> 3 | N87: =[2]ввод!R60 -> 785 | O87: =[2]ввод!S60 -> 2 | P87: =[2]ввод!T60 -> 14 | Q87: =L87+M87/C87+N87/C87+O87/C87+P87/C87 -> 272.65625 | R87: =[2]ввод!D60 -> 0 | S87: =[2]ввод!H60 -> 0 | T87: =[2]ввод!L60 -> 0 | U87: =[2]ввод!P60 -> 0 | V87: =[2]ввод!E60 -> 4 | W87: =[2]ввод!I60 -> 28 | X87: =[2]ввод!M60 -> 0
A88: 70 | B88: ленинский | C88: 5.12 | D88: =[2]ввод!C72 -> 28 | E88: =D88/C88 -> 5.46875 | F88: =[2]ввод!G72 -> 238 | G88: =F88/C88 -> 46.484375 | H88: =[2]ввод!K72 -> 0 | I88: =H88/C88 -> 0 | J88: =[2]ввод!O72 -> 444 | K88: =J88/C88 -> 86.71875 | L88: =E88+G88+I88+K88 -> 138.67188 | M88: =[2]ввод!Q72 -> 13 | N88: =[2]ввод!R72 -> 5512 | O88: =[2]ввод!S72 -> 0 | P88: =[2]ввод!T72 -> 208 | Q88: =L88+M88/C88+N88/C88+O88/C88+P88/C88 -> 1258.3984 | R88: =[2]ввод!D72 -> 0 | S88: =[2]ввод!H72 -> 0 | T88: =[2]ввод!L72 -> 0 | U88: =[2]ввод!P72 -> 0 | V88: =[2]ввод!E72 -> 4 | W88: =[2]ввод!I72 -> 16 | X88: =[2]ввод!M72 -> 0
A89: 79 | B89: ленинский | C89: 5.12 | D89: =[2]ввод!C81 -> 13 | E89: =D89/C89 -> 2.5390625 | F89: =[2]ввод!G81 -> 126 | G89: =F89/C89 -> 24.609375 | H89: =[2]ввод!K81 -> 0 | I89: =H89/C89 -> 0 | J89: =[2]ввод!O81 -> 434 | K89: =J89/C89 -> 84.765625 | L89: =E89+G89+I89+K89 -> 111.91406 | M89: =[2]ввод!Q81 -> 7 | N89: =[2]ввод!R81 -> 1252 | O89: =[2]ввод!S81 -> 2 | P89: =[2]ввод!T81 -> 23 | Q89: =L89+M89/C89+N89/C89+O89/C89+P89/C89 -> 362.69531 | R89: =[2]ввод!D81 -> 0 | S89: =[2]ввод!H81 -> 0 | T89: =[2]ввод!L81 -> 0 | U89: =[2]ввод!P81 -> 0 | V89: =[2]ввод!E81 -> 3 | W89: =[2]ввод!I81 -> 19 | X89: =[2]ввод!M81 -> 0
A90: 42 | B90: ленинский | C90: 5.12 | D90: =[2]ввод!C83 -> 16 | E90: =D90/C90 -> 3.125 | F90: =[2]ввод!G83 -> 186 | G90: =F90/C90 -> 36.328125 | H90: =[2]ввод!K83 -> 0 | I90: =H90/C90 -> 0 | J90: =[2]ввод!O83 -> 593 | K90: =J90/C90 -> 115.82031 | L90: =E90+G90+I90+K90 -> 155.27344 | M90: =[2]ввод!Q83 -> 5 | N90: =[2]ввод!R83 -> 839 | O90: =[2]ввод!S83 -> 2 | P90: =[2]ввод!T83 -> 1 | Q90: =L90+M90/C90+N90/C90+O90/C90+P90/C90 -> 320.70312 | R90: =[2]ввод!D83 -> 0 | S90: =[2]ввод!H83 -> 0 | T90: =[2]ввод!L83 -> 0 | U90: =[2]ввод!P83 -> 0 | V90: =[2]ввод!E83 -> 2 | W90: =[2]ввод!I83 -> 31 | X90: =[2]ввод!M83 -> 0
A91: Итого по Ленинскому судебному району | C91: 5.12 | D91: =SUM(D81:D90) -> 144 | E91: =D91/C91/COUNT(C81:C90) -> 2.8125 | F91: =SUM(F81:F90) -> 1525 | G91: =F91/C91/COUNT(C81:C90) -> 29.785156 | H91: =SUM(H81:H90) -> 0 | I91: =H91/C91/COUNT(C81:C90) -> 0 | J91: =SUM(J81:J90) -> 4304 | K91: =J91/C91/COUNT(C81:C90) -> 84.0625 | L91: =E91+G91+I91+K91 -> 116.66016 | M91: =SUM(M81:M90) -> 54 | N91: =SUM(N81:N90) -> 16289 | O91: =SUM(O81:O90) -> 30 | P91: =SUM(P81:P90) -> 371 | Q91: =L91+M91/C91/COUNT(C81:C90)+N91/C91/COUNT(C81:C90)+O91/C91/COUNT(C81:C90)+P91/C91/COUNT(C81:C90) -> 443.69141 | R91: =SUM(R81:R90) -> 0 | S91: =SUM(S81:S90) -> 0 | T91: =SUM(T81:T90) -> 0 | U91: =SUM(U81:U90) -> 0 | V91: =SUM(V81:V90) -> 35 | W91: =SUM(W81:W90) -> 224 | X91: =SUM(X81:X90) -> 0
A92: 59 | B92: нововятский | C92: 5.12 | D92: =[2]ввод!C61 -> 11 | E92: =D92/C92 -> 2.1484375 | F92: =[2]ввод!G61 -> 108 | G92: =F92/C92 -> 21.09375 | H92: =[2]ввод!K61 -> 0 | I92: =H92/C92 -> 0 | J92: =[2]ввод!O61 -> 607 | K92: =J92/C92 -> 118.55469 | L92: =E92+G92+I92+K92 -> 141.79688 | M92: =[2]ввод!Q61 -> 3 | N92: =[2]ввод!R61 -> 731 | O92: =[2]ввод!S61 -> 1 | P92: =[2]ввод!T61 -> 37 | Q92: =L92+M92/C92+N92/C92+O92/C92+P92/C92 -> 292.57812 | R92: =[2]ввод!D61 -> 0 | S92: =[2]ввод!H61 -> 0 | T92: =[2]ввод!L61 -> 0 | U92: =[2]ввод!P61 -> 0 | V92: =[2]ввод!E61 -> 3 | W92: =[2]ввод!I61 -> 15 | X92: =[2]ввод!M61 -> 0
A93: 60 | B93: нововятский | C93: 5.12 | D93: =[2]ввод!C62 -> 14 | E93: =D93/C93 -> 2.734375 | F93: =[2]ввод!G62 -> 120 | G93: =F93/C93 -> 23.4375 | H93: =[2]ввод!K62 -> 0 | I93: =H93/C93 -> 0 | J93: =[2]ввод!O62 -> 422 | K93: =J93/C93 -> 82.421875 | L93: =E93+G93+I93+K93 -> 108.59375 | M93: =[2]ввод!Q62 -> 2 | N93: =[2]ввод!R62 -> 843 | O93: =[2]ввод!S62 -> 0 | P93: =[2]ввод!T62 -> 22 | Q93: =L93+M93/C93+N93/C93+O93/C93+P93/C93 -> 277.92969 | R93: =[2]ввод!D62 -> 0 | S93: =[2]ввод!H62 -> 0 | T93: =[2]ввод!L62 -> 0 | U93: =[2]ввод!P62 -> 0 | V93: =[2]ввод!E62 -> 11 | W93: =[2]ввод!I62 -> 14 | X93: =[2]ввод!M62 -> 0
A94: Итого по Нововятскому судебному району | C94: 5.12 | D94: =D92+D93 -> 25 | E94: =D94/C94/COUNT(C92:C93) -> 2.4414062 | F94: =F92+F93 -> 228 | G94: =F94/C94/COUNT(C92:C93) -> 22.265625 | H94: =H92+H93 -> 0 | I94: =H94/C94/COUNT(C92:C93) -> 0 | J94: =J92+J93 -> 1029 | K94: =J94/C94/COUNT(C92:C93) -> 100.48828 | L94: =E94+G94+I94+K94 -> 125.19531 | M94: =M92+M93 -> 5 | N94: =N92+N93 -> 1574 | O94: =O92+O93 -> 1 | P94: =P92+P93 -> 59 | Q94: =L94+M94/C94/COUNT(C92:C93)+N94/C94/COUNT(C92:C93)+O94/C94/COUNT(C92:C93)+P94/C94/COUNT(C92:C93) -> 285.25391 | R94: =R92+R93 -> 0 | S94: =S92+S93 -> 0 | T94: =T92+T93 -> 0 | U94: =U92+U93 -> 0 | V94: =V92+V93 -> 14 | W94: =W92+W93 -> 29 | X94: =X92+X93 -> 0
A95: 61 | B95: октябрьский | C95: 5.12 | D95: =[2]ввод!C63 -> 5 | E95: =D95/C95 -> 0.9765625 | F95: =[2]ввод!G63 -> 55 | G95: =F95/C95 -> 10.742188 | H95: =[2]ввод!K63 -> 0 | I95: =H95/C95 -> 0 | J95: =[2]ввод!O63 -> 209 | K95: =J95/C95 -> 40.820312 | L95: =E95+G95+I95+K95 -> 52.539062 | M95: =[2]ввод!Q63 -> 1 | N95: =[2]ввод!R63 -> 782 | O95: =[2]ввод!S63 -> 2 | P95: =[2]ввод!T63 -> 32 | Q95: =L95+M95/C95+N95/C95+O95/C95+P95/C95 -> 212.10938 | R95: =[2]ввод!D63 -> 0 | S95: =[2]ввод!H63 -> 0 | T95: =[2]ввод!L63 -> 0 | U95: =[2]ввод!P63 -> 0 | V95: =[2]ввод!E63 -> 7 | W95: =[2]ввод!I63 -> 10 | X95: =[2]ввод!M63 -> 0
A96: 62 | B96: октябрьский | C96: 5.12 | D96: =[2]ввод!C64 -> 18 | E96: =D96/C96 -> 3.515625 | F96: =[2]ввод!G64 -> 70 | G96: =F96/C96 -> 13.671875 | H96: =[2]ввод!K64 -> 0 | I96: =H96/C96 -> 0 | J96: =[2]ввод!O64 -> 186 | K96: =J96/C96 -> 36.328125 | L96: =E96+G96+I96+K96 -> 53.515625 | M96: =[2]ввод!Q64 -> 2 | N96: =[2]ввод!R64 -> 1212 | O96: =[2]ввод!S64 -> 0 | P96: =[2]ввод!T64 -> 41 | Q96: =L96+M96/C96+N96/C96+O96/C96+P96/C96 -> 298.63281 | R96: =[2]ввод!D64 -> 0 | S96: =[2]ввод!H64 -> 0 | T96: =[2]ввод!L64 -> 0 | U96: =[2]ввод!P64 -> 0 | V96: =[2]ввод!E64 -> 3 | W96: =[2]ввод!I64 -> 0 | X96: =[2]ввод!M64 -> 0
A97: 63 | B97: октябрьский | C97: 5.12 | D97: =[2]ввод!C65 -> 12 | E97: =D97/C97 -> 2.34375 | F97: =[2]ввод!G65 -> 95 | G97: =F97/C97 -> 18.554688 | H97: =[2]ввод!K65 -> 0 | I97: =H97/C97 -> 0 | J97: =[2]ввод!O65 -> 294 | K97: =J97/C97 -> 57.421875 | L97: =E97+G97+I97+K97 -> 78.320312 | M97: =[2]ввод!Q65 -> 5 | N97: =[2]ввод!R65 -> 1015 | O97: =[2]ввод!S65 -> 5 | P97: =[2]ввод!T65 -> 38 | Q97: =L97+M97/C97+N97/C97+O97/C97+P97/C97 -> 285.9375 | R97: =[2]ввод!D65 -> 0 | S97: =[2]ввод!H65 -> 0 | T97: =[2]ввод!L65 -> 0 | U97: =[2]ввод!P65 -> 0 | V97: =[2]ввод!E65 -> 5 | W97: =[2]ввод!I65 -> 22 | X97: =[2]ввод!M65 -> 0
A98: 64 | B98: октябрьский | C98: 5.12 | D98: =[2]ввод!C66 -> 13 | E98: =D98/C98 -> 2.5390625 | F98: =[2]ввод!G66 -> 113 | G98: =F98/C98 -> 22.070312 | H98: =[2]ввод!K66 -> 0 | I98: =H98/C98 -> 0 | J98: =[2]ввод!O66 -> 356 | K98: =J98/C98 -> 69.53125 | L98: =E98+G98+I98+K98 -> 94.140625 | M98: =[2]ввод!Q66 -> 5 | N98: =[2]ввод!R66 -> 1147 | O98: =[2]ввод!S66 -> 2 | P98: =[2]ввод!T66 -> 38 | Q98: =L98+M98/C98+N98/C98+O98/C98+P98/C98 -> 326.95312 | R98: =[2]ввод!D66 -> 0 | S98: =[2]ввод!H66 -> 0 | T98: =[2]ввод!L66 -> 0 | U98: =[2]ввод!P66 -> 0 | V98: =[2]ввод!E66 -> 7 | W98: =[2]ввод!I66 -> 18 | X98: =[2]ввод!M66 -> 0
A99: 65 | B99: октябрьский | C99: 5.12 | D99: =[2]ввод!C67 -> 20 | E99: =D99/C99 -> 3.90625 | F99: =[2]ввод!G67 -> 141 | G99: =F99/C99 -> 27.539062 | H99: =[2]ввод!K67 -> 0 | I99: =H99/C99 -> 0 | J99: =[2]ввод!O67 -> 478 | K99: =J99/C99 -> 93.359375 | L99: =E99+G99+I99+K99 -> 124.80469 | M99: =[2]ввод!Q67 -> 3 | N99: =[2]ввод!R67 -> 1272 | O99: =[2]ввод!S67 -> 2 | P99: =[2]ввод!T67 -> 44 | Q99: =L99+M99/C99+N99/C99+O99/C99+P99/C99 -> 382.8125 | R99: =[2]ввод!D67 -> 0 | S99: =[2]ввод!H67 -> 0 | T99: =[2]ввод!L67 -> 0 | U99: =[2]ввод!P67 -> 0 | V99: =[2]ввод!E67 -> 7 | W99: =[2]ввод!I67 -> 12 | X99: =[2]ввод!M67 -> 0
A100: 66 | B100: октябрьский | C100: 5.12 | D100: =[2]ввод!C68 -> 11 | E100: =D100/C100 -> 2.1484375 | F100: =[2]ввод!G68 -> 131 | G100: =F100/C100 -> 25.585938 | H100: =[2]ввод!K68 -> 0 | I100: =H100/C100 -> 0 | J100: =[2]ввод!O68 -> 370 | K100: =J100/C100 -> 72.265625 | L100: =E100+G100+I100+K100 -> 100 | M100: =[2]ввод!Q68 -> 5 | N100: =[2]ввод!R68 -> 1041 | O100: =[2]ввод!S68 -> 0 | P100: =[2]ввод!T68 -> 29 | Q100: =L100+M100/C100+N100/C100+O100/C100+P100/C100 -> 309.96094 | R100: =[2]ввод!D68 -> 0 | S100: =[2]ввод!H68 -> 0 | T100: =[2]ввод!L68 -> 0 | U100: =[2]ввод!P68 -> 0 | V100: =[2]ввод!E68 -> 2 | W100: =[2]ввод!I68 -> 18 | X100: =[2]ввод!M68 -> 0
A101: 80 | B101: октябрьский | C101: 5.12 | D101: =[2]ввод!C82 -> 12 | E101: =D101/C101 -> 2.34375 | F101: =[2]ввод!G82 -> 114 | G101: =F101/C101 -> 22.265625 | H101: =[2]ввод!K82 -> 0 | I101: =H101/C101 -> 0 | J101: =[2]ввод!O82 -> 399 | K101: =J101/C101 -> 77.929688 | L101: =E101+G101+I101+K101 -> 102.53906 | M101: =[2]ввод!Q82 -> 1 | N101: =[2]ввод!R82 -> 1157 | O101: =[2]ввод!S82 -> 1 | P101: =[2]ввод!T82 -> 34 | Q101: =L101+M101/C101+N101/C101+O101/C101+P101/C101 -> 335.54688 | R101: =[2]ввод!D82 -> 0 | S101: =[2]ввод!H82 -> 0 | T101: =[2]ввод!L82 -> 0 | U101: =[2]ввод!P82 -> 0 | V101: =[2]ввод!E82 -> 7 | W101: =[2]ввод!I82 -> 14 | X101: =[2]ввод!M82 -> 0
A102: 78 | B102: октябрьский | C102: 5.12 | D102: =[2]ввод!C85 -> 10 | E102: =D102/C102 -> 1.953125 | F102: =[2]ввод!G85 -> 130 | G102: =F102/C102 -> 25.390625 | H102: =[2]ввод!K85 -> 0 | I102: =H102/C102 -> 0 | J102: =[2]ввод!O85 -> 187 | K102: =J102/C102 -> 36.523438 | L102: =E102+G102+I102+K102 -> 63.867188 | M102: =[2]ввод!Q85 -> 1 | N102: =[2]ввод!R85 -> 287 | O102: =[2]ввод!S85 -> 0 | P102: =[2]ввод!T85 -> 0 | Q102: =L102+M102/C102+N102/C102+O102/C102+P102/C102 -> 120.11719 | R102: =[2]ввод!D85 -> 0 | S102: =[2]ввод!H85 -> 0 | T102: =[2]ввод!L85 -> 0 | U102: =[2]ввод!P85 -> 0 | V102: =[2]ввод!E85 -> 8 | W102: =[2]ввод!I85 -> 21 | X102: =[2]ввод!M85 -> 0
A103: Итого по Октябрьскому судебному району | C103: 5.12 | D103: =SUM(D95:D102) -> 101 | E103: =D103/C103/(COUNT(C95:C102)) -> 2.4658203 | F103: =SUM(F95:F102) -> 849 | G103: =F103/C103/COUNT(C95:C102) -> 20.727539 | H103: =SUM(H95:H102) -> 0 | I103: =H103/C103/COUNT(C95:C102) -> 0 | J103: =SUM(J95:J102) -> 2479 | K103: =J103/C103/(COUNT(G95:G102)) -> 60.522461 | L103: =E103+G103+I103+K103 -> 83.71582 | M103: =SUM(M95:M102) -> 23 | N103: =SUM(N95:N102) -> 7913 | O103: =SUM(O95:O102) -> 12 | P103: =SUM(P95:P102) -> 256 | Q103: =L103+M103/C103/COUNT(C95:C102)+N103/C103/COUNT(C95:C102)+O103/C103/COUNT(C95:C102)+P103/C103/COUNT(C95:C102) -> 284.00879 | R103: =SUM(R95:R102) -> 0 | S103: =SUM(S95:S102) -> 0 | T103: =SUM(T95:T102) -> 0 | U103: =SUM(U95:U102) -> 0 | V103: =SUM(V95:V102) -> 46 | W103: =SUM(W95:W102) -> 115 | X103: =SUM(X95:X102) -> 0
...
